BEGIN:VCALENDAR
VERSION:2.0
PRODID:-//Rocksound - ECPv6.15.18//NONSGML v1.0//EN
CALSCALE:GREGORIAN
METHOD:PUBLISH
X-WR-CALNAME:Rocksound
X-ORIGINAL-URL:https://rocksound.cz
X-WR-CALDESC:Akce na Rocksound
REFRESH-INTERVAL;VALUE=DURATION:PT1H
X-Robots-Tag:noindex
X-PUBLISHED-TTL:PT1H
BEGIN:VTIMEZONE
TZID:Europe/Prague
BEGIN:DAYLIGHT
TZOFFSETFROM:+0100
TZOFFSETTO:+0200
TZNAME:CEST
DTSTART:20250330T010000
END:DAYLIGHT
BEGIN:STANDARD
TZOFFSETFROM:+0200
TZOFFSETTO:+0100
TZNAME:CET
DTSTART:20251026T010000
END:STANDARD
BEGIN:DAYLIGHT
TZOFFSETFROM:+0100
TZOFFSETTO:+0200
TZNAME:CEST
DTSTART:20260329T010000
END:DAYLIGHT
BEGIN:STANDARD
TZOFFSETFROM:+0200
TZOFFSETTO:+0100
TZNAME:CET
DTSTART:20261025T010000
END:STANDARD
BEGIN:DAYLIGHT
TZOFFSETFROM:+0100
TZOFFSETTO:+0200
TZNAME:CEST
DTSTART:20270328T010000
END:DAYLIGHT
BEGIN:STANDARD
TZOFFSETFROM:+0200
TZOFFSETTO:+0100
TZNAME:CET
DTSTART:20271031T010000
END:STANDARD
END:VTIMEZONE
BEGIN:VEVENT
DTSTART;TZID=Europe/Prague:20260218T180000
DTEND;TZID=Europe/Prague:20260218T233000
DTSTAMP:20260423T072223
CREATED:20250526T194615Z
LAST-MODIFIED:20250526T194615Z
UID:105270-1771437600-1771457400@rocksound.cz
SUMMARY:OMNIUM GATHERUM\, FALLUJAH\, IN MORNING - Praha
DESCRIPTION:18 / 02 / 2026 / PRAHA / ROCK CAFÉ\nObscure vstupenky: https://obscure.cz/cs/tickets/detail/id/913Dále pak ticketmaster a goout: https://goout.net/…/omnium-gatherum%2Bfallujah…/szmxmux/\nFinská formace Omnium Gatherum patří mezi přední představitele finské melodic death metalové scény. Od svého vzniku v roce 1996 si vypracovali jedinečný sound\, který spojuje agresivní riffy\, hluboký growling a silné melodie. Jejich tvorba se vyznačuje vyváženou kombinací technické preciznosti\, atmosférických prvků a emotivní hloubky\, která oslovuje jak fanoušky extrémního metalu\, tak i příznivce progresivních a melodických žánrů.\nBěhem své kariéry vydali Omnium Gatherum několik kritikou oceňovaných alb\, mezi nimi například The Redshift\, New World Shadows nebo Grey Heavens. Na každém albu se kapela posouvá dál a ukazuje hudební růst a vývoj celého ansámblu.\nJako support se představí hned dvě spřízněné kapely – první z nich je kalifornská technical death metalová mlátička Fallujah\, která se proslavila kombinací brutální intenzity\, složitých riffů a atmosférických ploch. Jako druzí se o support postarají švédští In Mourning\, kteří ve své tvorbě organicky míchají prvky melodic death\, progressive a doom metalu.
URL:https://rocksound.cz/akce/omnium-gatherum-fallujah-in-morning-praha/
LOCATION:Rock Café Prague\, Národní třída 20\, Praha
ATTACH;FMTTYPE=image/jpeg:https://rocksound.cz/wp-content/uploads/2025/05/497499889_996629402625607_8535640854962415035_n.jpg
END:VEVENT
END:VCALENDAR