BEGIN:VCALENDAR
VERSION:2.0
PRODID:-//Rocksound - ECPv6.15.18//NONSGML v1.0//EN
CALSCALE:GREGORIAN
METHOD:PUBLISH
X-WR-CALNAME:Rocksound
X-ORIGINAL-URL:https://rocksound.cz
X-WR-CALDESC:Akce na Rocksound
REFRESH-INTERVAL;VALUE=DURATION:PT1H
X-Robots-Tag:noindex
X-PUBLISHED-TTL:PT1H
BEGIN:VTIMEZONE
TZID:Europe/Prague
BEGIN:DAYLIGHT
TZOFFSETFROM:+0100
TZOFFSETTO:+0200
TZNAME:CEST
DTSTART:20230326T010000
END:DAYLIGHT
BEGIN:STANDARD
TZOFFSETFROM:+0200
TZOFFSETTO:+0100
TZNAME:CET
DTSTART:20231029T010000
END:STANDARD
BEGIN:DAYLIGHT
TZOFFSETFROM:+0100
TZOFFSETTO:+0200
TZNAME:CEST
DTSTART:20240331T010000
END:DAYLIGHT
BEGIN:STANDARD
TZOFFSETFROM:+0200
TZOFFSETTO:+0100
TZNAME:CET
DTSTART:20241027T010000
END:STANDARD
BEGIN:DAYLIGHT
TZOFFSETFROM:+0100
TZOFFSETTO:+0200
TZNAME:CEST
DTSTART:20250330T010000
END:DAYLIGHT
BEGIN:STANDARD
TZOFFSETFROM:+0200
TZOFFSETTO:+0100
TZNAME:CET
DTSTART:20251026T010000
END:STANDARD
END:VTIMEZONE
BEGIN:VEVENT
DTSTART;TZID=Europe/Prague:20240213T183000
DTEND;TZID=Europe/Prague:20240213T233000
DTSTAMP:20260421T175053
CREATED:20240121T210043Z
LAST-MODIFIED:20240121T210043Z
UID:86576-1707849000-1707867000@rocksound.cz
SUMMARY:CAMPAIGN FOR MUSICAL DESTRUCTION Tour 2024: NAPALM DEATH\, BIERMACHT\, PRIMITIVE MAN\, WORMROT - Brno
DESCRIPTION:Campaign For Musical Destruction 2024\nNAPALM DEATH\, BIERMÄCHT\, PRIMITIVE MAN\, WORMROT\nSvět se mění\, neustále. Je na vás\, jestli se mu přizpůsobíte\, nebo zdechnete někde v pangejtu. Jedním si ale můžete být stále jisti. Jakmile se někde objeví název tour CAMPAIGN FOR MUSICAL DESTRUCTION\, vylezou ze všech smrdutých děr vaši staří přátelé\, které již normálně nevídáte. Zmobilizují se ti\, kterým při první tour v roce 1992 bylo od patnácti do třiceti. Raději ošidí rodinné rozpočty\, raději si nedají po obědě viržínko\, vyberou svým dětem prasátka\, ale tohle turné si rozhodně ujít nenechají.\nLine up pro aktuální edici: NAPALM DEATH (samozřejmě)\, WORMROT(singapurský grindcore)\, PRIMITIVE MAN (temný sludge/doom z Colorada)\nBeercore/thrash maniaci BIERMÄCHT\, které vy samozřejmě znáte z osmdesátek jako Wehrmacht\, doplňují a uzavírají sestavu aktuální edice CAMPAIGN FOR MUSICAL DESTRUCTION!\n13 / 02 / 2024 / BRNO / FLÉDA\nPředprodej:\nObscure e-ticket: https://obscure.cz/cs/tickets/detail/id/664\ndále pak v síti Goout: https://goout.net/…/campaign-for-musical…/szxqhtw/\nFyzické vstupenky u Ticketmaster.
URL:https://rocksound.cz/akce/campaign-for-musical-destruction-tour-2024-napalm-death-biermacht-primitive-man-wormrot-brno/
LOCATION:Fléda Club\, Štefánikova 24\, Brno
ATTACH;FMTTYPE=image/jpeg:https://rocksound.cz/wp-content/uploads/2024/01/409684983_664354745853076_1191717224710267062_n.jpg
END:VEVENT
BEGIN:VEVENT
DTSTART;TZID=Europe/Prague:20240225T183000
DTEND;TZID=Europe/Prague:20240225T233000
DTSTAMP:20260421T175053
CREATED:20240123T190639Z
LAST-MODIFIED:20240123T190639Z
UID:86779-1708885800-1708903800@rocksound.cz
SUMMARY:CRADLE OF FILTH\, WEDNESDAY 13 performing MURDERDOLLS\, SICK N' BEAUTIFUL\, DRIFT - Brno
DESCRIPTION:KONCERT JE VYPRODANÝ – DĚKUJEME!\nNEJLEVNĚJŠÍ VSTUPENKY NA OBSCURE SHOPU:\nE-TICKET: https://obscure.cz/cs/tickets/detail/id/638\nBritští vampýři CRADLE OF FILTH v Plzni a doma v Brně!\nNa plzeňskou Šeříkovku a do ‚domácího‘ prostředí Flédy se vrací gotičtí extrémisté CRADLE OF FILTH s hostem WEDNESDAY 13\, kteří odhalí své kořeny ve speciálním setu věnovaném předchozí kapele Murderdolls spoluzaloženou i Joey Jordisonem.\nPrůkopníci ze Suffolku jsou už víc než 30 let mistři dramatického metalu. A budou-li CRADLE OF FILTH točit stále takové desky\, jakou je ta z roku 2021\, již třináctý zápis v jejich bohaté diskografii „Existence is Futile“\, jejich ‚existence není marná‘ a právem to brněnsko-anglickou formaci dosazuje mezi nejzásadnější kapely tvrdého žánru.\nSamozřejmě\, CRADLE OF FILTH svůj sound definovali již před třiceti lety\, takže přijít s něčím novým je neobyčejně těžké\, ale na posledních třech albech\, a novince především\, je vše podáno s takovou grácií a lehkostí\, že vás vzpomínky zvedají ze židle a připomínají časy\, kdy tento žánr CRADLE OF FILTH v 90. letech definovali.\n„Existence is Futile“ po kompoziční stránce přináší komplexní\, proměnlivé\, atmosferické\, ale dynamické skladby plné dramatických změn\, chytlavých melodií\, brutálních rytmů a Daniho nenapodobitelného zpěvu. CRADLE OF FILTH jsou extrémní gothic-metalový blockbuster\, v němž mísí temnou romantiku\, dramatický akčňák a vášnivý horor.\nCRADLE OF FILTH jsou jen jedni a současná sestava téhle legendy potvrzuje slova o bájném Fénixovi.\nWEDNESDAY 13 milují horory\, špinavý rock’n’roll\, ale i načančaný glam. Je to jako když sešijete Frankensteina z Alice Coopera\, Billyho Idola\, Danziga\, Motorhead\, Roba Zombieho\, střihorukého Edwarda a Freddieho Kruegera. Děsivá krvavá pohádka plná monster\, smrduté hlíny\, bahna a slizu. Bizarní\, děsivá a zábavná.\nNěkdo by vyjmenoval žánry jako horror punk\, heavy\, gothic\, glam\, hard rock a snad i cosi jako vliv moderního core\, my to zjednodušíme: záhrobní rokec. Plný nočních běsů\, sériových vrahů a s pořádným nadhledem.\nAle všechno nějak začalo a u W13 to byli MURDERDOLLS\, které s frontmanem kapely Joe Nothingem zakládal bývalý bubeník SlipKnot Joey Jordison. A právě MURDERDOLLS na aktuálním turné WEDNESDAY 13 věnují svůj set!\nV roli předklapely se představí industrialně ladění alternativci SICK N‘ BEAUTIFUL s divokou frontwomankou Gretou a maskovaní DRIFT z Los Angeles.\n————————————————————-\nCRADLE OF FILTH\, WEDNESDAY 13\, SICK N‘ BEAUTIFUL\, DRIFT\n25. 2. 2024 – Brno\, Fléda
URL:https://rocksound.cz/akce/cradle-of-filth-wednesday-13-performing-murderdolls-sick-n-beautiful-drift-brno/
LOCATION:Fléda Club\, Štefánikova 24\, Brno
ATTACH;FMTTYPE=image/jpeg:https://rocksound.cz/wp-content/uploads/2024/01/417379377_685027513785799_8778707199701296843_n.jpg
END:VEVENT
END:VCALENDAR