BEGIN:VCALENDAR
VERSION:2.0
PRODID:-//Rocksound - ECPv6.15.18//NONSGML v1.0//EN
CALSCALE:GREGORIAN
METHOD:PUBLISH
X-ORIGINAL-URL:https://rocksound.cz
X-WR-CALDESC:Akce na Rocksound
REFRESH-INTERVAL;VALUE=DURATION:PT1H
X-Robots-Tag:noindex
X-PUBLISHED-TTL:PT1H
BEGIN:VTIMEZONE
TZID:Europe/Prague
BEGIN:DAYLIGHT
TZOFFSETFROM:+0100
TZOFFSETTO:+0200
TZNAME:CEST
DTSTART:20230326T010000
END:DAYLIGHT
BEGIN:STANDARD
TZOFFSETFROM:+0200
TZOFFSETTO:+0100
TZNAME:CET
DTSTART:20231029T010000
END:STANDARD
BEGIN:DAYLIGHT
TZOFFSETFROM:+0100
TZOFFSETTO:+0200
TZNAME:CEST
DTSTART:20240331T010000
END:DAYLIGHT
BEGIN:STANDARD
TZOFFSETFROM:+0200
TZOFFSETTO:+0100
TZNAME:CET
DTSTART:20241027T010000
END:STANDARD
BEGIN:DAYLIGHT
TZOFFSETFROM:+0100
TZOFFSETTO:+0200
TZNAME:CEST
DTSTART:20250330T010000
END:DAYLIGHT
BEGIN:STANDARD
TZOFFSETFROM:+0200
TZOFFSETTO:+0100
TZNAME:CET
DTSTART:20251026T010000
END:STANDARD
END:VTIMEZONE
BEGIN:VEVENT
DTSTART;TZID=Europe/Prague:20240119T200000
DTEND;TZID=Europe/Prague:20240119T230000
DTSTAMP:20260419T193007
CREATED:20231210T201825Z
LAST-MODIFIED:20231210T201825Z
UID:85164-1705694400-1705705200@rocksound.cz
SUMMARY:Fleret + host: Franc Alpa - Zlín
DESCRIPTION:Fleret + host: Franc Alpa 2024\n\n\n  \n\n\nDatum konání: 19.01.2024 20:00\nMísto konání: Masters of Rock Café\, Tyršovo nábřeží 5497\, 76001 Zlín
URL:https://rocksound.cz/akce/fleret-host-franc-alpa-zlin/
LOCATION:Masters of Rock Cafe\, Tyršovo nábřeží 5497\, Zlín
ATTACH;FMTTYPE=image/jpeg:https://rocksound.cz/wp-content/uploads/2023/12/Fleret24_2223x1158px.jpg
END:VEVENT
END:VCALENDAR