BEGIN:VCALENDAR
VERSION:2.0
PRODID:-//Rocksound - ECPv6.15.18//NONSGML v1.0//EN
CALSCALE:GREGORIAN
METHOD:PUBLISH
X-WR-CALNAME:Rocksound
X-ORIGINAL-URL:https://rocksound.cz
X-WR-CALDESC:Akce na Rocksound
REFRESH-INTERVAL;VALUE=DURATION:PT1H
X-Robots-Tag:noindex
X-PUBLISHED-TTL:PT1H
BEGIN:VTIMEZONE
TZID:Europe/Prague
BEGIN:DAYLIGHT
TZOFFSETFROM:+0100
TZOFFSETTO:+0200
TZNAME:CEST
DTSTART:20220327T010000
END:DAYLIGHT
BEGIN:STANDARD
TZOFFSETFROM:+0200
TZOFFSETTO:+0100
TZNAME:CET
DTSTART:20221030T010000
END:STANDARD
BEGIN:DAYLIGHT
TZOFFSETFROM:+0100
TZOFFSETTO:+0200
TZNAME:CEST
DTSTART:20230326T010000
END:DAYLIGHT
BEGIN:STANDARD
TZOFFSETFROM:+0200
TZOFFSETTO:+0100
TZNAME:CET
DTSTART:20231029T010000
END:STANDARD
BEGIN:DAYLIGHT
TZOFFSETFROM:+0100
TZOFFSETTO:+0200
TZNAME:CEST
DTSTART:20240331T010000
END:DAYLIGHT
BEGIN:STANDARD
TZOFFSETFROM:+0200
TZOFFSETTO:+0100
TZNAME:CET
DTSTART:20241027T010000
END:STANDARD
END:VTIMEZONE
BEGIN:VEVENT
DTSTART;TZID=Europe/Prague:20231013T200000
DTEND;TZID=Europe/Prague:20231013T233000
DTSTAMP:20260422T204039
CREATED:20230905T163507Z
LAST-MODIFIED:20230905T163507Z
UID:78495-1697227200-1697239800@rocksound.cz
SUMMARY:Totální nasazení - Praha
DESCRIPTION:Totální nasazení – Lucerna Tour 2023\nVzpomínkové turné partičky Totální nasazení\, které si kapela nadělila k oslavě svých „Kristových let“.\nŠest koncertních zastávek\, více jak dvou hodinové vystoupení\, kdy se na podiu představí nejen současná sestava kapely Totální nasazení\, ale také většina bývalých členů\, kteří slánskou formací prošli za neuvěřitelných 33 let její existence. Těšit se můžete například na původního bubeníka Ing. Pípu\, Mistra Šukece\, Honzika Orthobera a další.\nCelé turné bude koncipováno jako vzpomínka na koncert v naplněné pražské „velké“ Lucerně a k této příležitosti s sebou kapela poveze i LP\, CD a DVD s názvem Totální nasazení v Lucerně.\nToto nové „lajvko“ vychází už 1. října 2023.\nMalým dárkem pro věrné fans je i možnost zakoupení „nejlevnější“ vstupenky na vybraný koncert přímo u našeho merch stanu na některé z letních open air akcí\, kde Totální nasazení vystupuje za minimální cenu 200 Kč. (nižší než standardní předprodej nebo přímo na místě)\nTotální nasazení – Lucerna Tour 2023\n13.10. PRAHA / Futurum\n14.10. OLOMOUC / S-klub\n3.11. LIBEREC / Bunkr\n4.11. BRNO / První patro\n24.11. PLZEŇ / Bílej Medvěd\n25.11. ČESKÉ BUDĚJOVICE / mcFabrika\nSupport: Dilemma in Cinema\nPředprodej: https://www.smsticket.cz/…/36936-totalni-nasazeni…
URL:https://rocksound.cz/akce/totalni-nasazeni-praha/
LOCATION:Futurum Music Bar\, Zborovská 7\, Praha
ATTACH;FMTTYPE=image/jpeg:https://rocksound.cz/wp-content/uploads/2023/09/358971142_989677522010920_7823348181084438343_n.jpg
ORGANIZER;CN="ForFUN":MAILTO:info@forfunagency.cz
END:VEVENT
BEGIN:VEVENT
DTSTART;TZID=Europe/Prague:20231014T200000
DTEND;TZID=Europe/Prague:20231014T233000
DTSTAMP:20260422T204039
CREATED:20230905T163906Z
LAST-MODIFIED:20230905T163906Z
UID:78498-1697313600-1697326200@rocksound.cz
SUMMARY:Totální nasazení - Olomouc
DESCRIPTION:Totální nasazení – Lucerna Tour 2023\nVzpomínkové turné partičky Totální nasazení\, které si kapela nadělila k oslavě svých „Kristových let“.\nŠest koncertních zastávek\, více jak dvou hodinové vystoupení\, kdy se na podiu představí nejen současná sestava kapely Totální nasazení\, ale také většina bývalých členů\, kteří slánskou formací prošli za neuvěřitelných 33 let její existence. Těšit se můžete například na původního bubeníka Ing. Pípu\, Mistra Šukece\, Honzika Orthobera a další.\nCelé turné bude koncipováno jako vzpomínka na koncert v naplněné pražské „velké“ Lucerně a k této příležitosti s sebou kapela poveze i LP\, CD a DVD s názvem Totální nasazení v Lucerně. Toto nové „lajvko“ vychází už 1. Října 2023.\nMalým dárkem pro věrné fans je i možnost zakoupení „nejlevnější“ vstupenky na vybraný koncert přímo u našeho merch stanu na některé z letních open air akcí\, kde Totální nasazení vystupuje za minimální cenu 200 Kč. (nižší než standardní předprodej nebo přímo na místě)\nTotální nasazení – Lucerna Tour 2023\n13.10. PRAHA / Futurum\n14.10. OLOMOUC / S-klub\n3.11. LIBEREC / Bunkr\n4.11. BRNO / První patro\n24.11. PLZEŇ / Bílej Medvěd\n25.11. ČESKÉ BUDĚJOVICE / mcFabrika\nSupport: DERATIZÉŘI\nPředprodej: https://www.smsticket.cz/…/36938-totalni-nasazeni…
URL:https://rocksound.cz/akce/totalni-nasazeni-olomouc/
LOCATION:Sklub\, 17. listopadu 43\, Olomouc
ATTACH;FMTTYPE=image/jpeg:https://rocksound.cz/wp-content/uploads/2023/09/359317393_989679622010710_5498329408833190304_n.jpg
ORGANIZER;CN="ForFUN":MAILTO:info@forfunagency.cz
END:VEVENT
END:VCALENDAR