BEGIN:VCALENDAR
VERSION:2.0
PRODID:-//Rocksound - ECPv6.15.18//NONSGML v1.0//EN
CALSCALE:GREGORIAN
METHOD:PUBLISH
X-WR-CALNAME:Rocksound
X-ORIGINAL-URL:https://rocksound.cz
X-WR-CALDESC:Akce na Rocksound
REFRESH-INTERVAL;VALUE=DURATION:PT1H
X-Robots-Tag:noindex
X-PUBLISHED-TTL:PT1H
BEGIN:VTIMEZONE
TZID:Europe/Prague
BEGIN:DAYLIGHT
TZOFFSETFROM:+0100
TZOFFSETTO:+0200
TZNAME:CEST
DTSTART:20240331T010000
END:DAYLIGHT
BEGIN:STANDARD
TZOFFSETFROM:+0200
TZOFFSETTO:+0100
TZNAME:CET
DTSTART:20241027T010000
END:STANDARD
BEGIN:DAYLIGHT
TZOFFSETFROM:+0100
TZOFFSETTO:+0200
TZNAME:CEST
DTSTART:20250330T010000
END:DAYLIGHT
BEGIN:STANDARD
TZOFFSETFROM:+0200
TZOFFSETTO:+0100
TZNAME:CET
DTSTART:20251026T010000
END:STANDARD
BEGIN:DAYLIGHT
TZOFFSETFROM:+0100
TZOFFSETTO:+0200
TZNAME:CEST
DTSTART:20260329T010000
END:DAYLIGHT
BEGIN:STANDARD
TZOFFSETFROM:+0200
TZOFFSETTO:+0100
TZNAME:CET
DTSTART:20261025T010000
END:STANDARD
END:VTIMEZONE
BEGIN:VEVENT
DTSTART;TZID=Europe/Prague:20251121T190000
DTEND;TZID=Europe/Prague:20251121T233000
DTSTAMP:20260424T191412
CREATED:20250722T115137Z
LAST-MODIFIED:20250722T115137Z
UID:106778-1763751600-1763767800@rocksound.cz
SUMMARY:Aviana - Praha
DESCRIPTION:Švédská kapela Aviana s nejnovějším singlem STORM BLAZE zamíří do Prahy. Aviana vystoupí za doprovodu skupin Gloom In The Corner\, Diamond Construct a Atena 21. listopadu v klubu Fuchs2.\n Vstupenky v prodeji od 14. července\, 11:00\, na GoOut  https://goout.net/cs/aviana/szriiwx/.\nAlternativní metalová formace se vrátili v roce 2021 a její frontman Joel Holmqvist představil novou éru kapely. Nedávno vydaná deska Corporation\, která obsahuje definující songy jako ‚Obsession‘\, ‚Overcome‘\, ‚Rage‘\, ‚Oblivion‘ a ‚Retaliation‘\, má všechny prvky\, které u moderní metalové kapely hledáte.\nPo turné po Velké Británii\, EU a Asii s kapelami jako Crystal Lake\, Adept\, The Word Alive\, Make Them Suffer a dalšími Joel dokazuje\, že Aviana patří mezi špičku scény\, a že v blízké budoucnosti můžeme očekávat další velké věci.
URL:https://rocksound.cz/akce/aviana-praha/
LOCATION:Fuchs2\, Štvanice\, Praha
ATTACH;FMTTYPE=image/jpeg:https://rocksound.cz/wp-content/uploads/2025/07/517307670_1261151912045466_5072337655869621885_n.jpg
END:VEVENT
BEGIN:VEVENT
DTSTART;TZID=Europe/Prague:20251130T190000
DTEND;TZID=Europe/Prague:20251130T233000
DTSTAMP:20260424T191412
CREATED:20250922T173126Z
LAST-MODIFIED:20250922T173126Z
UID:110207-1764529200-1764545400@rocksound.cz
SUMMARY:ThxSoMch - Praha
DESCRIPTION:ThxSoMch je jedním z nejvýraznějších nových hlasů alternativní scény. Kanadský zpěvák a producent kombinuje temné emoce\, sarkasmus i surovou upřímnost a svou tvorbou bourá žánrové hranice. Svoji show znovu přiveze 30. listopadu do pražského klubu Fuchs2 po loňském vyprodaném koncertě ve Futuru.\n Vstupenky v prodeji od 8. srpna\, 10:00\, na GoOut https://goout.net/cs/thxsomch/szhaowx/.\nNa hudební scéně se objevil v září 2022 se svým debutovým singlem Runaway (Move Quick). Do července 2025 nasbíral přes 690 milionů přehrání na Spotify a prorazil i do mezinárodních hitparád.\nJeho hudba se nedá snadno zaškatulkovat – ThxSoMch je známý tím\, že dokáže proměnit vnitřní chaos a zneklidňující myšlenky ve strhující songy. Upozornil na sebe syrovými a divokými tracky jako Spit In My Face!\, ale brzy ukázal\, že má mnohem širší záběr. Míchá prvky alternativy\, emo i experimentálního popu. Jeho tvorba je zároveň drsná\, zranitelná i sarkastická.\nThxSoMch na čas zmizel z veřejného života\, když se na sedm měsíců stáhl do Brazílie bez telefonu a úplně odpojený od okolního světa. Po návratu byl jiný – ostřejší\, podivnější\, jistější sám sebou. Jeho nová tvorba působí jako upřímný dialog s vlastními démony a je temná\, ironická a místy až nepříjemně upřímná.
URL:https://rocksound.cz/akce/thxsomch-praha/
LOCATION:Fuchs2\, Štvanice\, Praha
ATTACH;FMTTYPE=image/jpeg:https://rocksound.cz/wp-content/uploads/2025/09/546195592_1312020070291983_5662539776988712498_n.jpg
END:VEVENT
END:VCALENDAR