BEGIN:VCALENDAR
VERSION:2.0
PRODID:-//Rocksound - ECPv6.15.18//NONSGML v1.0//EN
CALSCALE:GREGORIAN
METHOD:PUBLISH
X-WR-CALNAME:Rocksound
X-ORIGINAL-URL:https://rocksound.cz
X-WR-CALDESC:Akce na Rocksound
REFRESH-INTERVAL;VALUE=DURATION:PT1H
X-Robots-Tag:noindex
X-PUBLISHED-TTL:PT1H
BEGIN:VTIMEZONE
TZID:Europe/Prague
BEGIN:DAYLIGHT
TZOFFSETFROM:+0100
TZOFFSETTO:+0200
TZNAME:CEST
DTSTART:20210328T010000
END:DAYLIGHT
BEGIN:STANDARD
TZOFFSETFROM:+0200
TZOFFSETTO:+0100
TZNAME:CET
DTSTART:20211031T010000
END:STANDARD
BEGIN:DAYLIGHT
TZOFFSETFROM:+0100
TZOFFSETTO:+0200
TZNAME:CEST
DTSTART:20220327T010000
END:DAYLIGHT
BEGIN:STANDARD
TZOFFSETFROM:+0200
TZOFFSETTO:+0100
TZNAME:CET
DTSTART:20221030T010000
END:STANDARD
BEGIN:DAYLIGHT
TZOFFSETFROM:+0100
TZOFFSETTO:+0200
TZNAME:CEST
DTSTART:20230326T010000
END:DAYLIGHT
BEGIN:STANDARD
TZOFFSETFROM:+0200
TZOFFSETTO:+0100
TZNAME:CET
DTSTART:20231029T010000
END:STANDARD
END:VTIMEZONE
BEGIN:VEVENT
DTSTART;TZID=Europe/Prague:20221209T200000
DTEND;TZID=Europe/Prague:20221209T235900
DTSTAMP:20260419T224827
CREATED:20221128T173321Z
LAST-MODIFIED:20221128T173405Z
UID:64238-1670616000-1670630340@rocksound.cz
SUMMARY:Gamballský večírek v Pekle - Vyškov
DESCRIPTION:Těšte se na tradiční Gamballskou předvánoční párty\, tentokrát ve společnosti kapel Dark Gamballe\, Like Fool\, Hanz´s Fuckers a The Truth Is Out There
URL:https://rocksound.cz/akce/gamballsky-vecirek-v-pekle-vyskov/
LOCATION:Peklo Vyškov\, Dědická 547\, Vyškov\, 682 01
ATTACH;FMTTYPE=image/jpeg:https://rocksound.cz/wp-content/uploads/2022/11/314403417_668504804747398_26767128235017281_n.jpg
END:VEVENT
END:VCALENDAR