BEGIN:VCALENDAR
VERSION:2.0
PRODID:-//Rocksound - ECPv6.15.18//NONSGML v1.0//EN
CALSCALE:GREGORIAN
METHOD:PUBLISH
X-WR-CALNAME:Rocksound
X-ORIGINAL-URL:https://rocksound.cz
X-WR-CALDESC:Akce na Rocksound
REFRESH-INTERVAL;VALUE=DURATION:PT1H
X-Robots-Tag:noindex
X-PUBLISHED-TTL:PT1H
BEGIN:VTIMEZONE
TZID:Europe/Prague
BEGIN:DAYLIGHT
TZOFFSETFROM:+0100
TZOFFSETTO:+0200
TZNAME:CEST
DTSTART:20210328T010000
END:DAYLIGHT
BEGIN:STANDARD
TZOFFSETFROM:+0200
TZOFFSETTO:+0100
TZNAME:CET
DTSTART:20211031T010000
END:STANDARD
BEGIN:DAYLIGHT
TZOFFSETFROM:+0100
TZOFFSETTO:+0200
TZNAME:CEST
DTSTART:20220327T010000
END:DAYLIGHT
BEGIN:STANDARD
TZOFFSETFROM:+0200
TZOFFSETTO:+0100
TZNAME:CET
DTSTART:20221030T010000
END:STANDARD
BEGIN:DAYLIGHT
TZOFFSETFROM:+0100
TZOFFSETTO:+0200
TZNAME:CEST
DTSTART:20230326T010000
END:DAYLIGHT
BEGIN:STANDARD
TZOFFSETFROM:+0200
TZOFFSETTO:+0100
TZNAME:CET
DTSTART:20231029T010000
END:STANDARD
END:VTIMEZONE
BEGIN:VEVENT
DTSTART;TZID=Europe/Prague:20220707T120000
DTEND;TZID=Europe/Prague:20220710T234500
DTSTAMP:20260420T204330
CREATED:20220607T200248Z
LAST-MODIFIED:20220607T200248Z
UID:54470-1657195200-1657496700@rocksound.cz
SUMMARY:MASTERS OF ROCK 2022 - Vizovice
DESCRIPTION:MASTERS OF ROCK 2022\n7. – 10. 7. 2022\, areál likérky R. Jelínek\, VIZOVICE\nMASTERS OF ROCK je zpět! Po 2letém covidovém odkladu\, se letos v létě všichni sejdeme v důvěrně známém prostředí likérky R. Jelínek ve VIZOVICÍCH a oslavíme návrat rocku a metalu k životu. A bude to pořádná oslava! Headliner festivalu\, legendární JUDAS PRIEST zde oslaví své 50. výročí velkou a slavností megashow! Oslav se zúčastní:\nSvoji účast už přislíbili tyto kapely:\nJUDAS PRIEST\, NIGHTWISH\, HEAVEN SHALL BURN\, SEPULTURA\, LACUNA COIL\, DEAD DAISIES\, TESTAMENT\, ACE FREHLEY\, LORDI\, BEAST IN BLACK\, ALESTORM\, AMORPHIS\, GOTTHARD\, KATAKLYSM\, ORDEN OGAN\, EXODUS\, DEATH ANGEL\, PINK CREAM 69\, VISIONS OF ATLANTIS s Bohemian Symphonic Orchestra Prague\, CIVIL WAR\, BEYOND THE BLACK\, BLUES PILLS\, SHAKRA\, NERVOSA\, HIGH ON FIRE\, NOTHGARD\, TROLLFEST\, LONG DISTANCE CALLING\, NEONFLY\, MISTER MISERY\, SPOIL ENGINE\, SHIRAZ LANE\, BLACK SONIC PEARLS\, ARAKAIN\, FLERET\, SEBASTIEN\, GATE CRASHER a FORREST JUMP.\nVstupenky jsou stále ještě v prodeji\, objednávejte je na www.mastersofrock.cz\, nebo v sítích Ticketportal\, Ticketmaster\, Ticketstream\, Plzeňská vstupenka\, Metaltix\, Festicket nebo GoOut!
URL:https://rocksound.cz/akce/masters-of-rock-2022-vizovice/
LOCATION:Rudolf Jelínek a.s.\, Razov 472\, Vizovice
ATTACH;FMTTYPE=image/jpeg:https://rocksound.cz/wp-content/uploads/2022/06/282703519_5252751461457913_3990447100933209091_n.jpg
END:VEVENT
BEGIN:VEVENT
DTSTART;TZID=Europe/Prague:20220715T170000
DTEND;TZID=Europe/Prague:20220715T235900
DTSTAMP:20260420T204330
CREATED:20220621T193331Z
LAST-MODIFIED:20220621T193331Z
UID:55048-1657904400-1657929540@rocksound.cz
SUMMARY:KARVINÁ ROCKS - Karviná
DESCRIPTION:Milovníci ostřejšího rytmu si opět přijdou na své i v roce 2022. Lodičky v rockovém rytmu! Přicházíme s dalším pokračováním Karviná Rocks! \nVystoupí kapely: \nHlavní scéna:\n17:00 Gate Crasher\n19:00 Ingott\n21:00 Traktor\n23:00 Arakain\nVedlejší scéna:\n18:00 Messalina\n20:00 Animal Rock\n22:00 Goofy Cow\n\nRozhodně to bude stát za to! \nVstupné:\n– 333 Kč – https://goout.net/…/karvina-rocks-traktor…/szjhfxs/\n– 400 Kč na místě\nDěti do 12 let mají vstupné zdarma\, je nutné prokázat věk jakoukoliv kratičkou (pojištěnce\, studentský průkaz\, apod.)\nAkci pořádá Iniciativa Dokořán ve spolupráci s Karviná – oficiální stránka města a Nadace OKD\, kterým děkujeme za podporu.
URL:https://rocksound.cz/akce/karvina-rocks-karvina/
LOCATION:Lodičky Dokořán\, Park Boženy Němcové 988/2\, Karviná
ATTACH;FMTTYPE=image/jpeg:https://rocksound.cz/wp-content/uploads/2022/06/287058517_5360755953947427_3351616764123230068_n.jpg
ORGANIZER;CN="Nadace OKD":MAILTO:info@nadaceokd.cz
END:VEVENT
BEGIN:VEVENT
DTSTART;TZID=Europe/Prague:20220729T140000
DTEND;TZID=Europe/Prague:20220730T234500
DTSTAMP:20260420T204330
CREATED:20220625T195209Z
LAST-MODIFIED:20220625T195209Z
UID:55245-1659103200-1659224700@rocksound.cz
SUMMARY:RockFest Dačice 2022 - Dačice
DESCRIPTION:Každoroční dvoudenní rockový festival v Dačicích. První ročník\, tehdy ještě jednodenní\, se konal již v roce 2006. \n\n\nDatum konání: \n29. – 30. 7. 2022 \nČasy otevření areálu: \npátek: 14:00\nsobota: 12:00 \n\nVystupující\nInsania (CZ) – web\nMorčata na útěku (CZ) – web\nMetalinda (SK) – fb\nAlkehol (CZ) – web\nDymytry (CZ) – web\nForrest Jump (CZ) – bandzone\nKrucipüsk (CZ) – web\nTrautenberk (CZ) – web\nGATE Crasher (CZ) – web\nXIII. století (CZ) – web\nDoga (CZ) – web\nRoxor (CZ) – web
URL:https://rocksound.cz/akce/rockfest-dacice-2022-dacice/
LOCATION:V kaštanech\, Dačice
ATTACH;FMTTYPE=image/jpeg:https://rocksound.cz/wp-content/uploads/2022/06/275846408_4951268754980393_17710112463139574_n.jpg
END:VEVENT
END:VCALENDAR