BEGIN:VCALENDAR
VERSION:2.0
PRODID:-//Rocksound - ECPv6.15.18//NONSGML v1.0//EN
CALSCALE:GREGORIAN
METHOD:PUBLISH
X-WR-CALNAME:Rocksound
X-ORIGINAL-URL:https://rocksound.cz
X-WR-CALDESC:Akce na Rocksound
REFRESH-INTERVAL;VALUE=DURATION:PT1H
X-Robots-Tag:noindex
X-PUBLISHED-TTL:PT1H
BEGIN:VTIMEZONE
TZID:Europe/Prague
BEGIN:DAYLIGHT
TZOFFSETFROM:+0100
TZOFFSETTO:+0200
TZNAME:CEST
DTSTART:20220327T010000
END:DAYLIGHT
BEGIN:STANDARD
TZOFFSETFROM:+0200
TZOFFSETTO:+0100
TZNAME:CET
DTSTART:20221030T010000
END:STANDARD
BEGIN:DAYLIGHT
TZOFFSETFROM:+0100
TZOFFSETTO:+0200
TZNAME:CEST
DTSTART:20230326T010000
END:DAYLIGHT
BEGIN:STANDARD
TZOFFSETFROM:+0200
TZOFFSETTO:+0100
TZNAME:CET
DTSTART:20231029T010000
END:STANDARD
BEGIN:DAYLIGHT
TZOFFSETFROM:+0100
TZOFFSETTO:+0200
TZNAME:CEST
DTSTART:20240331T010000
END:DAYLIGHT
BEGIN:STANDARD
TZOFFSETFROM:+0200
TZOFFSETTO:+0100
TZNAME:CET
DTSTART:20241027T010000
END:STANDARD
END:VTIMEZONE
BEGIN:VEVENT
DTSTART;TZID=Europe/Prague:20230303T190000
DTEND;TZID=Europe/Prague:20230303T233000
DTSTAMP:20260422T045905
CREATED:20230227T143812Z
LAST-MODIFIED:20230227T143812Z
UID:68267-1677870000-1677886200@rocksound.cz
SUMMARY:DOGA - PELHŘIMOV
DESCRIPTION:Hosté: GATE CRASHER\, WOTAZNÍK\nDoga u této příležitosti nachystala novou koncertní šňůru\, která nese název Respekt vinyl tour. Kromě 2LP představí kapela fanouškům nové prvky pódiové scény a také nově sestavený set písniček. „Chceme dát fanouškům také příležitost\, aby měli vinyl přímo od nás podepsaný\, takže před každým koncertem uděláme podpisovku. Chystáme ještě jedno fajn překvapení a to v podobě piva Route 66\, které se bude prodávat výhradně na koncertech.
URL:https://rocksound.cz/akce/doga-pelhrimov/
LOCATION:KD Máj Pelhřimov\, třída Legií 1115\, Pelhřimov
ATTACH;FMTTYPE=image/jpeg:https://rocksound.cz/wp-content/uploads/2023/02/318845425_2210774302464103_1912882046694114033_n.jpg
END:VEVENT
BEGIN:VEVENT
DTSTART;TZID=Europe/Prague:20230324T190000
DTEND;TZID=Europe/Prague:20230324T233000
DTSTAMP:20260422T045905
CREATED:20230322T102332Z
LAST-MODIFIED:20230322T102332Z
UID:69277-1679684400-1679700600@rocksound.cz
SUMMARY:Doga - České Budějovice
DESCRIPTION:Doga u této příležitosti nachystala novou koncertní šňůru\, která nese název Respekt vinyl tour. Kromě 2LP představí kapela fanouškům nové prvky pódiové scény a také nově sestavený set písniček. První dva koncerty v Karviné a ve Frýdlantu nad Ostravicí budou navíc zpestřeny křtem nového vinylu. „Chceme dát fanouškům také příležitost\, aby měli vinyl přímo od nás podepsaný\, takže před každým koncertem uděláme podpisovku. Chystáme ještě jedno fajn překvapení a to v podobě piva Route 66\, které se bude prodávat výhradně na koncertech. Před začátkem jarní části turné bychom chtěli ještě přijít s novým klipem a novým merchem\, který se fakt povedl\,“ doplňuje Izzi. Turné oficiálně startuje 25. 12. v Karviné a zakončeno bude v dubnu/květnu 2023. \n\n\nHost : GATE CRASHER + WOTAZNÍK
URL:https://rocksound.cz/akce/doga-ceske-budejovice/
LOCATION:KD Vltava\, Františka Ondříčka 1243/46\, České Budějovice
ATTACH;FMTTYPE=image/png:https://rocksound.cz/wp-content/uploads/2023/03/9mw5sji6yf_doga560_1x.png
END:VEVENT
BEGIN:VEVENT
DTSTART;TZID=Europe/Prague:20230325T190000
DTEND;TZID=Europe/Prague:20230325T233000
DTSTAMP:20260422T045905
CREATED:20230322T102925Z
LAST-MODIFIED:20230322T102925Z
UID:69280-1679770800-1679787000@rocksound.cz
SUMMARY:Doga - Rybníky
DESCRIPTION:Doga u této příležitosti nachystala novou koncertní šňůru\, která nese název Respekt vinyl tour. Kromě 2LP představí kapela fanouškům nové prvky pódiové scény a také nově sestavený set písniček. První dva koncerty v Karviné a ve Frýdlantu nad Ostravicí budou navíc zpestřeny křtem nového vinylu. „Chceme dát fanouškům také příležitost\, aby měli vinyl přímo od nás podepsaný\, takže před každým koncertem uděláme podpisovku. Chystáme ještě jedno fajn překvapení a to v podobě piva Route 66\, které se bude prodávat výhradně na koncertech. Před začátkem jarní části turné bychom chtěli ještě přijít s novým klipem a novým merchem\, který se fakt povedl\,“ doplňuje Izzi. Turné oficiálně startuje 25. 12. v Karviné a zakončeno bude v dubnu/květnu 2023. \n\n\nHost : GATE CRASHER
URL:https://rocksound.cz/akce/doga-rybniky/
LOCATION:KD Rybníky\, Rybníky 59\, Rybníky\, 672 01
ATTACH;FMTTYPE=image/png:https://rocksound.cz/wp-content/uploads/2023/03/9mw5sji6yf_doga560_1x.png
END:VEVENT
END:VCALENDAR