BEGIN:VCALENDAR
VERSION:2.0
PRODID:-//Rocksound - ECPv6.15.18//NONSGML v1.0//EN
CALSCALE:GREGORIAN
METHOD:PUBLISH
X-WR-CALNAME:Rocksound
X-ORIGINAL-URL:https://rocksound.cz
X-WR-CALDESC:Akce na Rocksound
REFRESH-INTERVAL;VALUE=DURATION:PT1H
X-Robots-Tag:noindex
X-PUBLISHED-TTL:PT1H
BEGIN:VTIMEZONE
TZID:Europe/Prague
BEGIN:DAYLIGHT
TZOFFSETFROM:+0100
TZOFFSETTO:+0200
TZNAME:CEST
DTSTART:20230326T010000
END:DAYLIGHT
BEGIN:STANDARD
TZOFFSETFROM:+0200
TZOFFSETTO:+0100
TZNAME:CET
DTSTART:20231029T010000
END:STANDARD
BEGIN:DAYLIGHT
TZOFFSETFROM:+0100
TZOFFSETTO:+0200
TZNAME:CEST
DTSTART:20240331T010000
END:DAYLIGHT
BEGIN:STANDARD
TZOFFSETFROM:+0200
TZOFFSETTO:+0100
TZNAME:CET
DTSTART:20241027T010000
END:STANDARD
BEGIN:DAYLIGHT
TZOFFSETFROM:+0100
TZOFFSETTO:+0200
TZNAME:CEST
DTSTART:20250330T010000
END:DAYLIGHT
BEGIN:STANDARD
TZOFFSETFROM:+0200
TZOFFSETTO:+0100
TZNAME:CET
DTSTART:20251026T010000
END:STANDARD
END:VTIMEZONE
BEGIN:VEVENT
DTSTART;TZID=Europe/Prague:20240930T190000
DTEND;TZID=Europe/Prague:20240930T233000
DTSTAMP:20260423T003616
CREATED:20240826T120637Z
LAST-MODIFIED:20240826T120637Z
UID:94984-1727722800-1727739000@rocksound.cz
SUMMARY:Ghøstkid + Within Destruction + Setyøursails - Praha
DESCRIPTION:GHØSTKID vytváří hudbu\, která je střemhlavý pád do temnoty a agrese. Počlivě balancuje mezi ceněním zubů a zachováním smyslu pro chytlavé melodie. GHØSTKID je nový pseudonym Sebastiana „Sushi“ Bieslera (dříve Eskimo Callboy) a spiknutí přátel a podobně smýšlejících spojenců\, kteří dospěli k vlastní vzpouře: Steve Joakim (bicí) ze Švédska\, stejně jako Jan Marco Heinz (kytara) Chris Kisseler (kytara) a Stanislaw Czywil (baskytara).Po úspěšných shows na Rock for People 2021 a 2022 a předskakování Bad Omens v naprosto beznadějně vyprodaném Lucerna Music Baru v loňském roce se GHØSTKID konečně vrací na svoji vlastní headline show. Tu odehraje 1. října v Rock Café. \n Vstupenky v prodeji od 17. dubna 18:00 na GoOut  https://goout.net/cs/listky/ghostkid/whvx/.\nVšechno to začalo v říjnu 2019\, kdy Sushi vzal do ruky kytaru a začal psát pro GHØSTKID. Hned bylo jasné\, že je to v jeho DNA. „Prostě jsem šel za svým srdcem\,“ říká. V té době se Sushi inspiroval světovým nášupem v podobě Marilyna Mansona\, Fever 333 a Bring Me the Horizon\, kteří ho inspirovali k mixování nejrůznějších zvukových odstínů\, dotýkajících se popu\, metalu\, industriálu a špetky trapu. To byl základ pro budoucí podobu GHØSTKID.Jakmile se posluchač ponoří do vrstev jeho zvuku a ambicí\, určitě ho nepřekvapí\, že se Sushi úspěšně proměnil v entitu známou jako GHØSTKID. „Nechává hodně prostoru pro interpretaci\, zatímco si s ní okamžitě spojíte určité obrazy\,“ říká a varuje\, že tohle je hudba\, která nejen děsí smysly\, ale je i plnohodnotným zvukovým vymítáním a ohlušující hramonií pro divákovy uši.
URL:https://rocksound.cz/akce/ghostkid-within-destruction-setyoursails-praha/
LOCATION:Rock Café Prague\, Národní třída 20\, Praha
ATTACH;FMTTYPE=image/jpeg:https://rocksound.cz/wp-content/uploads/2024/08/453506811_1019483409545652_7321800098772070047_n.jpg
END:VEVENT
END:VCALENDAR