BEGIN:VCALENDAR
VERSION:2.0
PRODID:-//Rocksound - ECPv6.15.18//NONSGML v1.0//EN
CALSCALE:GREGORIAN
METHOD:PUBLISH
X-WR-CALNAME:Rocksound
X-ORIGINAL-URL:https://rocksound.cz
X-WR-CALDESC:Akce na Rocksound
REFRESH-INTERVAL;VALUE=DURATION:PT1H
X-Robots-Tag:noindex
X-PUBLISHED-TTL:PT1H
BEGIN:VTIMEZONE
TZID:Europe/Prague
BEGIN:DAYLIGHT
TZOFFSETFROM:+0100
TZOFFSETTO:+0200
TZNAME:CEST
DTSTART:20220327T010000
END:DAYLIGHT
BEGIN:STANDARD
TZOFFSETFROM:+0200
TZOFFSETTO:+0100
TZNAME:CET
DTSTART:20221030T010000
END:STANDARD
BEGIN:DAYLIGHT
TZOFFSETFROM:+0100
TZOFFSETTO:+0200
TZNAME:CEST
DTSTART:20230326T010000
END:DAYLIGHT
BEGIN:STANDARD
TZOFFSETFROM:+0200
TZOFFSETTO:+0100
TZNAME:CET
DTSTART:20231029T010000
END:STANDARD
BEGIN:DAYLIGHT
TZOFFSETFROM:+0100
TZOFFSETTO:+0200
TZNAME:CEST
DTSTART:20240331T010000
END:DAYLIGHT
BEGIN:STANDARD
TZOFFSETFROM:+0200
TZOFFSETTO:+0100
TZNAME:CET
DTSTART:20241027T010000
END:STANDARD
END:VTIMEZONE
BEGIN:VEVENT
DTSTART;TZID=Europe/Prague:20231221T190000
DTEND;TZID=Europe/Prague:20231221T220000
DTSTAMP:20260419T170728
CREATED:20231125T170514Z
LAST-MODIFIED:20231125T170514Z
UID:84610-1703185200-1703196000@rocksound.cz
SUMMARY:Tarja - Dark Christmas - Ostrava
DESCRIPTION:TARJA pokračuje v tradici vánočních koncertů u nás! Letos představí zbrusu novou vánoční desku za doprovodu Moravské filharmonie Olomouc ve 3 městech!\nTARJA – Dark Christmas – 19.12. OLOMOUC – Výstaviště Flora\, 20.12. BRNO – Sono Centrum\, 21.12. OSTRAVA – Gong\nOkouzlující finská zpěvačka TARJA TURUNEN si i letos pro své fanoušky připravila své osobité\, speciální a českými fanoušky velmi oblíbené Vánoční koncerty. Po loňských\, tradičně naprosto úchvatných\, koncertech hned v 5 českých městech\, si pro vás TARJA letos nachystala zbrusu novou show! Svoji novou desku „Dark Christmas 2“ vám představí těsně před Vánoci\, tentokrát za doprovodu jedné z největších filharmonií u nás\, Moravské Filharmonie Olomouc\, ve 3 městech!\n19.12. OLOMOUCI\, Výstaviště Flora\n20.12. BRNO\, Sono Centrum\n21.12. OSTRAVA\, Gong\nTARJA tentokrát nechá vánoční barvy a cingrlátka ležet ladem a v tomto svém novém vánočním setu zazpívá vánoční klasiky s temnějším\, gotickým nádechem. K Vánocům patří duchovno a Tarjin jedinečný\, školený hlas v kombinaci se symfonickým orchestrem a vánoční mystikou slibují další kouzelný a neopakovatelný hudební zážitek! Okořeňte si letošní advent krásným koncertem a přijďte si ho do hloubky prožít!
URL:https://rocksound.cz/akce/tarja-dark-christmas-ostrava/
LOCATION:Aula GONG\, Ruská 2993\, Ostrava-Vítkovice
ATTACH;FMTTYPE=image/jpeg:https://rocksound.cz/wp-content/uploads/2023/11/349368760_1254331761856015_2066507930912570420_n-1.jpg
END:VEVENT
END:VCALENDAR