BEGIN:VCALENDAR
VERSION:2.0
PRODID:-//Rocksound - ECPv6.15.18//NONSGML v1.0//EN
CALSCALE:GREGORIAN
METHOD:PUBLISH
X-WR-CALNAME:Rocksound
X-ORIGINAL-URL:https://rocksound.cz
X-WR-CALDESC:Akce na Rocksound
REFRESH-INTERVAL;VALUE=DURATION:PT1H
X-Robots-Tag:noindex
X-PUBLISHED-TTL:PT1H
BEGIN:VTIMEZONE
TZID:Europe/Prague
BEGIN:DAYLIGHT
TZOFFSETFROM:+0100
TZOFFSETTO:+0200
TZNAME:CEST
DTSTART:20240331T010000
END:DAYLIGHT
BEGIN:STANDARD
TZOFFSETFROM:+0200
TZOFFSETTO:+0100
TZNAME:CET
DTSTART:20241027T010000
END:STANDARD
BEGIN:DAYLIGHT
TZOFFSETFROM:+0100
TZOFFSETTO:+0200
TZNAME:CEST
DTSTART:20250330T010000
END:DAYLIGHT
BEGIN:STANDARD
TZOFFSETFROM:+0200
TZOFFSETTO:+0100
TZNAME:CET
DTSTART:20251026T010000
END:STANDARD
BEGIN:DAYLIGHT
TZOFFSETFROM:+0100
TZOFFSETTO:+0200
TZNAME:CEST
DTSTART:20260329T010000
END:DAYLIGHT
BEGIN:STANDARD
TZOFFSETFROM:+0200
TZOFFSETTO:+0100
TZNAME:CET
DTSTART:20261025T010000
END:STANDARD
END:VTIMEZONE
BEGIN:VEVENT
DTSTART;TZID=Europe/Prague:20250226T183000
DTEND;TZID=Europe/Prague:20250226T233000
DTSTAMP:20260424T212858
CREATED:20241229T183245Z
LAST-MODIFIED:20241229T183245Z
UID:99952-1740594600-1740612600@rocksound.cz
SUMMARY:OBSCURA\, SKELETAL REMAINS\, GOROD - Praha
DESCRIPTION:26 / 02 / 2025 / PRAHA / FUTURUMObscure vstupenky: https://obscure.cz/cs/tickets/detail/id/793Ticketmaster a goout:https://goout.net/…/obscura%2Brings-of-saturn…/szyjmkx/\nMistři německého technického death metalu OBSCURA.\nRings of Saturn bohužel odstupují z tour s Obscurou. Ale nezoufejte! Místo nich si na pódia vydají kalifornští SKELETAL REMAINS\, kteří rozvíjí odkaz poctivého old school death metalu\, ve kterém se odkazují na legendy žánru jako jsou Death\, Pestilence\, Gorguts\, Morbid Angel nebo Obituary.\nDále zahrají francouzští GOROD patřící mezinárodně nejoceňovanější progressive/technical death metalové kapely současnosti. Tři kapely\, jeden hudebně brutální únorový večer v pražském Futuru!
URL:https://rocksound.cz/akce/obscura-skeletal-remains-gorod-praha/
LOCATION:Futurum Music Bar\, Zborovská 7\, Praha
ATTACH;FMTTYPE=image/jpeg:https://rocksound.cz/wp-content/uploads/2024/12/468885997_881776687444213_5852696680715286360_n.jpg
END:VEVENT
END:VCALENDAR