BEGIN:VCALENDAR
VERSION:2.0
PRODID:-//Rocksound - ECPv6.15.18//NONSGML v1.0//EN
CALSCALE:GREGORIAN
METHOD:PUBLISH
X-WR-CALNAME:Rocksound
X-ORIGINAL-URL:https://rocksound.cz
X-WR-CALDESC:Akce na Rocksound
REFRESH-INTERVAL;VALUE=DURATION:PT1H
X-Robots-Tag:noindex
X-PUBLISHED-TTL:PT1H
BEGIN:VTIMEZONE
TZID:Europe/Prague
BEGIN:DAYLIGHT
TZOFFSETFROM:+0100
TZOFFSETTO:+0200
TZNAME:CEST
DTSTART:20220327T010000
END:DAYLIGHT
BEGIN:STANDARD
TZOFFSETFROM:+0200
TZOFFSETTO:+0100
TZNAME:CET
DTSTART:20221030T010000
END:STANDARD
BEGIN:DAYLIGHT
TZOFFSETFROM:+0100
TZOFFSETTO:+0200
TZNAME:CEST
DTSTART:20230326T010000
END:DAYLIGHT
BEGIN:STANDARD
TZOFFSETFROM:+0200
TZOFFSETTO:+0100
TZNAME:CET
DTSTART:20231029T010000
END:STANDARD
BEGIN:DAYLIGHT
TZOFFSETFROM:+0100
TZOFFSETTO:+0200
TZNAME:CEST
DTSTART:20240331T010000
END:DAYLIGHT
BEGIN:STANDARD
TZOFFSETFROM:+0200
TZOFFSETTO:+0100
TZNAME:CET
DTSTART:20241027T010000
END:STANDARD
END:VTIMEZONE
BEGIN:VEVENT
DTSTART;TZID=Europe/Prague:20230323T190000
DTEND;TZID=Europe/Prague:20230323T233000
DTSTAMP:20260421T184345
CREATED:20230119T204335Z
LAST-MODIFIED:20230119T204335Z
UID:66529-1679598000-1679614200@rocksound.cz
SUMMARY:OTTONE PESANTE\, GRIDE\, MASÁŽ - Plzeň
DESCRIPTION:OTTONE PESANTE vám přijedou zatroubit do ouška!\nAvantgardní italské jazz-brass-metal trio Ottone Pesante se v měsíci knihy přijede pochlubit tuzemským fanouškům svou poslední nahrávkou „… And The Black Bells Rang“. I když… oni se jí vlastně už chlubili na letošním Brutal Assaultu\, kde svým setem vyrazili nepřipraveným dech. To\, co dokáží vyplodit se svými instrumenty\, čítajícími trubku\, pozoun a bicí\, je naprosto famózní a grandiózně oscilující mezi genialitou a šílenstvím.\nNa českém minitour v roce 2023 je v Plzni\, Ostravě a Brně doprovodí podobně laděné alternativní spolky GRIDE a MASÁŽ.\n23 / 03 / 2023 / PLZEŇ / POD LAMPOU\nOTTONE PESANTE / GRIDE / MASÁŽ\npresale:\nnejlevnější vstupenky v Obscure shopu:\nhttps://obscure.cz/cs/tickets/detail/id/537\ndále pak v síti GOOUT:\nhttps://goout.net/cs/ottone-pesante%2Bgride%2Bmasaz/szrilvu/
URL:https://rocksound.cz/akce/ottone-pesante-gride-masaz-plzen/
LOCATION:Divadlo Pod lampou\, Plzeň\, Havířská 11\, Plzeň
ATTACH;FMTTYPE=image/jpeg:https://rocksound.cz/wp-content/uploads/2023/01/319906911_476243647980507_943525731813153850_n.jpg
END:VEVENT
BEGIN:VEVENT
DTSTART;TZID=Europe/Prague:20230325T183000
DTEND;TZID=Europe/Prague:20230325T233000
DTSTAMP:20260421T184345
CREATED:20230119T211004Z
LAST-MODIFIED:20230119T211004Z
UID:66548-1679769000-1679787000@rocksound.cz
SUMMARY:OTTONE PESANTE\, GRIDE\, MASÁŽ\, MASSOLA - Ostrava
DESCRIPTION:OTTONE PESANTE vám přijedou zatroubit do ouška!\nAvantgardní italské jazz-brass-metal trio Ottone Pesante se v měsíci knihy přijede pochlubit tuzemským fanouškům svou poslední nahrávkou „… And The Black Bells Rang“. I když… oni se jí vlastně už chlubili na letošním Brutal Assaultu\, kde svým setem vyrazili nepřipraveným dech. To\, co dokáží vyplodit se svými instrumenty\, čítajícími trubku\, pozoun a bicí\, je naprosto famózní a grandiózně oscilující mezi genialitou a šílenstvím.\nNa českém minitour v roce 2023 je v Plzni\, Ostravě a Brně doprovodí podobně laděné alternativní spolky GRIDE a MASÁŽ.\n25 / 03 / 2023 / OSTRAVA / KLUB BRNO\npresale:\nnejlevnější vstupenky najdete v našem e-shopu:\nhttps://obscure.cz/cs/tickets/detail/id/539\ndále pak v síti GOOUT:\nhttps://goout.net/…/ottone-pesante%2Bgride…/szqilvu/
URL:https://rocksound.cz/akce/ottone-pesante-gride-masaz-massola-ostrava/
LOCATION:Klub Brno\, Ostrava\, Kostelní 24\, Ostrava
ATTACH;FMTTYPE=image/jpeg:https://rocksound.cz/wp-content/uploads/2023/01/319498732_591467402692416_5203446418688258487_n.jpg
END:VEVENT
BEGIN:VEVENT
DTSTART;TZID=Europe/Prague:20230326T190000
DTEND;TZID=Europe/Prague:20230326T233000
DTSTAMP:20260421T184345
CREATED:20230119T212254Z
LAST-MODIFIED:20230119T212254Z
UID:66554-1679857200-1679873400@rocksound.cz
SUMMARY:OTTONE PESANTE\, GRIDE\, MASÁŽ - Brno
DESCRIPTION:OTTONE PESANTE vám přijedou zatroubit do ouška!\nAvantgardní italské jazz-brass-metal trio Ottone Pesante se v měsíci knihy přijede pochlubit tuzemským fanouškům svou poslední nahrávkou „… And The Black Bells Rang“. I když… oni se jí vlastně už chlubili na letošním Brutal Assaultu\, kde svým setem vyrazili nepřipraveným dech. To\, co dokáží vyplodit se svými instrumenty\, čítajícími trubku\, pozoun a bicí\, je naprosto famózní a grandiózně oscilující mezi genialitou a šílenstvím.\nNa českém minitour v roce 2023 je v Plzni\, Ostravě a Brně doprovodí podobně laděné alternativní spolky GRIDE a MASÁŽ.\n26 / 03 / 2023 / BRNO / KABINET MÚZ\npresale:\nnejlevnější vstupenky najdete v našem e-shopu: https://obscure.cz/cs/tickets/detail/id/540\n\ndále pak v síti GOOUT:\nhttps://goout.net/cs/ottone-pesante%2Bgride%2Bmasaz/szsilvu/
URL:https://rocksound.cz/akce/ottone-pesante-gride-masaz-brno/
LOCATION:Kabinet múz\, Brno\, Sukova 4\, Brno
ATTACH;FMTTYPE=image/jpeg:https://rocksound.cz/wp-content/uploads/2023/01/318425001_1170807853829459_7850048033493849002_n.jpg
END:VEVENT
END:VCALENDAR