BEGIN:VCALENDAR
VERSION:2.0
PRODID:-//Rocksound - ECPv6.15.18//NONSGML v1.0//EN
CALSCALE:GREGORIAN
METHOD:PUBLISH
X-ORIGINAL-URL:https://rocksound.cz
X-WR-CALDESC:Akce na Rocksound
REFRESH-INTERVAL;VALUE=DURATION:PT1H
X-Robots-Tag:noindex
X-PUBLISHED-TTL:PT1H
BEGIN:VTIMEZONE
TZID:Europe/Prague
BEGIN:DAYLIGHT
TZOFFSETFROM:+0100
TZOFFSETTO:+0200
TZNAME:CEST
DTSTART:20190331T010000
END:DAYLIGHT
BEGIN:STANDARD
TZOFFSETFROM:+0200
TZOFFSETTO:+0100
TZNAME:CET
DTSTART:20191027T010000
END:STANDARD
BEGIN:DAYLIGHT
TZOFFSETFROM:+0100
TZOFFSETTO:+0200
TZNAME:CEST
DTSTART:20200329T010000
END:DAYLIGHT
BEGIN:STANDARD
TZOFFSETFROM:+0200
TZOFFSETTO:+0100
TZNAME:CET
DTSTART:20201025T010000
END:STANDARD
BEGIN:DAYLIGHT
TZOFFSETFROM:+0100
TZOFFSETTO:+0200
TZNAME:CEST
DTSTART:20210328T010000
END:DAYLIGHT
BEGIN:STANDARD
TZOFFSETFROM:+0200
TZOFFSETTO:+0100
TZNAME:CET
DTSTART:20211031T010000
END:STANDARD
END:VTIMEZONE
BEGIN:VEVENT
DTSTART;TZID=Europe/Prague:20200704T140000
DTEND;TZID=Europe/Prague:20200704T220000
DTSTAMP:20260419T172128
CREATED:20200623T072235Z
LAST-MODIFIED:20200623T072235Z
UID:33909-1593871200-1593900000@rocksound.cz
SUMMARY:Metal!! - Ostrava
DESCRIPTION:To nejlepší z Moravskoslezské metalové scény + jeden host z Českých Budějovic! Metal!!! \n\n\nVystoupí: \n\nMalignant Tumour\nGUTALAX ( cz gore grind )\nSilent Stream Of Godless Elegy\nANTIGOD\nPrimary Resistance\nPostcards From Arkham\nDead Carnage\n\nOMEZENÝ POČET VSTUPENEK! \nVstupenky: v předprodeji za 490\,- Kč\nPředprodej: v síti Tickestream.
URL:https://rocksound.cz/akce/metal-ostrava/
LOCATION:Slezskoostravský hrad\, Hradní 1\, Ostrava
END:VEVENT
BEGIN:VEVENT
DTSTART;TZID=Europe/Prague:20200708T180000
DTEND;TZID=Europe/Prague:20200708T230000
DTSTAMP:20260419T172128
CREATED:20200623T080030Z
LAST-MODIFIED:20200623T080030Z
UID:33921-1594231200-1594249200@rocksound.cz
SUMMARY:Gutalax - České Budějovice
DESCRIPTION:12 nejlepších nezávislých metalových festivalů spojilo a vytvořilo unikátní projekt – historicky první online streamovaný festival European Metal festival alliance! Každý festival zastupují dvě kapely se svými exklusivními speciálními streamy\, které se budou online vysílat do celého světa a to ve dnech 7.-8.-9. srpna !\nGutalax má tu čest zastupovat milovaný Brutal Assault! \n\n\nBude speciální HOVNÍ PÁRTY S GUTALAXEM !!! \nKDY – Ve středu 8. července\nKDE – MC Fabrika – České Budějovice ( Jeronýmova 6 ) \nZačneme v 18:00\, zahrajeme si soutěže s hovní tématikou ( házení zvonem na věnec\, požírání hovních muffinů a další )\, dáme si pivečko ( či limošku )\, budeme se smát\, povídat si\, bavit se a to vše zakončíme naším Gutalax živým koncertem na sále MC Fabrika ( budou speciální hosté a možná i zazní nový song ). Tohle všechno budou poctivě a od začátku dokumentovat kluci z Brutal Assaultu\, se svým profi teamem a posléze z toho udělají to kýžené video\, které pak bude reprezentovat BA a Českou Republiku na tomto unikátním festu. \nVstup: je dobrovolnej\, kapacita omezená na 200 hlav !!! \n!!! MASKY A KOSTÝMY JSOU VÍCE NEŽ VÍTÁNY !!! \n 
URL:https://rocksound.cz/akce/gutalax-ceske-budejovice/
LOCATION:MC Fabrika\, Jeronýmova 6\, České Budějovice\, 370 01
END:VEVENT
BEGIN:VEVENT
DTSTART;TZID=Europe/Prague:20200710T193000
DTEND;TZID=Europe/Prague:20200711T233000
DTSTAMP:20260419T172128
CREATED:20200306T124945Z
LAST-MODIFIED:20200520T191900Z
UID:31186-1594409400-1594510200@rocksound.cz
SUMMARY:Fajtfest Help Party - Velké Meziříčí
DESCRIPTION:FAJTFEST HELP PARTY \n\n\nCOCOTTE MINUTE\, GUTALAX\, SPASM\, BACKFIST\,MERESIEW\, BAD VICTIM\, NEXT SPACE\, TERMINAL na Fajtově kopci ve Velkém Meziříčí. \nVstupenka: 450 Kč\nPředprodej vstupenek: na tickets@fajtfest.com
URL:https://rocksound.cz/akce/fajtfest-rumela-party-vol-17-velke-mezirici/
LOCATION:Fajtův kopec Velké Meziříčí
END:VEVENT
END:VCALENDAR