BEGIN:VCALENDAR
VERSION:2.0
PRODID:-//Rocksound - ECPv6.15.18//NONSGML v1.0//EN
CALSCALE:GREGORIAN
METHOD:PUBLISH
X-WR-CALNAME:Rocksound
X-ORIGINAL-URL:https://rocksound.cz
X-WR-CALDESC:Akce na Rocksound
REFRESH-INTERVAL;VALUE=DURATION:PT1H
X-Robots-Tag:noindex
X-PUBLISHED-TTL:PT1H
BEGIN:VTIMEZONE
TZID:Europe/Prague
BEGIN:DAYLIGHT
TZOFFSETFROM:+0100
TZOFFSETTO:+0200
TZNAME:CEST
DTSTART:20190331T010000
END:DAYLIGHT
BEGIN:STANDARD
TZOFFSETFROM:+0200
TZOFFSETTO:+0100
TZNAME:CET
DTSTART:20191027T010000
END:STANDARD
BEGIN:DAYLIGHT
TZOFFSETFROM:+0100
TZOFFSETTO:+0200
TZNAME:CEST
DTSTART:20200329T010000
END:DAYLIGHT
BEGIN:STANDARD
TZOFFSETFROM:+0200
TZOFFSETTO:+0100
TZNAME:CET
DTSTART:20201025T010000
END:STANDARD
BEGIN:DAYLIGHT
TZOFFSETFROM:+0100
TZOFFSETTO:+0200
TZNAME:CEST
DTSTART:20210328T010000
END:DAYLIGHT
BEGIN:STANDARD
TZOFFSETFROM:+0200
TZOFFSETTO:+0100
TZNAME:CET
DTSTART:20211031T010000
END:STANDARD
END:VTIMEZONE
BEGIN:VEVENT
DTSTART;TZID=Europe/Prague:20200829T130000
DTEND;TZID=Europe/Prague:20200829T233000
DTSTAMP:20260419T154134
CREATED:20200525T130943Z
LAST-MODIFIED:20200525T131109Z
UID:32981-1598706000-1598743800@rocksound.cz
SUMMARY:Březovská metalová noc - Březová u Sokolova
DESCRIPTION:Již třináctý ročník Březovské metalové noci. \n\n\nROOT\nGUTALAX\nCUTTERRED FLESH\nFLESHLESS\nPOPPY SEED GRINDER\nMEAN MESSIAH\nCONGENITAL ANOMALIES\nPROLAPSED\nNEUROTIC MACHINERY\nCRIPPLED FINGERS
URL:https://rocksound.cz/akce/brezovska-metalova-noc-brezova-karlovy-vary/
LOCATION:Areál Výsluní\, Březová u Sokolova
END:VEVENT
END:VCALENDAR