BEGIN:VCALENDAR
VERSION:2.0
PRODID:-//Rocksound - ECPv6.15.18//NONSGML v1.0//EN
CALSCALE:GREGORIAN
METHOD:PUBLISH
X-WR-CALNAME:Rocksound
X-ORIGINAL-URL:https://rocksound.cz
X-WR-CALDESC:Akce na Rocksound
REFRESH-INTERVAL;VALUE=DURATION:PT1H
X-Robots-Tag:noindex
X-PUBLISHED-TTL:PT1H
BEGIN:VTIMEZONE
TZID:Europe/Prague
BEGIN:DAYLIGHT
TZOFFSETFROM:+0100
TZOFFSETTO:+0200
TZNAME:CEST
DTSTART:20180325T010000
END:DAYLIGHT
BEGIN:STANDARD
TZOFFSETFROM:+0200
TZOFFSETTO:+0100
TZNAME:CET
DTSTART:20181028T010000
END:STANDARD
BEGIN:DAYLIGHT
TZOFFSETFROM:+0100
TZOFFSETTO:+0200
TZNAME:CEST
DTSTART:20190331T010000
END:DAYLIGHT
BEGIN:STANDARD
TZOFFSETFROM:+0200
TZOFFSETTO:+0100
TZNAME:CET
DTSTART:20191027T010000
END:STANDARD
BEGIN:DAYLIGHT
TZOFFSETFROM:+0100
TZOFFSETTO:+0200
TZNAME:CEST
DTSTART:20200329T010000
END:DAYLIGHT
BEGIN:STANDARD
TZOFFSETFROM:+0200
TZOFFSETTO:+0100
TZNAME:CET
DTSTART:20201025T010000
END:STANDARD
END:VTIMEZONE
BEGIN:VEVENT
DTSTART;TZID=Europe/Prague:20190705T140000
DTEND;TZID=Europe/Prague:20190706T235900
DTSTAMP:20260425T055302
CREATED:20190522T193214Z
LAST-MODIFIED:20190522T193214Z
UID:15413-1562335200-1562457540@rocksound.cz
SUMMARY:Pekelný ostrov 2019
DESCRIPTION:Osmý ročník rockového festivalu čeká letos opět na návštěvníky u Holýšova (Plzeňský kraj). \n\n\nLoňský sedmý ročník byl opět největším hudebním open-air festivalem svého žánru na západě Čech a letos by tomu nemělo být jinak! Opět budou zajištěny sprchy\, non-stop bar ve stanovém městečku\, široká nabídka cateringu a doprovodný program. \nKapely: \nLordi\, Divokej Bill\, Škwor\, Rybičky 48\, Harlej\, Dymytry\, Traktor\, Jaroslav Uhlíř\, Trautenberk \na další \nPředprodej vstupenek v síti Ticketstream a na pekelnyostrov.cz.
URL:https://rocksound.cz/akce/pekelny-ostrov-2019/
LOCATION:Umělý ostrov Holýšov\, Dolní Kamenice 57\, Holýšov
END:VEVENT
BEGIN:VEVENT
DTSTART;TZID=Europe/Prague:20190712T153000
DTEND;TZID=Europe/Prague:20190713T235900
DTSTAMP:20260425T055302
CREATED:20190614T160922Z
LAST-MODIFIED:20190614T160922Z
UID:17096-1562945400-1563062340@rocksound.cz
SUMMARY:HRADY CZ - Točník
DESCRIPTION:Vystoupí kapely: \n\n\nSto zvířat\, Arakain a Lucie Bílá\, Rybičky 48\, Jelen\, Trautenberk\, Visací zámek\, Dymytry\, Harlej a mnoho dalších \nPředprodej vstupenek v síti Ticketstream.
URL:https://rocksound.cz/akce/hrady-cz-tocnik/
LOCATION:Hrady Točník a Žebrák\, Točník 1\, Točník
END:VEVENT
BEGIN:VEVENT
DTSTART;TZID=Europe/Prague:20190712T170000
DTEND;TZID=Europe/Prague:20190712T235900
DTSTAMP:20260425T055302
CREATED:20190614T155941Z
LAST-MODIFIED:20190614T155941Z
UID:17093-1562950800-1562975940@rocksound.cz
SUMMARY:Litvínov Rock Fest
DESCRIPTION:Nový rockový festival v severních Čechách! \n\n\nVystoupí špička českého rockového žánru a to kapely Dymytry\, Harlej\, Trautenberk a metalovo-rockový muzikál Bohemian Metal Rhapsody. \nPředprodej vstupenek v síti Ticketstream.
URL:https://rocksound.cz/akce/litvinov-rock-fest/
LOCATION:Loučky Litvínov\, Máchova 1727\, Litvínov
END:VEVENT
BEGIN:VEVENT
DTSTART;TZID=Europe/Prague:20190719T153000
DTEND;TZID=Europe/Prague:20190720T235900
DTSTAMP:20260425T055302
CREATED:20190614T161632Z
LAST-MODIFIED:20190614T161632Z
UID:17100-1563550200-1563667140@rocksound.cz
SUMMARY:HRADY CZ - Kunětická hora
DESCRIPTION:Vystoupí kapely: \n\n\nWohnout\,  Arakain a Lucie Bílá\, Rybičky 48\, The Agony\, Trautenberk\, Dymytry\, Harlej a mnoho dalších \nPředprodej vstupenek v síti Ticketstream.
URL:https://rocksound.cz/akce/hrady-cz-kuneticka-hora/
LOCATION:Státní hrad Kunětická hora\, Ráby\, Kunětická hora\, 53352
END:VEVENT
BEGIN:VEVENT
DTSTART;TZID=Europe/Prague:20190720T130000
DTEND;TZID=Europe/Prague:20190720T235900
DTSTAMP:20260425T055302
CREATED:20190622T195922Z
LAST-MODIFIED:20190622T195932Z
UID:17394-1563627600-1563667140@rocksound.cz
SUMMARY:Léto s Rychtářem 2019
DESCRIPTION:Tradiční červencový koncert Léta s Rychtářem opět nabídne to nejlepší z české rockové scény! \n\n\nMůžete se těšit na oblíbené a osvědčené kapely jako jsou HARLEJ\, ALKEHOL\, METAL JAN\, TRAKTOR\, TRAUTENBERK\, GATE CRASHER a další. \nPředprodej vstupenek v síti Ticketstream.
URL:https://rocksound.cz/akce/leto-s-rychtarem-2019/
LOCATION:Amfiteátr Rychtář\, Resslova\, Hlinsko
END:VEVENT
BEGIN:VEVENT
DTSTART;TZID=Europe/Prague:20190725T140000
DTEND;TZID=Europe/Prague:20190727T235900
DTSTAMP:20260425T055302
CREATED:20190622T201408Z
LAST-MODIFIED:20190622T201408Z
UID:17400-1564063200-1564271940@rocksound.cz
SUMMARY:Benátská! s Impulsem 2019
DESCRIPTION:Již 27. ročník hudebního festivalu Benátská! s Impulsem 2019 opět proběhne ve sportovním areálu Vesec v Liberci a to již tradičně poslední červencový víkend od 25. do 28.7. 2019! \n\n\nPotvrzení interpreti: EUROPE /swe/\, Karel Gott\, Chinaski\, No Name\, Richard Müller\, Čechomor\, Marek Ztracený\, Michal Hrůza\, Lenny\, Harlej\, Doctor PP\, Traktor\, Walda Gang\, Ben Cristovao\, Sebastian\, Paulie Garand a Kenny Rough\, Lipo\, Hank a spousta dalších! \nPředprodej vstupenek na www.benatska-vstupenky.cz.
URL:https://rocksound.cz/akce/benatska-s-impulsem-2019/
LOCATION:Rekreační a sportovní areál Vesec\, Vesec\, Liberec
END:VEVENT
BEGIN:VEVENT
DTSTART;TZID=Europe/Prague:20190726T153000
DTEND;TZID=Europe/Prague:20190727T235900
DTSTAMP:20260425T055302
CREATED:20190622T202234Z
LAST-MODIFIED:20190622T202234Z
UID:17404-1564155000-1564271940@rocksound.cz
SUMMARY:HRADY CZ – Švihov
DESCRIPTION:Vystoupí kapely: \n\n\nThe Agony\, Sto zvířat\, Arakain a Lucie Bílá\, Rybičky 48\, No Name\, Trautenberk\, Dymytry\, Harlej\, Wohnout a mnoho dalších \nPředprodej vstupenek v síti Ticketstream a na hradycz.cz.
URL:https://rocksound.cz/akce/hrady-cz-svihov/
LOCATION:Vodní hrad Švihov\, Švihov
END:VEVENT
END:VCALENDAR