BEGIN:VCALENDAR
VERSION:2.0
PRODID:-//Rocksound - ECPv6.15.18//NONSGML v1.0//EN
CALSCALE:GREGORIAN
METHOD:PUBLISH
X-WR-CALNAME:Rocksound
X-ORIGINAL-URL:https://rocksound.cz
X-WR-CALDESC:Akce na Rocksound
REFRESH-INTERVAL;VALUE=DURATION:PT1H
X-Robots-Tag:noindex
X-PUBLISHED-TTL:PT1H
BEGIN:VTIMEZONE
TZID:Europe/Prague
BEGIN:DAYLIGHT
TZOFFSETFROM:+0100
TZOFFSETTO:+0200
TZNAME:CEST
DTSTART:20180325T010000
END:DAYLIGHT
BEGIN:STANDARD
TZOFFSETFROM:+0200
TZOFFSETTO:+0100
TZNAME:CET
DTSTART:20181028T010000
END:STANDARD
BEGIN:DAYLIGHT
TZOFFSETFROM:+0100
TZOFFSETTO:+0200
TZNAME:CEST
DTSTART:20190331T010000
END:DAYLIGHT
BEGIN:STANDARD
TZOFFSETFROM:+0200
TZOFFSETTO:+0100
TZNAME:CET
DTSTART:20191027T010000
END:STANDARD
BEGIN:DAYLIGHT
TZOFFSETFROM:+0100
TZOFFSETTO:+0200
TZNAME:CEST
DTSTART:20200329T010000
END:DAYLIGHT
BEGIN:STANDARD
TZOFFSETFROM:+0200
TZOFFSETTO:+0100
TZNAME:CET
DTSTART:20201025T010000
END:STANDARD
END:VTIMEZONE
BEGIN:VEVENT
DTSTART;TZID=Europe/Prague:20190802T153000
DTEND;TZID=Europe/Prague:20190803T235900
DTSTAMP:20260424T192534
CREATED:20190623T063439Z
LAST-MODIFIED:20190623T063439Z
UID:17441-1564759800-1564876740@rocksound.cz
SUMMARY:HRADY CZ - Rožmberk
DESCRIPTION:Vystoupí kapely: \n\n\nSto zvířat\, Trautenberk\, Arakain a Lucie Bílá\, Rybičky 48\, The Agony\, Dymytry\, Harlej\, Wohnout a mnoho dalších \nPředprodej vstupenek v síti Ticketstream a na hradycz.cz.
URL:https://rocksound.cz/akce/hrady-cz-rozmberk/
LOCATION:Hrad Rožmberk\, Státní hrad Rožmberk\, Rožmberk nad Vltavou
END:VEVENT
BEGIN:VEVENT
DTSTART;TZID=Europe/Prague:20190808T153000
DTEND;TZID=Europe/Prague:20190810T235900
DTSTAMP:20260424T192535
CREATED:20190623T070834Z
LAST-MODIFIED:20190623T070834Z
UID:17462-1565278200-1565481540@rocksound.cz
SUMMARY:Chodrockfest
DESCRIPTION:Účinkující: \n\n\nOlympic\, Harlej\, Jelen\, Banjo band Ivana Mládka\, Walda gang\, Traktor\, Trautenberk\, Arakain\, Alkehol\, Záviš\, Zakázaný ovoce\, Turbo\, Komunál\, Krucipüsk a mnoho dalších \nPředprodej vstupenek na chodrockfest.cz.
URL:https://rocksound.cz/akce/chodrockfest/
LOCATION:Areál TJ START (Jezdecký areál pod Vavřincem)\, Waldhegerova 529\, Domažlice
END:VEVENT
BEGIN:VEVENT
DTSTART;TZID=Europe/Prague:20190809T153000
DTEND;TZID=Europe/Prague:20190810T235900
DTSTAMP:20260424T192535
CREATED:20190623T064013Z
LAST-MODIFIED:20190623T064013Z
UID:17444-1565364600-1565481540@rocksound.cz
SUMMARY:HRADY CZ – Veveří
DESCRIPTION:Vystoupí kapely: \n\n\nThe Agony\, Sto zvířat\, Arakain a Lucie Bílá\, Rybičky 48\, No Name\, Trautenberk\, Dymytry\, Harlej\, Wohnout a mnoho dalších \nPředprodej vstupenek v síti Ticketstream a na hradycz.cz.
URL:https://rocksound.cz/akce/hrady-cz-veveri/
LOCATION:Hrad Veveří\, Státní hrad Veveří\, Brno
END:VEVENT
BEGIN:VEVENT
DTSTART;TZID=Europe/Prague:20190815T120000
DTEND;TZID=Europe/Prague:20190817T235900
DTSTAMP:20260424T192535
CREATED:20190622T205259Z
LAST-MODIFIED:20190622T205259Z
UID:17420-1565870400-1566086340@rocksound.cz
SUMMARY:ROCK HEART
DESCRIPTION:Festival Rock Heart\, který každoročně přiláká do Moravského Krumlova tisíce návštěvníků nejen z České republiky ale také ze zahraničí\, se za pouhé dva roky své existence stal jedním z největších festivalů na jihu Moravy. \n\n\nKapely:\nAPOCALYPTICA\, U.D.O.\, CREMATORY\, LACUNA COIL\, AVATAR\, INFECTED RAIN\, VISIONS OF ATLANTIS\, ANVIL\, LEAVES‘ EYES\, HÄMATOM\, SYMFOBIA\, DYMYTRY\, HARLEJ\, ŠKWOR\, AKRAKAIN A LUCIE BÍLÁ\, CITRON\, DOGA\, ALKEHOL\, EAGLEHEART\, TÖRR\, BASTARD\, FORREST JUMP\, MOTORBAND a mnoho dalších \nPředprodej vstupenek na www.mastersofrock.cz.
URL:https://rocksound.cz/akce/rock-heart-2/
LOCATION:Areál zámeckého parku\, Moravský Krumlov\, Zámecká 1\, Moravský Krumlov
END:VEVENT
BEGIN:VEVENT
DTSTART;TZID=Europe/Prague:20190823T153000
DTEND;TZID=Europe/Prague:20190824T235900
DTSTAMP:20260424T192535
CREATED:20190623T064840Z
LAST-MODIFIED:20190623T064840Z
UID:17450-1566574200-1566691140@rocksound.cz
SUMMARY:HRADY CZ - Bouzov
DESCRIPTION:Vystoupí kapely: \n\n\nThe Agony\, Sto zvířat\, Arakain a Lucie Bílá\, Rybičky 48\, No Name\, Trautenberk\, Dymytry\, Harlej\, Wohnout a mnoho dalších \nPředprodej vstupenek v síti Ticketstream a na hradycz.cz.
URL:https://rocksound.cz/akce/hrady-cz-bouzov/
LOCATION:Hrad Bouzov\, Státní hrad Bouzov\, Bouzov
END:VEVENT
END:VCALENDAR