BEGIN:VCALENDAR
VERSION:2.0
PRODID:-//Rocksound - ECPv6.15.18//NONSGML v1.0//EN
CALSCALE:GREGORIAN
METHOD:PUBLISH
X-WR-CALNAME:Rocksound
X-ORIGINAL-URL:https://rocksound.cz
X-WR-CALDESC:Akce na Rocksound
REFRESH-INTERVAL;VALUE=DURATION:PT1H
X-Robots-Tag:noindex
X-PUBLISHED-TTL:PT1H
BEGIN:VTIMEZONE
TZID:Europe/Prague
BEGIN:DAYLIGHT
TZOFFSETFROM:+0100
TZOFFSETTO:+0200
TZNAME:CEST
DTSTART:20220327T010000
END:DAYLIGHT
BEGIN:STANDARD
TZOFFSETFROM:+0200
TZOFFSETTO:+0100
TZNAME:CET
DTSTART:20221030T010000
END:STANDARD
BEGIN:DAYLIGHT
TZOFFSETFROM:+0100
TZOFFSETTO:+0200
TZNAME:CEST
DTSTART:20230326T010000
END:DAYLIGHT
BEGIN:STANDARD
TZOFFSETFROM:+0200
TZOFFSETTO:+0100
TZNAME:CET
DTSTART:20231029T010000
END:STANDARD
BEGIN:DAYLIGHT
TZOFFSETFROM:+0100
TZOFFSETTO:+0200
TZNAME:CEST
DTSTART:20240331T010000
END:DAYLIGHT
BEGIN:STANDARD
TZOFFSETFROM:+0200
TZOFFSETTO:+0100
TZNAME:CET
DTSTART:20241027T010000
END:STANDARD
END:VTIMEZONE
BEGIN:VEVENT
DTSTART;TZID=Europe/Prague:20230407T193000
DTEND;TZID=Europe/Prague:20230407T233000
DTSTAMP:20260421T091459
CREATED:20230321T141822Z
LAST-MODIFIED:20230321T141822Z
UID:69221-1680895800-1680910200@rocksound.cz
SUMMARY:Harlej - České Budějovice
DESCRIPTION:Kapela Harlej se vrací do Českých Budějovic!\nPřijďte si užít rockový večer!\nSoučástí večera bude i autogramiáda kapely.\nOtevření vstupů: 19:30\nAutogramiáda: 20:00\nKoncert: 21:00\nVstupenky již teď v předprodeji v síti ticketstream!
URL:https://rocksound.cz/akce/harlej-ceske-budejovice-2/
LOCATION:KD Vltava\, Františka Ondříčka 1243/46\, České Budějovice
ATTACH;FMTTYPE=image/jpeg:https://rocksound.cz/wp-content/uploads/2023/03/325979768_912183206471187_4258666308265035945_n.jpg
END:VEVENT
BEGIN:VEVENT
DTSTART;TZID=Europe/Prague:20230414T190000
DTEND;TZID=Europe/Prague:20230414T233000
DTSTAMP:20260421T091459
CREATED:20230321T142121Z
LAST-MODIFIED:20230321T142121Z
UID:69224-1681498800-1681515000@rocksound.cz
SUMMARY:Harlej - LNÁŘE
DESCRIPTION:Harlej se po čtyřech letech vrací do Lnář !! Přijďte si užit rockový večer !! Součástí večera bude i autogramiáda kapely !!\nOtevření vchodů : 19:00\nAutogramiáda : 20:00\nStart : 21:00\nVstupenky v síti Ticketstream !!
URL:https://rocksound.cz/akce/harlej-lnare-2/
LOCATION:KD Lnáře\, Lnáře 187\, Lnáře
ATTACH;FMTTYPE=image/jpeg:https://rocksound.cz/wp-content/uploads/2023/03/324592623_5542941842499362_4874806959293087506_n.jpg
END:VEVENT
BEGIN:VEVENT
DTSTART;TZID=Europe/Prague:20230415T190000
DTEND;TZID=Europe/Prague:20230415T233000
DTSTAMP:20260421T091459
CREATED:20230321T142522Z
LAST-MODIFIED:20230321T142522Z
UID:69227-1681585200-1681601400@rocksound.cz
SUMMARY:Harlej - Valašské Klobouky
DESCRIPTION:Klobučané\, připravte se na pořádnou dávku rocku!  Už 15. dubna přijede do Valašských Klobouk legendární Harlej! Těšte se na dvouhodinový koncert s těmi největšími hity. \nPROGRAM\n19:00  Otevření kulturáku\n20:00  Autogramiáda\n21:00  Koncert\nLÍSTKY\nV předprodeji za 499 Kč  bit.ly/Harlej_VK23\nNa místě za 599 Kč
URL:https://rocksound.cz/akce/harlej-valasske-klobouky/
LOCATION:KD Klobučan\, Masarykovo nám. 942\, Valašské Klobouky\, 766 01
ATTACH;FMTTYPE=image/jpeg:https://rocksound.cz/wp-content/uploads/2023/03/322115402_829757408127200_8079001562816561998_n.jpg
END:VEVENT
END:VCALENDAR