BEGIN:VCALENDAR
VERSION:2.0
PRODID:-//Rocksound - ECPv6.15.18//NONSGML v1.0//EN
CALSCALE:GREGORIAN
METHOD:PUBLISH
X-WR-CALNAME:Rocksound
X-ORIGINAL-URL:https://rocksound.cz
X-WR-CALDESC:Akce na Rocksound
REFRESH-INTERVAL;VALUE=DURATION:PT1H
X-Robots-Tag:noindex
X-PUBLISHED-TTL:PT1H
BEGIN:VTIMEZONE
TZID:Europe/Prague
BEGIN:DAYLIGHT
TZOFFSETFROM:+0100
TZOFFSETTO:+0200
TZNAME:CEST
DTSTART:20220327T010000
END:DAYLIGHT
BEGIN:STANDARD
TZOFFSETFROM:+0200
TZOFFSETTO:+0100
TZNAME:CET
DTSTART:20221030T010000
END:STANDARD
BEGIN:DAYLIGHT
TZOFFSETFROM:+0100
TZOFFSETTO:+0200
TZNAME:CEST
DTSTART:20230326T010000
END:DAYLIGHT
BEGIN:STANDARD
TZOFFSETFROM:+0200
TZOFFSETTO:+0100
TZNAME:CET
DTSTART:20231029T010000
END:STANDARD
BEGIN:DAYLIGHT
TZOFFSETFROM:+0100
TZOFFSETTO:+0200
TZNAME:CEST
DTSTART:20240331T010000
END:DAYLIGHT
BEGIN:STANDARD
TZOFFSETFROM:+0200
TZOFFSETTO:+0100
TZNAME:CET
DTSTART:20241027T010000
END:STANDARD
END:VTIMEZONE
BEGIN:VEVENT
DTSTART;TZID=Europe/Prague:20230617T140000
DTEND;TZID=Europe/Prague:20230617T235900
DTSTAMP:20260421T160749
CREATED:20230310T132946Z
LAST-MODIFIED:20230310T132946Z
UID:68937-1687010400-1687046340@rocksound.cz
SUMMARY:Rock in Loket 2023 - Harlej\, Traktor\, Alkehol a další
DESCRIPTION:To nejlepší z české rockové scény v jeden den na jednom pódiu a ve vašem amfiteátru!\nUžijte si jedinečnou kombinaci oblíbených interpretů HARLEJ\, TRAKTOR\, ALKEHOL a mnoha dalších.\nLINEUP:\nbude upřesněno\nVSTUPENKY:\nhttps://bit.ly/rit2023\nKaždý z interpretů dostává na podiu plnohodnotný prostor pro svoji show a program je nabitý od začátku do konce. Komfortní prostředí\, kvalitní technické zázemí s velkým podiem a speciální scénou plnou efektů je pro taková jména samozřejmostí.
URL:https://rocksound.cz/akce/rock-in-loket-2023-harlej-traktor-alkehol-a-dalsi/
LOCATION:Amfiteátr Loket\, Zahradní\, Loket
ATTACH;FMTTYPE=image/jpeg:https://rocksound.cz/wp-content/uploads/2023/03/328464946_760611265018599_5501631376800515036_n.jpg
END:VEVENT
BEGIN:VEVENT
DTSTART;TZID=Europe/Prague:20230623T200000
DTEND;TZID=Europe/Prague:20230623T233000
DTSTAMP:20260421T160749
CREATED:20230426T184000Z
LAST-MODIFIED:20230426T184000Z
UID:71738-1687550400-1687563000@rocksound.cz
SUMMARY:Harlej - Sušice
DESCRIPTION:Koncert skupiny Harlej + hosté na ostrově Santos v Sušici\nKamenný předprodej: Sušice Sirkus- Kino Sušice + Sokolovna Sušice\nKlatovy: CA EDEN Travel\, Kpt. Jaroše 48\nStrakonice: CIAO cestovní kancelář\, U Sv. Markéty 58\nOn-line předprodej: https://www.ticketstream.cz/akce/harlej-tour-2023-169283
URL:https://rocksound.cz/akce/harlej-susice/
LOCATION:Ostrov Santos Sušice\, Sušice
ATTACH;FMTTYPE=image/jpeg:https://rocksound.cz/wp-content/uploads/2023/04/329101776_2838502789616581_1418233469883778555_n.jpg
ORGANIZER;CN="Ostrov Santos":MAILTO:ostrovsantos@seznam.cz
END:VEVENT
BEGIN:VEVENT
DTSTART;TZID=Europe/Prague:20230624T140000
DTEND;TZID=Europe/Prague:20230624T235900
DTSTAMP:20260421T160749
CREATED:20230310T133507Z
LAST-MODIFIED:20230310T133507Z
UID:68941-1687615200-1687651140@rocksound.cz
SUMMARY:Rock in Olomouc 2023 - Harlej\, Traktor\, Trautenberk a další
DESCRIPTION:To nejlepší z české rockové scény v jeden den na jednom pódiu a ve vašem městě!\nUžijte si jedinečnou kombinaci oblíbených interpretů HARLEJ\, TRAKTOR\, TRAUTENBERK a mnoha dalších.\nLINEUP:\nbude upřesněno\nVSTUPENKY:\nhttps://bit.ly/rit2023\nKaždý z interpretů dostává na podiu plnohodnotný prostor pro svoji show a program je nabitý od začátku do konce. Komfortní prostředí\, kvalitní technické zázemí s velkým podiem a speciální scénou plnou efektů je pro taková jména samozřejmostí.
URL:https://rocksound.cz/akce/rock-in-olomouc-2023-harlej-traktor-trautenberk-a-dalsi/
LOCATION:Korunní pevnůstka Olomouc\, Třída 17. listopadu 7\, Olomouc\, 779 00
ATTACH;FMTTYPE=image/jpeg:https://rocksound.cz/wp-content/uploads/2023/03/329256826_1955115488159332_8405478756899747643_n.jpg
END:VEVENT
END:VCALENDAR