BEGIN:VCALENDAR
VERSION:2.0
PRODID:-//Rocksound - ECPv6.15.18//NONSGML v1.0//EN
CALSCALE:GREGORIAN
METHOD:PUBLISH
X-WR-CALNAME:Rocksound
X-ORIGINAL-URL:https://rocksound.cz
X-WR-CALDESC:Akce na Rocksound
REFRESH-INTERVAL;VALUE=DURATION:PT1H
X-Robots-Tag:noindex
X-PUBLISHED-TTL:PT1H
BEGIN:VTIMEZONE
TZID:Europe/Prague
BEGIN:DAYLIGHT
TZOFFSETFROM:+0100
TZOFFSETTO:+0200
TZNAME:CEST
DTSTART:20220327T010000
END:DAYLIGHT
BEGIN:STANDARD
TZOFFSETFROM:+0200
TZOFFSETTO:+0100
TZNAME:CET
DTSTART:20221030T010000
END:STANDARD
BEGIN:DAYLIGHT
TZOFFSETFROM:+0100
TZOFFSETTO:+0200
TZNAME:CEST
DTSTART:20230326T010000
END:DAYLIGHT
BEGIN:STANDARD
TZOFFSETFROM:+0200
TZOFFSETTO:+0100
TZNAME:CET
DTSTART:20231029T010000
END:STANDARD
BEGIN:DAYLIGHT
TZOFFSETFROM:+0100
TZOFFSETTO:+0200
TZNAME:CEST
DTSTART:20240331T010000
END:DAYLIGHT
BEGIN:STANDARD
TZOFFSETFROM:+0200
TZOFFSETTO:+0100
TZNAME:CET
DTSTART:20241027T010000
END:STANDARD
END:VTIMEZONE
BEGIN:VEVENT
DTSTART;TZID=Europe/Prague:20231202T200000
DTEND;TZID=Europe/Prague:20231202T233000
DTSTAMP:20260419T140807
CREATED:20231125T153532Z
LAST-MODIFIED:20231125T153532Z
UID:84581-1701547200-1701559800@rocksound.cz
SUMMARY:Harlej - Tábor
DESCRIPTION:Otevření vchodů: 19:30\nAutogramiáda: 20:00\nKoncert: 21:00\nPředprodeje v síti ticketstream!
URL:https://rocksound.cz/akce/harlej-tabor/
LOCATION:Congress & Wellness Hotel Palcát\, 9. května 2471/2\, Tábor
ATTACH;FMTTYPE=image/jpeg:https://rocksound.cz/wp-content/uploads/2023/11/376576952_873082334176009_6617096764819810892_n.jpg
END:VEVENT
END:VCALENDAR