BEGIN:VCALENDAR
VERSION:2.0
PRODID:-//Rocksound - ECPv6.15.18//NONSGML v1.0//EN
CALSCALE:GREGORIAN
METHOD:PUBLISH
X-WR-CALNAME:Rocksound
X-ORIGINAL-URL:https://rocksound.cz
X-WR-CALDESC:Akce na Rocksound
REFRESH-INTERVAL;VALUE=DURATION:PT1H
X-Robots-Tag:noindex
X-PUBLISHED-TTL:PT1H
BEGIN:VTIMEZONE
TZID:Europe/Prague
BEGIN:DAYLIGHT
TZOFFSETFROM:+0100
TZOFFSETTO:+0200
TZNAME:CEST
DTSTART:20190331T010000
END:DAYLIGHT
BEGIN:STANDARD
TZOFFSETFROM:+0200
TZOFFSETTO:+0100
TZNAME:CET
DTSTART:20191027T010000
END:STANDARD
BEGIN:DAYLIGHT
TZOFFSETFROM:+0100
TZOFFSETTO:+0200
TZNAME:CEST
DTSTART:20200329T010000
END:DAYLIGHT
BEGIN:STANDARD
TZOFFSETFROM:+0200
TZOFFSETTO:+0100
TZNAME:CET
DTSTART:20201025T010000
END:STANDARD
BEGIN:DAYLIGHT
TZOFFSETFROM:+0100
TZOFFSETTO:+0200
TZNAME:CEST
DTSTART:20210328T010000
END:DAYLIGHT
BEGIN:STANDARD
TZOFFSETFROM:+0200
TZOFFSETTO:+0100
TZNAME:CET
DTSTART:20211031T010000
END:STANDARD
END:VTIMEZONE
BEGIN:VEVENT
DTSTART;TZID=Europe/Prague:20200704T190000
DTEND;TZID=Europe/Prague:20200704T220000
DTSTAMP:20260419T181627
CREATED:20200623T072657Z
LAST-MODIFIED:20200623T072657Z
UID:33912-1593889200-1593900000@rocksound.cz
SUMMARY:Horkýže Slíže - Třebívlice
DESCRIPTION:Horkýže Slíže v Třebívlících (okres Litomeřice) na letní scéně ve Vinařství Johann W. 4.7.2020 \n\n\n19:00 Kohout plaší smrt\n20:00 Horkýže Slíže \nKapacita omezena\, v prodeji 500 vstupenek!\nVstupenka: 350 Kč\nPředprodej: https://xticket.cz
URL:https://rocksound.cz/akce/horkyze-slize-trebivlice/
LOCATION:Vinařství Johann W.
END:VEVENT
END:VCALENDAR