BEGIN:VCALENDAR
VERSION:2.0
PRODID:-//Rocksound - ECPv6.15.18//NONSGML v1.0//EN
CALSCALE:GREGORIAN
METHOD:PUBLISH
X-WR-CALNAME:Rocksound
X-ORIGINAL-URL:https://rocksound.cz
X-WR-CALDESC:Akce na Rocksound
REFRESH-INTERVAL;VALUE=DURATION:PT1H
X-Robots-Tag:noindex
X-PUBLISHED-TTL:PT1H
BEGIN:VTIMEZONE
TZID:Europe/Prague
BEGIN:DAYLIGHT
TZOFFSETFROM:+0100
TZOFFSETTO:+0200
TZNAME:CEST
DTSTART:20230326T010000
END:DAYLIGHT
BEGIN:STANDARD
TZOFFSETFROM:+0200
TZOFFSETTO:+0100
TZNAME:CET
DTSTART:20231029T010000
END:STANDARD
BEGIN:DAYLIGHT
TZOFFSETFROM:+0100
TZOFFSETTO:+0200
TZNAME:CEST
DTSTART:20240331T010000
END:DAYLIGHT
BEGIN:STANDARD
TZOFFSETFROM:+0200
TZOFFSETTO:+0100
TZNAME:CET
DTSTART:20241027T010000
END:STANDARD
BEGIN:DAYLIGHT
TZOFFSETFROM:+0100
TZOFFSETTO:+0200
TZNAME:CEST
DTSTART:20250330T010000
END:DAYLIGHT
BEGIN:STANDARD
TZOFFSETFROM:+0200
TZOFFSETTO:+0100
TZNAME:CET
DTSTART:20251026T010000
END:STANDARD
END:VTIMEZONE
BEGIN:VEVENT
DTSTART;TZID=Europe/Prague:20241130T190000
DTEND;TZID=Europe/Prague:20241130T233000
DTSTAMP:20260422T073908
CREATED:20241104T195542Z
LAST-MODIFIED:20241104T195542Z
UID:97890-1732993200-1733009400@rocksound.cz
SUMMARY:6arelyhuman + Hubithekid - Praha
DESCRIPTION:6arelyhuman během své poslední návštěvy v Praze sklidili obří úspěch ve vyprodaném Bike Jesus a tentokrát míří do většího. 6arelyhuman s nejnovějším EP “Harder n Faster” vystoupí 30. listopadu v pražském Storm Clubu\, kde rozpoutají melodic emo a scenecore peklo! \n Vstupenky v prodeji od 6. června\, 10:00\, na GoOut  https://goout.net/cs/6arelyhuman%2Bhubithekid/szjgffx/.\n6arelyhuman pochází z amerického Dallasu a jsou umělec inspirovaný melodickou a scene hudbou. 6arely tvoří energickou taneční\, popovou a klubovou hudbu a jsou průkopníkem nové vlny Scenecore. Proslavili se songem „Hands Up!“ z roku 2022\, na kterém se podíleli spolu s Pixel Hood a kets4eki\, a díky kterému se dostali na 14. místo v žebříčku Billboard’s Hot Dance/Electronic Songs. 6arelyhuman mají aktuálně přes 6\,7 milionu posluchačů měsíčně na Spotify a úspěch zaznamenali i na TikToku\, kde mají aktuálně přes 1\,3 milionů sledujících. Kromě nového EP potěšili fanoušky ještě novým květnovým singlem “Party Like The 80s”\, na kterém spolupracovali s kets4eki a asteria.\nPůvodně 6arelyhuman začali tvořit hudbu pod různými jmény (trippitoby nebo bichtoe) a vytvářeli převážně trap metal\, hardcore a trap music. Hudbu začali tvořit už v roce 2019\, ale většina skladeb ze začátku kariéry byla od té doby stažena ze streamovacích služeb a nikdy nebyla nikde archivována. K některým vydali i videoklipy a lyrics\, ale i ty byly odstraněny. Svou první skladbu vydali 22. března 2019\, a to „i dip i lean“.
URL:https://rocksound.cz/akce/6arelyhuman-hubithekid-praha/
LOCATION:Storm Club\, Tachovské nám. 2\, Praha 3
ATTACH;FMTTYPE=image/jpeg:https://rocksound.cz/wp-content/uploads/2024/11/458926271_1044245237069469_6988332729835792561_n.jpg
END:VEVENT
END:VCALENDAR