BEGIN:VCALENDAR
VERSION:2.0
PRODID:-//Rocksound - ECPv6.15.18//NONSGML v1.0//EN
CALSCALE:GREGORIAN
METHOD:PUBLISH
X-WR-CALNAME:Rocksound
X-ORIGINAL-URL:https://rocksound.cz
X-WR-CALDESC:Akce na Rocksound
REFRESH-INTERVAL;VALUE=DURATION:PT1H
X-Robots-Tag:noindex
X-PUBLISHED-TTL:PT1H
BEGIN:VTIMEZONE
TZID:Europe/Prague
BEGIN:DAYLIGHT
TZOFFSETFROM:+0100
TZOFFSETTO:+0200
TZNAME:CEST
DTSTART:20220327T010000
END:DAYLIGHT
BEGIN:STANDARD
TZOFFSETFROM:+0200
TZOFFSETTO:+0100
TZNAME:CET
DTSTART:20221030T010000
END:STANDARD
BEGIN:DAYLIGHT
TZOFFSETFROM:+0100
TZOFFSETTO:+0200
TZNAME:CEST
DTSTART:20230326T010000
END:DAYLIGHT
BEGIN:STANDARD
TZOFFSETFROM:+0200
TZOFFSETTO:+0100
TZNAME:CET
DTSTART:20231029T010000
END:STANDARD
BEGIN:DAYLIGHT
TZOFFSETFROM:+0100
TZOFFSETTO:+0200
TZNAME:CEST
DTSTART:20240331T010000
END:DAYLIGHT
BEGIN:STANDARD
TZOFFSETFROM:+0200
TZOFFSETTO:+0100
TZNAME:CET
DTSTART:20241027T010000
END:STANDARD
END:VTIMEZONE
BEGIN:VEVENT
DTSTART;TZID=Europe/Prague:20231007T193000
DTEND;TZID=Europe/Prague:20231007T233000
DTSTAMP:20260422T032547
CREATED:20230811T130629Z
LAST-MODIFIED:20230811T130629Z
UID:77311-1696707000-1696721400@rocksound.cz
SUMMARY:TUBLATANKA - PARDUBICE
DESCRIPTION:https://bit.ly/tublatanka2023\nTublatanka oslaví 40 let novým albem a velkolepým turné! Máme za sebou velice bohatou historii. Vznikla koncem roku 1982 a v následujících desetiletích přinesla hity jako Pravda víťazí\, Žeravé znamenie osudu\, Láska\, drž ma nad hladinou\, Šlabikár\, Skúsime to cez vesmír\, Priateľ\, Dnes a mnoho dalších.\nZa svojí existenci vydala Tublatanka jedenáct řadových alb a nyní přichází po jedenácti letech s novou deskou! Pro ni současná podoba kapely ve složení Maťo Ďurinda\, Juraj Topor a Peter Schlosser připravila čtrnáct nových písní. U příležitosti této novinky a zároveň výročí 40 let tato trojice vyráží na první opravdové turné po České republice pod názvem „Dobrí priatelia“!\nLegenda československé rockové scény během podzimu 2023 objede třináct prestižních míst. Jako speciální host na všech koncertech turné vystoupí Argema! Ta shodou okolností dosáhla stejného milníku tento rok.\n„Tublatanka Dobrí priatelia tour” startuje 28. září v Plzni a závěr připadne na pražskou a brněnskou sportovní halu 9. a 10. listopadu. Pro turné plánuje kapela i její host speciální playlisty\, strhující show se speciální scénou\, efekty a hlavě neopakovatelný hudební zážitek. Vždyť půjde o první plnohodnotné turné v tak bohaté historii kapely a spojení prezentace nového alba s kulatým výročím. To si rozhodně nenechte ujít!\nPředprodej v síti Ticketstream.\nhttps://bit.ly/tublatanka2023
URL:https://rocksound.cz/akce/tublatanka-pardubice/
LOCATION:IDEON Pardubice\, Jiráskova 1963\, Pardubice
ATTACH;FMTTYPE=image/jpeg:https://rocksound.cz/wp-content/uploads/2023/08/322072827_669086151520090_2185319683306847384_n.jpg
END:VEVENT
END:VCALENDAR