BEGIN:VCALENDAR
VERSION:2.0
PRODID:-//Rocksound - ECPv6.15.18//NONSGML v1.0//EN
CALSCALE:GREGORIAN
METHOD:PUBLISH
X-WR-CALNAME:Rocksound
X-ORIGINAL-URL:https://rocksound.cz
X-WR-CALDESC:Akce na Rocksound
REFRESH-INTERVAL;VALUE=DURATION:PT1H
X-Robots-Tag:noindex
X-PUBLISHED-TTL:PT1H
BEGIN:VTIMEZONE
TZID:Europe/Prague
BEGIN:DAYLIGHT
TZOFFSETFROM:+0100
TZOFFSETTO:+0200
TZNAME:CEST
DTSTART:20230326T010000
END:DAYLIGHT
BEGIN:STANDARD
TZOFFSETFROM:+0200
TZOFFSETTO:+0100
TZNAME:CET
DTSTART:20231029T010000
END:STANDARD
BEGIN:DAYLIGHT
TZOFFSETFROM:+0100
TZOFFSETTO:+0200
TZNAME:CEST
DTSTART:20240331T010000
END:DAYLIGHT
BEGIN:STANDARD
TZOFFSETFROM:+0200
TZOFFSETTO:+0100
TZNAME:CET
DTSTART:20241027T010000
END:STANDARD
BEGIN:DAYLIGHT
TZOFFSETFROM:+0100
TZOFFSETTO:+0200
TZNAME:CEST
DTSTART:20250330T010000
END:DAYLIGHT
BEGIN:STANDARD
TZOFFSETFROM:+0200
TZOFFSETTO:+0100
TZNAME:CET
DTSTART:20251026T010000
END:STANDARD
END:VTIMEZONE
BEGIN:VEVENT
DTSTART;TZID=Europe/Prague:20241027T200000
DTEND;TZID=Europe/Prague:20241027T233000
DTSTAMP:20260421T091044
CREATED:20240926T173344Z
LAST-MODIFIED:20240926T173344Z
UID:96500-1730059200-1730071800@rocksound.cz
SUMMARY:Imminence - Praha
DESCRIPTION:IMMINENCE se vydávají na evropské turné THE BLACK TOUR 2024 s novým albem. Na své cestě neminou ani PRAHU!\nPrůkopnická alternativní metalcorová parta z jižního pobřeží Švédska\, Imminence\, se v posledních letech rázně prosazuje v hudební sféře. Navzdory všem očekáváním\, vytvořila tato pětice pestrou zvukovou tapisérii\, která překračuje hranice jejich žánru.\nImminence\, v jehož čele stojí zpěvák a houslista Eddie Berg\, dále kytaristi Harald Barrett a Alex Arnoldsson\, bubeník Peter Hanström a baskytarista Christian Höijer\, jsou připraveni uvolnit své hudební dílo a připravované album s názvem „The Black“. Připravte se\, zhluboka se nadechněte\, protože Imminence nás chystá na velký skok do hlubin „The Black“. Slibuje jedinečnou hudební odyseu\, která se vymyká konvencím a vyzívá vás\, abyste se s nimi vydali na vzestup nového žánru.\nU toho byste rozhodně neměli chybět\, proto si poznačte do svých diářů datum 27.října a přijďte se přesvědčit o kvalitách této party do pražského MeetFactory.\nImminence loni začala novou kapitolu a od června 2023 již vyšlo 5 singlů. Nové skladby Come Hell or High Water\, Desolation\, Heaven Shall Burn\, Death by a Thousand Cuts a Continuum rychle získaly miliony streamů\, celosvětovou pozornost i obrovský nárůst sledovanosti na sociálních sítích.\nNejnovější skladby Imminence jsou důkazem jejich vývoje a jsou právem označovány jako jejich nejinovativnější a nejprogresivnější díla dosud. Kapela se vydala do temnější a více orchestrální sféry a pokračuje v redefinování hranic moderní alternativní scény.\nImminence nedávno absolvovali na své úplně první turné po Severní Americe a odezva byla více než mimořádná. Za pouhých 48 hodin bylo celé turné vyprodáno a některá místa dokonce dvakrát. Tento ohromující úspěch upevnil postavení Imminence na mezinárodní hudební scéně.\nS „The Black Tour“ se Imminence vrací na pódia a chystají se nastoupit na trůn jako nová síla v rámci moderní alternativní hudby. Tentokrát budou obrážet evropská města a jednu zastávku budou mít i u nás\, 27.10.2024 v MeetFactory v Praze! Tak si to nenechte ujít.\nSpeciálními hosty turné jsou kapely AVIANA a ALLT.
URL:https://rocksound.cz/akce/imminence-praha-3/
LOCATION:MeetFactory\, Ke Sklárně 3213/15\, Praha
ATTACH;FMTTYPE=image/jpeg:https://rocksound.cz/wp-content/uploads/2024/09/425390529_923086742915824_8872848895916571609_n.jpg
END:VEVENT
END:VCALENDAR