BEGIN:VCALENDAR
VERSION:2.0
PRODID:-//Rocksound - ECPv6.15.18//NONSGML v1.0//EN
CALSCALE:GREGORIAN
METHOD:PUBLISH
X-WR-CALNAME:Rocksound
X-ORIGINAL-URL:https://rocksound.cz
X-WR-CALDESC:Akce na Rocksound
REFRESH-INTERVAL;VALUE=DURATION:PT1H
X-Robots-Tag:noindex
X-PUBLISHED-TTL:PT1H
BEGIN:VTIMEZONE
TZID:Europe/Prague
BEGIN:DAYLIGHT
TZOFFSETFROM:+0100
TZOFFSETTO:+0200
TZNAME:CEST
DTSTART:20220327T010000
END:DAYLIGHT
BEGIN:STANDARD
TZOFFSETFROM:+0200
TZOFFSETTO:+0100
TZNAME:CET
DTSTART:20221030T010000
END:STANDARD
BEGIN:DAYLIGHT
TZOFFSETFROM:+0100
TZOFFSETTO:+0200
TZNAME:CEST
DTSTART:20230326T010000
END:DAYLIGHT
BEGIN:STANDARD
TZOFFSETFROM:+0200
TZOFFSETTO:+0100
TZNAME:CET
DTSTART:20231029T010000
END:STANDARD
BEGIN:DAYLIGHT
TZOFFSETFROM:+0100
TZOFFSETTO:+0200
TZNAME:CEST
DTSTART:20240331T010000
END:DAYLIGHT
BEGIN:STANDARD
TZOFFSETFROM:+0200
TZOFFSETTO:+0100
TZNAME:CET
DTSTART:20241027T010000
END:STANDARD
END:VTIMEZONE
BEGIN:VEVENT
DTSTART;TZID=Europe/Prague:20230812T190000
DTEND;TZID=Europe/Prague:20230812T233000
DTSTAMP:20260422T225436
CREATED:20230724T120636Z
LAST-MODIFIED:20230724T120636Z
UID:76153-1691866800-1691883000@rocksound.cz
SUMMARY:IVAN HLAS TRIO & ŽLUTÝ PES - Zelčín
DESCRIPTION:V sobotu 12. srpna se v Zelčíně chystá dvojkoncert Ivana Hlas a Žlutého psa.\nPřijďte si poslechnout a zazpívat známé hity na dalším hudebním večeru Zelčínského Léta 2023\, určitě budete znát úplně všechny  Začínáme v 19. hodin.
URL:https://rocksound.cz/akce/ivan-hlas-trio-zluty-pes-zelcin/
LOCATION:Zoopark Zelčín\, Zelčín 1\, Zelčín
ATTACH;FMTTYPE=image/jpeg:https://rocksound.cz/wp-content/uploads/2023/07/354217458_741294704669458_8958056955157887685_n.jpg
ORGANIZER;CN="Zoopark Zel%C4%8D%C3%ADn":MAILTO:info@zooparkzelcin.cz
END:VEVENT
END:VCALENDAR