BEGIN:VCALENDAR
VERSION:2.0
PRODID:-//Rocksound - ECPv6.15.18//NONSGML v1.0//EN
CALSCALE:GREGORIAN
METHOD:PUBLISH
X-WR-CALNAME:Rocksound
X-ORIGINAL-URL:https://rocksound.cz
X-WR-CALDESC:Akce na Rocksound
REFRESH-INTERVAL;VALUE=DURATION:PT1H
X-Robots-Tag:noindex
X-PUBLISHED-TTL:PT1H
BEGIN:VTIMEZONE
TZID:Europe/Prague
BEGIN:DAYLIGHT
TZOFFSETFROM:+0100
TZOFFSETTO:+0200
TZNAME:CEST
DTSTART:20180325T010000
END:DAYLIGHT
BEGIN:STANDARD
TZOFFSETFROM:+0200
TZOFFSETTO:+0100
TZNAME:CET
DTSTART:20181028T010000
END:STANDARD
BEGIN:DAYLIGHT
TZOFFSETFROM:+0100
TZOFFSETTO:+0200
TZNAME:CEST
DTSTART:20190331T010000
END:DAYLIGHT
BEGIN:STANDARD
TZOFFSETFROM:+0200
TZOFFSETTO:+0100
TZNAME:CET
DTSTART:20191027T010000
END:STANDARD
BEGIN:DAYLIGHT
TZOFFSETFROM:+0100
TZOFFSETTO:+0200
TZNAME:CEST
DTSTART:20200329T010000
END:DAYLIGHT
BEGIN:STANDARD
TZOFFSETFROM:+0200
TZOFFSETTO:+0100
TZNAME:CET
DTSTART:20201025T010000
END:STANDARD
END:VTIMEZONE
BEGIN:VEVENT
DTSTART;TZID=Europe/Prague:20191005T200000
DTEND;TZID=Europe/Prague:20191005T230000
DTSTAMP:20260423T045152
CREATED:20190824T203322Z
LAST-MODIFIED:20190824T203322Z
UID:21634-1570305600-1570316400@rocksound.cz
SUMMARY:Katapult - Třebíč
DESCRIPTION:Vstupenky v předprodeji: 350 Kč\nVstupenky na místě: 420 Kč
URL:https://rocksound.cz/akce/katapult-trebic/
LOCATION:Fórum Třebíč\, Masarykovo náměstí 1313/12\, Třebíč
END:VEVENT
BEGIN:VEVENT
DTSTART;TZID=Europe/Prague:20191010T190000
DTEND;TZID=Europe/Prague:20191010T230000
DTSTAMP:20260423T045152
CREATED:20190929T172337Z
LAST-MODIFIED:20190929T172337Z
UID:23227-1570734000-1570748400@rocksound.cz
SUMMARY:Katapult - Plzeň
DESCRIPTION:Dnes již legendární kapela Katapult si pro vás přichystala opravdovou lahůdku. Výběr svých zlatých hitů zahraje 10. 10. v KD Šeříková. \n\n\nVstup od: 18:00 \nPředprodej vstupenek v síti Ticketstream.
URL:https://rocksound.cz/akce/katapult-plzen/
LOCATION:KD Šeříková\, Šeříková 2428/13\, Plzeň
END:VEVENT
END:VCALENDAR