BEGIN:VCALENDAR
VERSION:2.0
PRODID:-//Rocksound - ECPv6.15.18//NONSGML v1.0//EN
CALSCALE:GREGORIAN
METHOD:PUBLISH
X-WR-CALNAME:Rocksound
X-ORIGINAL-URL:https://rocksound.cz
X-WR-CALDESC:Akce na Rocksound
REFRESH-INTERVAL;VALUE=DURATION:PT1H
X-Robots-Tag:noindex
X-PUBLISHED-TTL:PT1H
BEGIN:VTIMEZONE
TZID:Europe/Prague
BEGIN:DAYLIGHT
TZOFFSETFROM:+0100
TZOFFSETTO:+0200
TZNAME:CEST
DTSTART:20220327T010000
END:DAYLIGHT
BEGIN:STANDARD
TZOFFSETFROM:+0200
TZOFFSETTO:+0100
TZNAME:CET
DTSTART:20221030T010000
END:STANDARD
BEGIN:DAYLIGHT
TZOFFSETFROM:+0100
TZOFFSETTO:+0200
TZNAME:CEST
DTSTART:20230326T010000
END:DAYLIGHT
BEGIN:STANDARD
TZOFFSETFROM:+0200
TZOFFSETTO:+0100
TZNAME:CET
DTSTART:20231029T010000
END:STANDARD
BEGIN:DAYLIGHT
TZOFFSETFROM:+0100
TZOFFSETTO:+0200
TZNAME:CEST
DTSTART:20240331T010000
END:DAYLIGHT
BEGIN:STANDARD
TZOFFSETFROM:+0200
TZOFFSETTO:+0100
TZNAME:CET
DTSTART:20241027T010000
END:STANDARD
END:VTIMEZONE
BEGIN:VEVENT
DTSTART;TZID=Europe/Prague:20230324T193000
DTEND;TZID=Europe/Prague:20230324T233000
DTSTAMP:20260419T151503
CREATED:20230321T141054Z
LAST-MODIFIED:20230321T141054Z
UID:69215-1679686200-1679700600@rocksound.cz
SUMMARY:Harlej - Herálec
DESCRIPTION:Kapela Harlej se vrací do Herálce!\nPřijďte si užít rockový večer!\nSoučástí večera bude i autogramiáda kapely.\nOtevření vstupů: 19:30\nAutogramiáda: 20:30\nKoncert: 21:30\nVstupenky již teď v předprodeji v síti ticketstream!
URL:https://rocksound.cz/akce/harlej-heralec-2/
LOCATION:KD Herálec\, Herálec 401\, Herálec u Žďáru nad Sázavou
ATTACH;FMTTYPE=image/jpeg:https://rocksound.cz/wp-content/uploads/2023/03/324079018_1895405424129470_3314792021716855801_n.jpg
END:VEVENT
END:VCALENDAR