BEGIN:VCALENDAR
VERSION:2.0
PRODID:-//Rocksound - ECPv6.15.18//NONSGML v1.0//EN
CALSCALE:GREGORIAN
METHOD:PUBLISH
X-WR-CALNAME:Rocksound
X-ORIGINAL-URL:https://rocksound.cz
X-WR-CALDESC:Akce na Rocksound
REFRESH-INTERVAL;VALUE=DURATION:PT1H
X-Robots-Tag:noindex
X-PUBLISHED-TTL:PT1H
BEGIN:VTIMEZONE
TZID:Europe/Prague
BEGIN:DAYLIGHT
TZOFFSETFROM:+0100
TZOFFSETTO:+0200
TZNAME:CEST
DTSTART:20220327T010000
END:DAYLIGHT
BEGIN:STANDARD
TZOFFSETFROM:+0200
TZOFFSETTO:+0100
TZNAME:CET
DTSTART:20221030T010000
END:STANDARD
BEGIN:DAYLIGHT
TZOFFSETFROM:+0100
TZOFFSETTO:+0200
TZNAME:CEST
DTSTART:20230326T010000
END:DAYLIGHT
BEGIN:STANDARD
TZOFFSETFROM:+0200
TZOFFSETTO:+0100
TZNAME:CET
DTSTART:20231029T010000
END:STANDARD
BEGIN:DAYLIGHT
TZOFFSETFROM:+0100
TZOFFSETTO:+0200
TZNAME:CEST
DTSTART:20240331T010000
END:DAYLIGHT
BEGIN:STANDARD
TZOFFSETFROM:+0200
TZOFFSETTO:+0100
TZNAME:CET
DTSTART:20241027T010000
END:STANDARD
END:VTIMEZONE
BEGIN:VEVENT
DTSTART;TZID=Europe/Prague:20231209T190000
DTEND;TZID=Europe/Prague:20231209T230000
DTSTAMP:20260419T184623
CREATED:20231206T140523Z
LAST-MODIFIED:20231206T140523Z
UID:84988-1702148400-1702162800@rocksound.cz
SUMMARY:Arakain + Argema - Herálec
DESCRIPTION:ARAKAIN UZAVŘE OSLAVY 40 LET PODZIMNÍM TURNÉ\nMetalová legenda Arakain na jaře oslavila neuvěřitelných 40 let na české hudební scéně vyprodaným velkolepým koncertem v pražské O2 universu. Z této největší show v úctyhodné historii kapely byl pořizován bohatý videozáznam\, který vydavatelství Supraphon veřejnosti představí právě na konci letošního roku. A při této příležitosti Arakain vyráží na klubové turné.\nPodzimní turné tak symbolicky završí čtyřicetiletou éru Arakainu na šestnácti zastávkách napříč republikou. Na závěr koncertního roku kapela zvolila spíše menší prostory s komornější atmosférou\, kde má své fanoušky nadosah. Po hale s obří výpravou\, scénou\, efekty a po velkých open air koncertech a festivalech se vrátí tam\, kde je hudební zážitek nejpřirozenější a postavený na síle písní. Těch má Arakain za svoji kariéru více než dost a jistě nebude jednoduché poskládat téměř dvouhodinový playlist. Samozřejmě nebudou chybět největší hity kariéry v podání skvělého frontmana Honzy Toužimského. Fanoušci se budou moci s kapelou vyfotit či ulovit podpis hudebníků na autogramiádách před koncerty.\nArakain club tour 2023 začíná 29.9. v Kladně a končí 16.12. v Plzni. Na seznamu zastávek nechybí tradiční pražská Barča a mnoho dalších oblíbených koncertních štací jako jsou Masters of Rock café nebo ostravská Garage.\nVíce informací naleznete na www.arakain.eu a Facebookovém profilu https://www.facebook.com/arakain/
URL:https://rocksound.cz/akce/arakain-argema-heralec/
LOCATION:KD Herálec\, Herálec 401\, Herálec u Žďáru nad Sázavou
ATTACH;FMTTYPE=image/jpeg:https://rocksound.cz/wp-content/uploads/2023/12/376823401_858949585587068_1889659539018748367_n.jpg
END:VEVENT
END:VCALENDAR