BEGIN:VCALENDAR
VERSION:2.0
PRODID:-//Rocksound - ECPv6.15.18//NONSGML v1.0//EN
CALSCALE:GREGORIAN
METHOD:PUBLISH
X-WR-CALNAME:Rocksound
X-ORIGINAL-URL:https://rocksound.cz
X-WR-CALDESC:Akce na Rocksound
REFRESH-INTERVAL;VALUE=DURATION:PT1H
X-Robots-Tag:noindex
X-PUBLISHED-TTL:PT1H
BEGIN:VTIMEZONE
TZID:Europe/Prague
BEGIN:DAYLIGHT
TZOFFSETFROM:+0100
TZOFFSETTO:+0200
TZNAME:CEST
DTSTART:20220327T010000
END:DAYLIGHT
BEGIN:STANDARD
TZOFFSETFROM:+0200
TZOFFSETTO:+0100
TZNAME:CET
DTSTART:20221030T010000
END:STANDARD
BEGIN:DAYLIGHT
TZOFFSETFROM:+0100
TZOFFSETTO:+0200
TZNAME:CEST
DTSTART:20230326T010000
END:DAYLIGHT
BEGIN:STANDARD
TZOFFSETFROM:+0200
TZOFFSETTO:+0100
TZNAME:CET
DTSTART:20231029T010000
END:STANDARD
BEGIN:DAYLIGHT
TZOFFSETFROM:+0100
TZOFFSETTO:+0200
TZNAME:CEST
DTSTART:20240331T010000
END:DAYLIGHT
BEGIN:STANDARD
TZOFFSETFROM:+0200
TZOFFSETTO:+0100
TZNAME:CET
DTSTART:20241027T010000
END:STANDARD
END:VTIMEZONE
BEGIN:VEVENT
DTSTART;TZID=Europe/Prague:20231229T190000
DTEND;TZID=Europe/Prague:20231229T230000
DTSTAMP:20260423T164041
CREATED:20231216T201958Z
LAST-MODIFIED:20231216T201958Z
UID:85390-1703876400-1703890800@rocksound.cz
SUMMARY:Turbo & Kern - Dolní Kounice
DESCRIPTION:Poslední koncert kapely KERN!\nPo více než 40 letech na hudební scéně kapela Kern oznamuje svůj závěrečný koncert\, který se uskuteční 29. prosince 2023 v Dolních Kounicích.\nKern se stali ikonou české hudby a jejich písně\, jako je „Blízko nás“ a „Exploze\,“ zůstanou v srdcích fanoušků navždy. Tento koncert bude emocionálním a hudebním zážitkem\, který nesmíte minout. Přijďte se připojit k oslavě kariéry kapely Kern na jejich posledním koncertu.\nSpolu s KERN vystoupí také legendární kapela Turbo\, která předvede svůj dvouhodinový koncert\, v němž nemohou chybět nesmrtelné stálice typu Láska z pasáží\, Díky já jdu dál\, Hráč nebo Chtěl jsem mít..\nKoncert byl původně plánován na 16. listopadu 2023\, ale z technických důvodů byl přesunut na nový termín 29. prosince 2023. Původní vstupenky zůstávají v platnosti\, a nové vstupenky na tento nový termín jsou k dostání v síti smsticket a v KIC Dolní Kounice.\nVzhledem k omezené kapacitě doporučujeme včasný nákup vstupenek\, abyste nezmeškali tuto historickou událost!\nPředprodej zde:\nwww.smsticket.cz/vstupenky/35413\nVstupenky k dostání také v KIC Dolní Kounice.\nHarmonogram :\n19:00 Open\n20:00 Turbo\n22:00 Kern
URL:https://rocksound.cz/akce/turbo-kern-dolni-kounice/
LOCATION:KD Dolní Kounice\, Masarykovo náměstí 63/5\, Dolní Kounice
ATTACH;FMTTYPE=image/jpeg:https://rocksound.cz/wp-content/uploads/2023/12/409472370_758249966319481_7292653245155363730_n.jpg
ORGANIZER;CN="Art-Ist agency":MAILTO:info@art-ist.cz
END:VEVENT
END:VCALENDAR