BEGIN:VCALENDAR
VERSION:2.0
PRODID:-//Rocksound - ECPv6.15.18//NONSGML v1.0//EN
CALSCALE:GREGORIAN
METHOD:PUBLISH
X-WR-CALNAME:Rocksound
X-ORIGINAL-URL:https://rocksound.cz
X-WR-CALDESC:Akce na Rocksound
REFRESH-INTERVAL;VALUE=DURATION:PT1H
X-Robots-Tag:noindex
X-PUBLISHED-TTL:PT1H
BEGIN:VTIMEZONE
TZID:Europe/Prague
BEGIN:DAYLIGHT
TZOFFSETFROM:+0100
TZOFFSETTO:+0200
TZNAME:CEST
DTSTART:20210328T010000
END:DAYLIGHT
BEGIN:STANDARD
TZOFFSETFROM:+0200
TZOFFSETTO:+0100
TZNAME:CET
DTSTART:20211031T010000
END:STANDARD
BEGIN:DAYLIGHT
TZOFFSETFROM:+0100
TZOFFSETTO:+0200
TZNAME:CEST
DTSTART:20220327T010000
END:DAYLIGHT
BEGIN:STANDARD
TZOFFSETFROM:+0200
TZOFFSETTO:+0100
TZNAME:CET
DTSTART:20221030T010000
END:STANDARD
BEGIN:DAYLIGHT
TZOFFSETFROM:+0100
TZOFFSETTO:+0200
TZNAME:CEST
DTSTART:20230326T010000
END:DAYLIGHT
BEGIN:STANDARD
TZOFFSETFROM:+0200
TZOFFSETTO:+0100
TZNAME:CET
DTSTART:20231029T010000
END:STANDARD
END:VTIMEZONE
BEGIN:VEVENT
DTSTART;TZID=Europe/Prague:20220326T200000
DTEND;TZID=Europe/Prague:20220326T233000
DTSTAMP:20260419T172057
CREATED:20220313T072938Z
LAST-MODIFIED:20220313T072938Z
UID:50164-1648324800-1648337400@rocksound.cz
SUMMARY:Totální nasazení\, The Fialky\, Nežfaleš – Tour2022 - Uh. Hradiště
DESCRIPTION:PUNK ROCK RÁDIO Tour .\nSpolečné turné kapel TOTÁLNÍ NASAZENÍ\, THE FIALKY A NEŽFALEŠ\nTurné je pokračováním úspěšné šňůry po kulturních domech\, která proběhla na jaře minulého roku u příležitosti vydání nového alba (Kazoo or Die!) kapely Totální nasazení.\nV roce 2020 vychází pro změnu novinka kapele The Fialky\, která ponese název Punk rock rádio. Odtud i název aktuálního turné. Třetího do party si kapely tentokrát vybraly „služebně“ nejmladšího parťáka – punk rockovou Nežfaleš.\nNa vybraných místech doplní tuto společnost buď slánští Deratizéři nebo Dilemma in Cinema (obě kapely personálně propojeny s Totálním nasazením).\nNa rozdíl od minulého roku kapely zavítají kromě kulturních domů i do několika velkých klubů. Vrátí se na osvědčená místa\, ale dorazí i do zcela nových prostor.\nLine up a support ASAP.\nPředprodej – TICKETMASTER\nhttps://www.ticketmaster.cz/…/punk-rock-radio…/29939\nwww.forfunagency.cz
URL:https://rocksound.cz/akce/totalni-nasazeni-the-fialky-nezfales-tour2022-uh-hradiste/
LOCATION:Klub Mír\, náměstí Míru 76\, Uherské Hradiště
ATTACH;FMTTYPE=image/jpeg:https://rocksound.cz/wp-content/uploads/2022/03/273463216_5390098017689610_7067924297450963587_n.jpg
ORGANIZER;CN="ForFUN":MAILTO:info@forfunagency.cz
END:VEVENT
END:VCALENDAR