BEGIN:VCALENDAR
VERSION:2.0
PRODID:-//Rocksound - ECPv6.15.18//NONSGML v1.0//EN
CALSCALE:GREGORIAN
METHOD:PUBLISH
X-WR-CALNAME:Rocksound
X-ORIGINAL-URL:https://rocksound.cz
X-WR-CALDESC:Akce na Rocksound
REFRESH-INTERVAL;VALUE=DURATION:PT1H
X-Robots-Tag:noindex
X-PUBLISHED-TTL:PT1H
BEGIN:VTIMEZONE
TZID:Europe/Prague
BEGIN:DAYLIGHT
TZOFFSETFROM:+0100
TZOFFSETTO:+0200
TZNAME:CEST
DTSTART:20220327T010000
END:DAYLIGHT
BEGIN:STANDARD
TZOFFSETFROM:+0200
TZOFFSETTO:+0100
TZNAME:CET
DTSTART:20221030T010000
END:STANDARD
BEGIN:DAYLIGHT
TZOFFSETFROM:+0100
TZOFFSETTO:+0200
TZNAME:CEST
DTSTART:20230326T010000
END:DAYLIGHT
BEGIN:STANDARD
TZOFFSETFROM:+0200
TZOFFSETTO:+0100
TZNAME:CET
DTSTART:20231029T010000
END:STANDARD
BEGIN:DAYLIGHT
TZOFFSETFROM:+0100
TZOFFSETTO:+0200
TZNAME:CEST
DTSTART:20240331T010000
END:DAYLIGHT
BEGIN:STANDARD
TZOFFSETFROM:+0200
TZOFFSETTO:+0100
TZNAME:CET
DTSTART:20241027T010000
END:STANDARD
END:VTIMEZONE
BEGIN:VEVENT
DTSTART;TZID=Europe/Prague:20230414T200000
DTEND;TZID=Europe/Prague:20230414T233000
DTSTAMP:20260419T175228
CREATED:20230404T183140Z
LAST-MODIFIED:20230404T183140Z
UID:69896-1681502400-1681515000@rocksound.cz
SUMMARY:Protheus - Závislosti tour - Teplice
DESCRIPTION:Protheus a jeho parta ostřílených rockových matadorů vyráží na jarní část turné ke zlaté desce Závislosti.\nPo velkém úspěchu prvního sólového turné zpěváka a textaře metalových Dymytry\, přichází jarní část tour plná muziky\, dobrého piva\, radosti ze života a sexu.\nTam nesmíš chybět!
URL:https://rocksound.cz/akce/protheus-zavislosti-tour-teplice/
LOCATION:KNAK Teplice\, Rooseveltovo náměstí 3\, Teplice
ATTACH;FMTTYPE=image/jpeg:https://rocksound.cz/wp-content/uploads/2023/04/323887509_916416052863413_2307617152915693505_n.jpg
ORGANIZER;CN="Protheus":MAILTO:protheus@dymytry.cz
END:VEVENT
END:VCALENDAR