BEGIN:VCALENDAR
VERSION:2.0
PRODID:-//Rocksound - ECPv6.15.18//NONSGML v1.0//EN
CALSCALE:GREGORIAN
METHOD:PUBLISH
X-ORIGINAL-URL:https://rocksound.cz
X-WR-CALDESC:Akce na Rocksound
REFRESH-INTERVAL;VALUE=DURATION:PT1H
X-Robots-Tag:noindex
X-PUBLISHED-TTL:PT1H
BEGIN:VTIMEZONE
TZID:Europe/Prague
BEGIN:DAYLIGHT
TZOFFSETFROM:+0100
TZOFFSETTO:+0200
TZNAME:CEST
DTSTART:20210328T010000
END:DAYLIGHT
BEGIN:STANDARD
TZOFFSETFROM:+0200
TZOFFSETTO:+0100
TZNAME:CET
DTSTART:20211031T010000
END:STANDARD
BEGIN:DAYLIGHT
TZOFFSETFROM:+0100
TZOFFSETTO:+0200
TZNAME:CEST
DTSTART:20220327T010000
END:DAYLIGHT
BEGIN:STANDARD
TZOFFSETFROM:+0200
TZOFFSETTO:+0100
TZNAME:CET
DTSTART:20221030T010000
END:STANDARD
BEGIN:DAYLIGHT
TZOFFSETFROM:+0100
TZOFFSETTO:+0200
TZNAME:CEST
DTSTART:20230326T010000
END:DAYLIGHT
BEGIN:STANDARD
TZOFFSETFROM:+0200
TZOFFSETTO:+0100
TZNAME:CET
DTSTART:20231029T010000
END:STANDARD
END:VTIMEZONE
BEGIN:VEVENT
DTSTART;TZID=Europe/Prague:20220612T170000
DTEND;TZID=Europe/Prague:20220612T220000
DTSTAMP:20260419T160636
CREATED:20220510T184448Z
LAST-MODIFIED:20220510T184448Z
UID:53291-1655053200-1655071200@rocksound.cz
SUMMARY:The Offspring + Dog Eat Dog\, Story Untold\, Krang - Prague Summer Festival 2022 - Praha
DESCRIPTION:The Offspring přijedou do Prahy v novém termínu 12. června 2022! \nVstupenky z původního termínu (2. 7. 2020 či 7. 6. 2021) zůstávají v platnosti. / The tickets from the postponned show (July 2\, 2020 or June 7\, 2021) remain valid.\nNa pražském koncertě The Offspring doprovodí Dog Eat Dog\, Story Untold a Krang!\nFOR ENGLISH PLEASE SCROLL DOWN\nV rámci série koncertů Prague Summer Festival vystoupí také američtí punk rockeři The Offspring. Tvůrci nezapomenutelných hitů jako „All I Want“\, „Original Prankster“\, „Bad Habit“\, „Gotta Get Away“\, „Why Don’t You Get a Job?“ nebo „Pretty Fly (For a White Guy)“ se dali dohromady roku 1984 v Kalifornii pod názvem Manic Subsidal.\nPrůlom přišel až o deset let později s vydáním třetí studiovky Smash\, multiplatinového alba s více než 11 miliony prodaných kopií. Platiny se dočkaly i následující desky Hombre\, Americana či Conspiracy of One. Muzika The Offspring zazněla ve filmových snímcích (Batman navždy\, Já\, mé druhé já a Irena\, Prci\, Prci\, Prcičky\, Tajemství loňského léta aj.) a mnoha videohrách.\nKapela mluví také o brzkém vydání desátého alba\, na kterém opět pracují s producentem Bobem Rockem. Fanoušci se tak letos mají na co těšit. Současnou sestavu tvoří zpěvák a kytarista Dexter Holland\, kytarista Kevin “Noodles” Wasserman\, bubeník Pete Prada a baskytarista Todd Morse.\n………………………………………………………………\nThe Offspring (originally Manic Subsidal) were founded in the mid-80s by guitarist Bryan „Dexter“ Holland and bassist Greg K. Their first big success came in 1994 with the release of the third studio album ‚Smash‘\, which became still the biggest selling album ever released on an indie label. The album has sold over 12 million copies and garnered six platinum awards. This was followed by albums such as Ixnay on the Hombre\, Americana and Conspiracy of One. The punk rock band have announced their 10th studio album\, which has been completed and it’ll soon be ready for release.\nThe Offspring will be accompanied by Dog Eat Dog\, Story Untold and Krang!
URL:https://rocksound.cz/akce/the-offspring-dog-eat-dog-story-untold-krang-prague-summer-festival-2022-praha/
LOCATION:Power Station Holešovice\, Za Elektrárnou 781\, Praha
ATTACH;FMTTYPE=image/jpeg:https://rocksound.cz/wp-content/uploads/2022/05/278871920_537369571077789_6738494819525792451_n.jpg
END:VEVENT
END:VCALENDAR