BEGIN:VCALENDAR
VERSION:2.0
PRODID:-//Rocksound - ECPv6.15.18//NONSGML v1.0//EN
CALSCALE:GREGORIAN
METHOD:PUBLISH
X-WR-CALNAME:Rocksound
X-ORIGINAL-URL:https://rocksound.cz
X-WR-CALDESC:Akce na Rocksound
REFRESH-INTERVAL;VALUE=DURATION:PT1H
X-Robots-Tag:noindex
X-PUBLISHED-TTL:PT1H
BEGIN:VTIMEZONE
TZID:Europe/Prague
BEGIN:DAYLIGHT
TZOFFSETFROM:+0100
TZOFFSETTO:+0200
TZNAME:CEST
DTSTART:20210328T010000
END:DAYLIGHT
BEGIN:STANDARD
TZOFFSETFROM:+0200
TZOFFSETTO:+0100
TZNAME:CET
DTSTART:20211031T010000
END:STANDARD
BEGIN:DAYLIGHT
TZOFFSETFROM:+0100
TZOFFSETTO:+0200
TZNAME:CEST
DTSTART:20220327T010000
END:DAYLIGHT
BEGIN:STANDARD
TZOFFSETFROM:+0200
TZOFFSETTO:+0100
TZNAME:CET
DTSTART:20221030T010000
END:STANDARD
BEGIN:DAYLIGHT
TZOFFSETFROM:+0100
TZOFFSETTO:+0200
TZNAME:CEST
DTSTART:20230326T010000
END:DAYLIGHT
BEGIN:STANDARD
TZOFFSETFROM:+0200
TZOFFSETTO:+0100
TZNAME:CET
DTSTART:20231029T010000
END:STANDARD
END:VTIMEZONE
BEGIN:VEVENT
DTSTART;TZID=Europe/Prague:20221007T200000
DTEND;TZID=Europe/Prague:20221007T233000
DTSTAMP:20260419T162211
CREATED:20220812T163604Z
LAST-MODIFIED:20220812T163604Z
UID:57999-1665172800-1665185400@rocksound.cz
SUMMARY:CITRON - Supi se slétají 2 - Zliv
DESCRIPTION:Skupina \,\,CITRON\,\, legenda HARD and HEAVY METALU v čechách s lídrem Láďou Křížkem a jako support vystoupí slováci SYMFOBIA
URL:https://rocksound.cz/akce/citron-supi-se-sletaji-2-zliv/
LOCATION:KD Zliv\, Dolní nám. 585\, Zliv\, 373 44
ATTACH;FMTTYPE=image/jpeg:https://rocksound.cz/wp-content/uploads/2022/08/282624781_517882516716497_4736847653225374927_n.jpg
END:VEVENT
END:VCALENDAR