BEGIN:VCALENDAR
VERSION:2.0
PRODID:-//Rocksound - ECPv6.15.18//NONSGML v1.0//EN
CALSCALE:GREGORIAN
METHOD:PUBLISH
X-WR-CALNAME:Rocksound
X-ORIGINAL-URL:https://rocksound.cz
X-WR-CALDESC:Akce na Rocksound
REFRESH-INTERVAL;VALUE=DURATION:PT1H
X-Robots-Tag:noindex
X-PUBLISHED-TTL:PT1H
BEGIN:VTIMEZONE
TZID:Europe/Prague
BEGIN:DAYLIGHT
TZOFFSETFROM:+0100
TZOFFSETTO:+0200
TZNAME:CEST
DTSTART:20220327T010000
END:DAYLIGHT
BEGIN:STANDARD
TZOFFSETFROM:+0200
TZOFFSETTO:+0100
TZNAME:CET
DTSTART:20221030T010000
END:STANDARD
BEGIN:DAYLIGHT
TZOFFSETFROM:+0100
TZOFFSETTO:+0200
TZNAME:CEST
DTSTART:20230326T010000
END:DAYLIGHT
BEGIN:STANDARD
TZOFFSETFROM:+0200
TZOFFSETTO:+0100
TZNAME:CET
DTSTART:20231029T010000
END:STANDARD
BEGIN:DAYLIGHT
TZOFFSETFROM:+0100
TZOFFSETTO:+0200
TZNAME:CEST
DTSTART:20240331T010000
END:DAYLIGHT
BEGIN:STANDARD
TZOFFSETFROM:+0200
TZOFFSETTO:+0100
TZNAME:CET
DTSTART:20241027T010000
END:STANDARD
END:VTIMEZONE
BEGIN:VEVENT
DTSTART;TZID=Europe/Prague:20230609T160000
DTEND;TZID=Europe/Prague:20230609T230000
DTSTAMP:20260419T153623
CREATED:20230418T184918Z
LAST-MODIFIED:20230418T184918Z
UID:70939-1686326400-1686351600@rocksound.cz
SUMMARY:Horkýže Slíže ★ Walda Gang ★ Komunál ★ Plesnivý Fazole - Loket
DESCRIPTION:Horkýže Slíže ★ Walda Gang ★ Komunál ★ Plesnivý Fazole\nVSTUPNÉ: 590 Kč (předprodej) / 690 Kč (na místě) / 2.090 Kč (vstupenka pro 4 osoby – JEN V PŘEDPRODEJI)\nČASOVÝ PLÁN (rámcový)\n15:00 … otevření amfiteátru\n16:00 – 17:00 … Plesnivý Fazole\n17:30 – 18:45 … Komunál\n19:30 – 20:45 … Walda Gang\n21:30 – 23:00 … Horkýže Slíže
URL:https://rocksound.cz/akce/horkyze-slize-%e2%98%85-walda-gang-%e2%98%85-komunal-%e2%98%85-plesnivy-fazole-loket/
LOCATION:Amfiteátr Loket\, Zahradní\, Loket
ATTACH;FMTTYPE=image/jpeg:https://rocksound.cz/wp-content/uploads/2023/04/313009383_599299545322501_1531812310777647095_n.jpg
END:VEVENT
END:VCALENDAR