BEGIN:VCALENDAR
VERSION:2.0
PRODID:-//Rocksound - ECPv6.15.18//NONSGML v1.0//EN
CALSCALE:GREGORIAN
METHOD:PUBLISH
X-WR-CALNAME:Rocksound
X-ORIGINAL-URL:https://rocksound.cz
X-WR-CALDESC:Akce na Rocksound
REFRESH-INTERVAL;VALUE=DURATION:PT1H
X-Robots-Tag:noindex
X-PUBLISHED-TTL:PT1H
BEGIN:VTIMEZONE
TZID:Europe/Prague
BEGIN:DAYLIGHT
TZOFFSETFROM:+0100
TZOFFSETTO:+0200
TZNAME:CEST
DTSTART:20210328T010000
END:DAYLIGHT
BEGIN:STANDARD
TZOFFSETFROM:+0200
TZOFFSETTO:+0100
TZNAME:CET
DTSTART:20211031T010000
END:STANDARD
BEGIN:DAYLIGHT
TZOFFSETFROM:+0100
TZOFFSETTO:+0200
TZNAME:CEST
DTSTART:20220327T010000
END:DAYLIGHT
BEGIN:STANDARD
TZOFFSETFROM:+0200
TZOFFSETTO:+0100
TZNAME:CET
DTSTART:20221030T010000
END:STANDARD
BEGIN:DAYLIGHT
TZOFFSETFROM:+0100
TZOFFSETTO:+0200
TZNAME:CEST
DTSTART:20230326T010000
END:DAYLIGHT
BEGIN:STANDARD
TZOFFSETFROM:+0200
TZOFFSETTO:+0100
TZNAME:CET
DTSTART:20231029T010000
END:STANDARD
END:VTIMEZONE
BEGIN:VEVENT
DTSTART;TZID=Europe/Prague:20220604T140000
DTEND;TZID=Europe/Prague:20220604T233000
DTSTAMP:20260423T115107
CREATED:20220508T173828Z
LAST-MODIFIED:20220508T173828Z
UID:53218-1654351200-1654385400@rocksound.cz
SUMMARY:FERBY FEST 2022 - Velké Bílovice
DESCRIPTION:Pravidelný Rockový festival v jedné z největších vinařských obcí v České republice. \n\n\nAkce je pořádána jako vzpomínka na jednoho zesnulého kamaráda a postupem času přerostla v pravidelný a vyhledávaný festival. \nV minulosti na festivalu vystoupili kapely jako ALKEHOL\, ARAKAIN\, DYMYTRY\, ŠKWOR\, HARLEJ\, RYBIČKY 48\, VISACÍ ZÁMEK\, TRAUTENBERK\, WOHNOUT\, DOGA a mnoho dalších. \nVěříme\, že i tento 15. ročník si najde mnoho příznivců\, kteří se přijedou bavit a v kraji vína opět najdou na skvělou zábavu\, dobré pivo\, skvělé jídlo a fantastické víno!!! \nDymytry (CZ) – Visací zámek (CZ) – Loretta (CZ) – GATE Crasher (CZ) \n\nNávštěvníci ZTP a ZTP/P mají vstup v doprovodu jedné osoby zdarma.\nDěti do 15 let v doprovodu rodičů mají vstup zdarma.\nAkce není povolena pro mladistvé do 15 let bez doprovodu rodičů.
URL:https://rocksound.cz/akce/ferby-fest-2022-velke-bilovice/
LOCATION:Na Střelnici\, Velké Bílovice\, U Křástelky\, Velké Bílovice\, 691 02
ATTACH;FMTTYPE=image/jpeg:https://rocksound.cz/wp-content/uploads/2022/05/315-b549013b131e4d5b923a26319f69ceeb.jpg
END:VEVENT
END:VCALENDAR