BEGIN:VCALENDAR
VERSION:2.0
PRODID:-//Rocksound - ECPv6.15.18//NONSGML v1.0//EN
CALSCALE:GREGORIAN
METHOD:PUBLISH
X-WR-CALNAME:Rocksound
X-ORIGINAL-URL:https://rocksound.cz
X-WR-CALDESC:Akce na Rocksound
REFRESH-INTERVAL;VALUE=DURATION:PT1H
X-Robots-Tag:noindex
X-PUBLISHED-TTL:PT1H
BEGIN:VTIMEZONE
TZID:Europe/Prague
BEGIN:DAYLIGHT
TZOFFSETFROM:+0100
TZOFFSETTO:+0200
TZNAME:CEST
DTSTART:20180325T010000
END:DAYLIGHT
BEGIN:STANDARD
TZOFFSETFROM:+0200
TZOFFSETTO:+0100
TZNAME:CET
DTSTART:20181028T010000
END:STANDARD
BEGIN:DAYLIGHT
TZOFFSETFROM:+0100
TZOFFSETTO:+0200
TZNAME:CEST
DTSTART:20190331T010000
END:DAYLIGHT
BEGIN:STANDARD
TZOFFSETFROM:+0200
TZOFFSETTO:+0100
TZNAME:CET
DTSTART:20191027T010000
END:STANDARD
BEGIN:DAYLIGHT
TZOFFSETFROM:+0100
TZOFFSETTO:+0200
TZNAME:CEST
DTSTART:20200329T010000
END:DAYLIGHT
BEGIN:STANDARD
TZOFFSETFROM:+0200
TZOFFSETTO:+0100
TZNAME:CET
DTSTART:20201025T010000
END:STANDARD
END:VTIMEZONE
BEGIN:VEVENT
DTSTART;TZID=Europe/Prague:20191121T193000
DTEND;TZID=Europe/Prague:20191121T233000
DTSTAMP:20260422T204759
CREATED:20190923T192947Z
LAST-MODIFIED:20190923T193005Z
UID:22922-1574364600-1574379000@rocksound.cz
SUMMARY:Rybičky 48 - Výroční koncert
DESCRIPTION:Speciální narozeninový koncert skupiny Rybičky 48 – 17 let. \n\n\nVstupenky vyprodány.
URL:https://rocksound.cz/akce/rybicky-48-vyrocni-koncert/
LOCATION:Lucerna – Velký sál\, Štěpánská 704/61\, Praha
END:VEVENT
BEGIN:VEVENT
DTSTART;TZID=Europe/Prague:20191122T200000
DTEND;TZID=Europe/Prague:20191122T230000
DTSTAMP:20260422T204759
CREATED:20190924T191749Z
LAST-MODIFIED:20190924T191749Z
UID:23021-1574452800-1574463600@rocksound.cz
SUMMARY:Wardruna - Praha
DESCRIPTION:Výroční tour kapely Wardruna k 10 letům od vydání prvního alba a jeden velkolepý večer\, který snad ani nemůže být na honosnějším místě než je Velký sál pražské Lucerny. \n\n\nPředprodej vstupenek na GoOut.net.
URL:https://rocksound.cz/akce/wardruna-praha/
LOCATION:Lucerna – Velký sál\, Štěpánská 704/61\, Praha
END:VEVENT
END:VCALENDAR