BEGIN:VCALENDAR
VERSION:2.0
PRODID:-//Rocksound - ECPv6.15.18//NONSGML v1.0//EN
CALSCALE:GREGORIAN
METHOD:PUBLISH
X-WR-CALNAME:Rocksound
X-ORIGINAL-URL:https://rocksound.cz
X-WR-CALDESC:Akce na Rocksound
REFRESH-INTERVAL;VALUE=DURATION:PT1H
X-Robots-Tag:noindex
X-PUBLISHED-TTL:PT1H
BEGIN:VTIMEZONE
TZID:Europe/Prague
BEGIN:DAYLIGHT
TZOFFSETFROM:+0100
TZOFFSETTO:+0200
TZNAME:CEST
DTSTART:20190331T010000
END:DAYLIGHT
BEGIN:STANDARD
TZOFFSETFROM:+0200
TZOFFSETTO:+0100
TZNAME:CET
DTSTART:20191027T010000
END:STANDARD
BEGIN:DAYLIGHT
TZOFFSETFROM:+0100
TZOFFSETTO:+0200
TZNAME:CEST
DTSTART:20200329T010000
END:DAYLIGHT
BEGIN:STANDARD
TZOFFSETFROM:+0200
TZOFFSETTO:+0100
TZNAME:CET
DTSTART:20201025T010000
END:STANDARD
BEGIN:DAYLIGHT
TZOFFSETFROM:+0100
TZOFFSETTO:+0200
TZNAME:CEST
DTSTART:20210328T010000
END:DAYLIGHT
BEGIN:STANDARD
TZOFFSETFROM:+0200
TZOFFSETTO:+0100
TZNAME:CET
DTSTART:20211031T010000
END:STANDARD
END:VTIMEZONE
BEGIN:VEVENT
DTSTART;TZID=Europe/Prague:20200229T200000
DTEND;TZID=Europe/Prague:20200229T230000
DTSTAMP:20260423T044312
CREATED:20200206T093213Z
LAST-MODIFIED:20200206T093213Z
UID:29084-1583006400-1583017200@rocksound.cz
SUMMARY:Cocotte Minute - Uherské Hradiště
DESCRIPTION:Kapela Cocotte Minute vyráží na druhou část svého CZEKO 15 let tour. Na konec února chystají dvojkoncert\, který bude obsahovat zastávky v Uherském Hradišti a Valašském Meziříčí.\nV UH si support střihnou domácí metalcoristi Made By Zero. \n\n\nDoors: 20:00 hod.\nVstup: 280 Kč
URL:https://rocksound.cz/akce/cocotte-minute-uherske-hradiste/
LOCATION:Klub Mír\, náměstí Míru 76\, Uherské Hradiště
END:VEVENT
END:VCALENDAR