BEGIN:VCALENDAR
VERSION:2.0
PRODID:-//Rocksound - ECPv6.15.18//NONSGML v1.0//EN
CALSCALE:GREGORIAN
METHOD:PUBLISH
X-WR-CALNAME:Rocksound
X-ORIGINAL-URL:https://rocksound.cz
X-WR-CALDESC:Akce na Rocksound
REFRESH-INTERVAL;VALUE=DURATION:PT1H
X-Robots-Tag:noindex
X-PUBLISHED-TTL:PT1H
BEGIN:VTIMEZONE
TZID:Europe/Prague
BEGIN:DAYLIGHT
TZOFFSETFROM:+0100
TZOFFSETTO:+0200
TZNAME:CEST
DTSTART:20220327T010000
END:DAYLIGHT
BEGIN:STANDARD
TZOFFSETFROM:+0200
TZOFFSETTO:+0100
TZNAME:CET
DTSTART:20221030T010000
END:STANDARD
BEGIN:DAYLIGHT
TZOFFSETFROM:+0100
TZOFFSETTO:+0200
TZNAME:CEST
DTSTART:20230326T010000
END:DAYLIGHT
BEGIN:STANDARD
TZOFFSETFROM:+0200
TZOFFSETTO:+0100
TZNAME:CET
DTSTART:20231029T010000
END:STANDARD
BEGIN:DAYLIGHT
TZOFFSETFROM:+0100
TZOFFSETTO:+0200
TZNAME:CEST
DTSTART:20240331T010000
END:DAYLIGHT
BEGIN:STANDARD
TZOFFSETFROM:+0200
TZOFFSETTO:+0100
TZNAME:CET
DTSTART:20241027T010000
END:STANDARD
END:VTIMEZONE
BEGIN:VEVENT
DTSTART;TZID=Europe/Prague:20230929T193000
DTEND;TZID=Europe/Prague:20230929T233000
DTSTAMP:20260422T162411
CREATED:20230804T231431Z
LAST-MODIFIED:20230804T231431Z
UID:77026-1696015800-1696030200@rocksound.cz
SUMMARY:GUTALAX + ČAD - Železný Fekal tour 2023 - Brno
DESCRIPTION:Naši milovaní hovnometčíci GUTALAX a slovenští medvědoborci ČAD vyjednou v roce 2023 na Železný Fekal tour! Jedna ze zastávek bude i na Melodce\, Brno se má na co těšit!\nI nějaký ten support časem přidáme.
URL:https://rocksound.cz/akce/gutalax-cad-zelezny-fekal-tour-2023-brno/
LOCATION:Hudební klub Melodka\, Kounicova 20/22\, 602 00 Brno
ATTACH;FMTTYPE=image/jpeg:https://rocksound.cz/wp-content/uploads/2023/08/329470312_1780438738994530_5081515173702856298_n.jpg
ORGANIZER;CN="Hudebn%C3%AD klub Melodka":MAILTO:melodka.produkce@gmail.com
END:VEVENT
END:VCALENDAR