BEGIN:VCALENDAR
VERSION:2.0
PRODID:-//Rocksound - ECPv6.15.18//NONSGML v1.0//EN
CALSCALE:GREGORIAN
METHOD:PUBLISH
X-WR-CALNAME:Rocksound
X-ORIGINAL-URL:https://rocksound.cz
X-WR-CALDESC:Akce na Rocksound
REFRESH-INTERVAL;VALUE=DURATION:PT1H
X-Robots-Tag:noindex
X-PUBLISHED-TTL:PT1H
BEGIN:VTIMEZONE
TZID:Europe/Prague
BEGIN:DAYLIGHT
TZOFFSETFROM:+0100
TZOFFSETTO:+0200
TZNAME:CEST
DTSTART:20190331T010000
END:DAYLIGHT
BEGIN:STANDARD
TZOFFSETFROM:+0200
TZOFFSETTO:+0100
TZNAME:CET
DTSTART:20191027T010000
END:STANDARD
BEGIN:DAYLIGHT
TZOFFSETFROM:+0100
TZOFFSETTO:+0200
TZNAME:CEST
DTSTART:20200329T010000
END:DAYLIGHT
BEGIN:STANDARD
TZOFFSETFROM:+0200
TZOFFSETTO:+0100
TZNAME:CET
DTSTART:20201025T010000
END:STANDARD
BEGIN:DAYLIGHT
TZOFFSETFROM:+0100
TZOFFSETTO:+0200
TZNAME:CEST
DTSTART:20210328T010000
END:DAYLIGHT
BEGIN:STANDARD
TZOFFSETFROM:+0200
TZOFFSETTO:+0100
TZNAME:CET
DTSTART:20211031T010000
END:STANDARD
END:VTIMEZONE
BEGIN:VEVENT
DTSTART;TZID=Europe/Prague:20200417T200000
DTEND;TZID=Europe/Prague:20200417T220000
DTSTAMP:20260426T040637
CREATED:20200228T142601Z
LAST-MODIFIED:20200228T142601Z
UID:30611-1587153600-1587160800@rocksound.cz
SUMMARY:Miloš Meier - Drumming Syndrome - Chotěboř
DESCRIPTION:Bubenický virtuos Miloš Meier – i tak by se dal nazvat bubeník\, který se svoji bubenickou show Drumming Syndrome oslovuje čím dál větší publikum všech věkových kategorií a žánrových odvětví. \n\n\nČlen metalových Dymytry\, nebo české Supergroup (Pavlíček\, Střihavka\, Dragoun…)\, přijede s touto svojí bubenickou one-man show do Chotěboře.\nToto vystoupení představuje nejen na českých pódiích\, ale taky často na prestižních hudebních a bubenických akcích po celém světě. \nV programu bubenické show Drumming Syndrome hraje Miloš Meier spoustu bubenických sól\, skladby speciálně složené pro tento projekt\, osobitě upravené známé filmové soundtracky a také další novinky a překvapení určené pro toto turné.\nVrcholem vystoupení je čtyřiceti-minutový set složený ze světových rockových a metalových hitů. \nCena vstupenky: 250 Kč v předprodeji\nPředprodej: v síti Ticketstream \n 
URL:https://rocksound.cz/akce/milos-meier-drumming-syndrome-chotebor-2/
LOCATION:Panský dům Chotěboř\, Náměstí T.G. Masaryka 320\, Chotěboř\, 58301
END:VEVENT
BEGIN:VEVENT
DTSTART;TZID=Europe/Prague:20200424T200000
DTEND;TZID=Europe/Prague:20200424T220000
DTSTAMP:20260426T040637
CREATED:20200228T143639Z
LAST-MODIFIED:20200228T143639Z
UID:30614-1587758400-1587765600@rocksound.cz
SUMMARY:Miloš Meier - Drumming Syndrome- Rakovník
DESCRIPTION:Bubenický virtuos Miloš Meier – i tak by se dal nazvat bubeník\, který se svoji bubenickou show Drumming Syndrome oslovuje čím dál větší publikum všech věkových kategorií a žánrových odvětví. \n\n\nČlen metalových Dymytry\, nebo české Supergroup (Pavlíček\, Střihavka\, Dragoun…)\, přijede s touto svojí bubenickou one-man show do Rakovníka.\nToto vystoupení představuje nejen na českých pódiích\, ale taky často na prestižních hudebních a bubenických akcích po celém světě. \nV programu bubenické show Drumming Syndrome hraje Miloš Meier spoustu bubenických sól\, skladby speciálně složené pro tento projekt\, osobitě upravené známé filmové soundtracky a také další novinky a překvapení určené pro toto turné.\nVrcholem vystoupení je čtyřiceti-minutový set složený ze světových rockových a metalových hitů. \n  \n 
URL:https://rocksound.cz/akce/milos-meier-drumming-syndrome-rakovnik/
LOCATION:Tylovo divadlo Rakovník
END:VEVENT
BEGIN:VEVENT
DTSTART;TZID=Europe/Prague:20200425T210000
DTEND;TZID=Europe/Prague:20200425T233000
DTSTAMP:20260426T040637
CREATED:20200228T145515Z
LAST-MODIFIED:20200228T145515Z
UID:30617-1587848400-1587857400@rocksound.cz
SUMMARY:Miloš Meier - Drumming Syndrome - Chrudim
DESCRIPTION:Bubenický virtuos Miloš Meier – i tak by se dal nazvat bubeník\, který se svoji bubenickou show Drumming Syndrome oslovuje čím dál větší publikum všech věkových kategorií a žánrových odvětví. \n\n\nČlen metalových Dymytry\, nebo české Supergroup (Pavlíček\, Střihavka\, Dragoun…)\, přijede s touto svojí bubenickou one-man show do R Klubu v Chrudimi.\nToto vystoupení představuje nejen na českých pódiích\, ale taky často na prestižních hudebních a bubenických akcích po celém světě. \nV programu bubenické show Drumming Syndrome hraje Miloš Meier spoustu bubenických sól\, skladby speciálně složené pro tento projekt\, osobitě upravené známé filmové soundtracky a také další novinky a překvapení určené pro toto turné.\nVrcholem vystoupení je čtyřiceti-minutový set složený ze světových rockových a metalových hitů. \nVstupenka: 200 Kč v předprodeji\nPředprodej: smsticket \n 
URL:https://rocksound.cz/akce/milos-meier-drumming-syndrome-chrudim/
LOCATION:R Klub Chrudim\, Na Rozhledně\, Chrudim
END:VEVENT
END:VCALENDAR