BEGIN:VCALENDAR
VERSION:2.0
PRODID:-//Rocksound - ECPv6.15.18//NONSGML v1.0//EN
CALSCALE:GREGORIAN
METHOD:PUBLISH
X-WR-CALNAME:Rocksound
X-ORIGINAL-URL:https://rocksound.cz
X-WR-CALDESC:Akce na Rocksound
REFRESH-INTERVAL;VALUE=DURATION:PT1H
X-Robots-Tag:noindex
X-PUBLISHED-TTL:PT1H
BEGIN:VTIMEZONE
TZID:Europe/Prague
BEGIN:DAYLIGHT
TZOFFSETFROM:+0100
TZOFFSETTO:+0200
TZNAME:CEST
DTSTART:20210328T010000
END:DAYLIGHT
BEGIN:STANDARD
TZOFFSETFROM:+0200
TZOFFSETTO:+0100
TZNAME:CET
DTSTART:20211031T010000
END:STANDARD
BEGIN:DAYLIGHT
TZOFFSETFROM:+0100
TZOFFSETTO:+0200
TZNAME:CEST
DTSTART:20220327T010000
END:DAYLIGHT
BEGIN:STANDARD
TZOFFSETFROM:+0200
TZOFFSETTO:+0100
TZNAME:CET
DTSTART:20221030T010000
END:STANDARD
BEGIN:DAYLIGHT
TZOFFSETFROM:+0100
TZOFFSETTO:+0200
TZNAME:CEST
DTSTART:20230326T010000
END:DAYLIGHT
BEGIN:STANDARD
TZOFFSETFROM:+0200
TZOFFSETTO:+0100
TZNAME:CET
DTSTART:20231029T010000
END:STANDARD
END:VTIMEZONE
BEGIN:VEVENT
DTSTART;TZID=Europe/Prague:20220312T190000
DTEND;TZID=Europe/Prague:20220312T233000
DTSTAMP:20260424T163045
CREATED:20220308T220214Z
LAST-MODIFIED:20220308T222716Z
UID:49937-1647111600-1647127800@rocksound.cz
SUMMARY:HENTAI CORPORATION\, ČAD a NERREA - Teplice
DESCRIPTION:Čehúni & Čoboláci proti omikronu… HENTAI CORPORATION a ČAD za měsíc na víkendy obsadí české kluby. Speciální host v Teplicích na Hvjezdě NERREA z Ústí nad Labem.\nNad Tatrami sa malo blýskať a hromy též divo biť\, ale vzhledem k Transformers pandemii se vše prozatím odehraje jen v krajinách praotce Ringo Čecha. Dvě z hudebně nejvýraznějších a živě nejlepších kapel bývalého Těžkoslovenska spolu na poslední chvíli vyrazí na 8 koncertů. Ve znamení vztyčeného… praporu proti Omikronovi.\nČehúni & Čoboláci\, společné turné Hentai Corporation a Čad\, se mělo původně uskutečnit na podzim 2020 k tehdy novému EP Hentai Corp. Kovidové šarády ho ale totálně zhatily a neuskutečnilo se pak ani o rok později. Napotřetí byly termíny naplánovány na jaro 2022\, ale kvůli situaci v zimě 2021 a navíc nyní s Omikronem za ánusem to vypadalo\, že i tentokrát to nedopadne. Ale našla se zázračná čistící videokazeta\, a tak obě kapely nakonec startují v čele s transformerem Janem (ka)Rosákem a odjedou alespoň české štace hlásíce Covideostop zlosynnému Omikronovi!\nI když slovenská část turné nyní neproběhne\, neb tam momentálně koncerty nejsou možné\, od Tater sa stále blýska a hromy divo bijú. ČAD totiž v kovidovém mezičase natočili novou desku „Medvede“. Ale i Hentai pilně pracovali a do nadcházejících koncertů z chystaného materiálu snad vypustí i nové video a představí některé z nových pecek.\nTohle turné bude uragán. Pražským výběrem ovlivnění bratia HENTAI CORPORATION v myšlence ztřeštěných projektů Mikea Pattona jako Mr. Bungle\, kde volně přechází mezi žánry a z naprosto krejzy polohy nasadí vážnou masku\, budou headlinerem českých koncertů\, kdežto bratři ČAD\, kteří roky skládání vytříbili svůj projev do jednoduchých\, maximálně úderných písní\, jež každé pódium rozezvoní jak čertovu kovadlinu\, budou – až čas nastane – zas šéfovat těm slovenským.\nAle hlavně! Na režisérské stoličce bude sedět bastard Kontroverze\, neb pražští zběsilci HENTAI CORPORATION ani pancierova päsť ČAD si nikdy neberou servítky (s ničím a nikým)\, ľudia im smrdia a covid ich neuveritelně s..e! Koncerty obou kapel jsou vždy živel\, jen ne nuda a nič\, čo sa dá jakkoli udržet na uzdě. Bude to divoká jazda\, tak přijďte osedlat tohodle těžkoslovenskýho mustanga\, uvidíme\, zda vydržíte v sedle!\nHENTAI CORPORATION & ČAD\n12. 3. 2022 – Teplice\, Hvjezda\npředprodej není\,vstupenky pouze na místě za 250 Kč
URL:https://rocksound.cz/akce/hentai-corporation-cad-a-nerrea-teplice-2022/
LOCATION:HVJEZDA Teplice\, Antonína Sochora 1340\, Teplice\, Ústecký\, 41501\, Česká republika
ATTACH;FMTTYPE=image/jpeg:https://rocksound.cz/wp-content/uploads/2022/03/273154931_4807378522685248_7685673628328404158_n.jpg
END:VEVENT
END:VCALENDAR