BEGIN:VCALENDAR
VERSION:2.0
PRODID:-//Rocksound - ECPv6.15.18//NONSGML v1.0//EN
CALSCALE:GREGORIAN
METHOD:PUBLISH
X-WR-CALNAME:Rocksound
X-ORIGINAL-URL:https://rocksound.cz
X-WR-CALDESC:Akce na Rocksound
REFRESH-INTERVAL;VALUE=DURATION:PT1H
X-Robots-Tag:noindex
X-PUBLISHED-TTL:PT1H
BEGIN:VTIMEZONE
TZID:Europe/Prague
BEGIN:DAYLIGHT
TZOFFSETFROM:+0100
TZOFFSETTO:+0200
TZNAME:CEST
DTSTART:20170326T010000
END:DAYLIGHT
BEGIN:STANDARD
TZOFFSETFROM:+0200
TZOFFSETTO:+0100
TZNAME:CET
DTSTART:20171029T010000
END:STANDARD
BEGIN:DAYLIGHT
TZOFFSETFROM:+0100
TZOFFSETTO:+0200
TZNAME:CEST
DTSTART:20180325T010000
END:DAYLIGHT
BEGIN:STANDARD
TZOFFSETFROM:+0200
TZOFFSETTO:+0100
TZNAME:CET
DTSTART:20181028T010000
END:STANDARD
BEGIN:DAYLIGHT
TZOFFSETFROM:+0100
TZOFFSETTO:+0200
TZNAME:CEST
DTSTART:20190331T010000
END:DAYLIGHT
BEGIN:STANDARD
TZOFFSETFROM:+0200
TZOFFSETTO:+0100
TZNAME:CET
DTSTART:20191027T010000
END:STANDARD
END:VTIMEZONE
BEGIN:VEVENT
DTSTART;TZID=Europe/Prague:20181119T190000
DTEND;TZID=Europe/Prague:20181119T230000
DTSTAMP:20260423T104916
CREATED:20181107T192756Z
LAST-MODIFIED:20181107T192756Z
UID:5207-1542654000-1542668400@rocksound.cz
SUMMARY:Nightwish v Praze
DESCRIPTION:Největší evropská metalová kapela\, která má ve svém čele zpěvačku\, míří do Prahy. Kapela NIGHTWISH se v rámci ‘DECADES WORLD TOUR 2018’ 19. listopadu představí v O2 areně.\nSpeciální hostem večera budou stoupající power metaloví BEAST IN BLACK. \n\n\nVstup umožněn 17:30 \nPředprodej vstupenek v síti Ticketportal.
URL:https://rocksound.cz/akce/nightwish-v-praze/
LOCATION:O2 arena\, Českomoravská 2345/17\, Praha
END:VEVENT
END:VCALENDAR