BEGIN:VCALENDAR
VERSION:2.0
PRODID:-//Rocksound - ECPv6.15.18//NONSGML v1.0//EN
CALSCALE:GREGORIAN
METHOD:PUBLISH
X-WR-CALNAME:Rocksound
X-ORIGINAL-URL:https://rocksound.cz
X-WR-CALDESC:Akce na Rocksound
REFRESH-INTERVAL;VALUE=DURATION:PT1H
X-Robots-Tag:noindex
X-PUBLISHED-TTL:PT1H
BEGIN:VTIMEZONE
TZID:Europe/Prague
BEGIN:DAYLIGHT
TZOFFSETFROM:+0100
TZOFFSETTO:+0200
TZNAME:CEST
DTSTART:20230326T010000
END:DAYLIGHT
BEGIN:STANDARD
TZOFFSETFROM:+0200
TZOFFSETTO:+0100
TZNAME:CET
DTSTART:20231029T010000
END:STANDARD
BEGIN:DAYLIGHT
TZOFFSETFROM:+0100
TZOFFSETTO:+0200
TZNAME:CEST
DTSTART:20240331T010000
END:DAYLIGHT
BEGIN:STANDARD
TZOFFSETFROM:+0200
TZOFFSETTO:+0100
TZNAME:CET
DTSTART:20241027T010000
END:STANDARD
BEGIN:DAYLIGHT
TZOFFSETFROM:+0100
TZOFFSETTO:+0200
TZNAME:CEST
DTSTART:20250330T010000
END:DAYLIGHT
BEGIN:STANDARD
TZOFFSETFROM:+0200
TZOFFSETTO:+0100
TZNAME:CET
DTSTART:20251026T010000
END:STANDARD
END:VTIMEZONE
BEGIN:VEVENT
DTSTART;TZID=Europe/Prague:20240207T190000
DTEND;TZID=Europe/Prague:20240207T233000
DTSTAMP:20260424T015532
CREATED:20240121T205229Z
LAST-MODIFIED:20240121T205229Z
UID:86570-1707332400-1707348600@rocksound.cz
SUMMARY:IMPIETY\, NIHILO\, HELLDRIFTER - Praha
DESCRIPTION:07 / 02 / 2024 / PRAHA / MODRÁ VOPICE\nIMPIETY\, NIHILO\, HELLDRIFTER\nKdysi dávno jeden moudrý stařec s ušlechtilým bílým plnovousem a přivřenými víčky prorokoval příchod zla z východu. A nespletl se. Singapurští thrash-black-deathoví zlotřilci IMPIETY právě ohlásili invazi na evropský kontinent a název turné „WINTER WAR 2024“ jasně napovídá\, že nebudou brát ohledy na nic a na nikoho.\nIMPIETY se mohou pyšnit faktem\, že jsou považování za jednu z prvních black metalových kapel asijského kontinentu. Pod tímto názvem je zaprášené hudební encyklopedie evidují již od roku 1990\, ale skutečné kořeny byste našli až v roce 1988. Praha bude mít tu čest je pohostit již potřetí a to po dlouhých 16 letech.\nV roli supportu se představí švýcarští deathmetaloví NIHILO a stejnému stylu zaprodáni HELLDRIFTER z Německa.\nPředprodej:\nNEJLEVNĚJŠÍ VSTUPENKY NA OBSCURE SHOPU:\nhttps://obscure.cz/cs/tickets/detail/id/657\ndále pak u GOOUT:\nhttps://goout.net/cs/impiety%2Bnihilo%2Bhelldrifter/szpxmsw/\nA fyzické vstupenky u TICKETMASTER
URL:https://rocksound.cz/akce/impiety-nihilo-helldrifter-praha/
LOCATION:MusicClub Modrá Vopice\, Spojovací 1901/12\, Praha
ATTACH;FMTTYPE=image/jpeg:https://rocksound.cz/wp-content/uploads/2024/01/401849055_651310183824199_1985611876671993162_n.jpg
END:VEVENT
END:VCALENDAR