BEGIN:VCALENDAR
VERSION:2.0
PRODID:-//Rocksound - ECPv6.15.18//NONSGML v1.0//EN
CALSCALE:GREGORIAN
METHOD:PUBLISH
X-WR-CALNAME:Rocksound
X-ORIGINAL-URL:https://rocksound.cz
X-WR-CALDESC:Akce na Rocksound
REFRESH-INTERVAL;VALUE=DURATION:PT1H
X-Robots-Tag:noindex
X-PUBLISHED-TTL:PT1H
BEGIN:VTIMEZONE
TZID:Europe/Prague
BEGIN:DAYLIGHT
TZOFFSETFROM:+0100
TZOFFSETTO:+0200
TZNAME:CEST
DTSTART:20200329T010000
END:DAYLIGHT
BEGIN:STANDARD
TZOFFSETFROM:+0200
TZOFFSETTO:+0100
TZNAME:CET
DTSTART:20201025T010000
END:STANDARD
BEGIN:DAYLIGHT
TZOFFSETFROM:+0100
TZOFFSETTO:+0200
TZNAME:CEST
DTSTART:20210328T010000
END:DAYLIGHT
BEGIN:STANDARD
TZOFFSETFROM:+0200
TZOFFSETTO:+0100
TZNAME:CET
DTSTART:20211031T010000
END:STANDARD
BEGIN:DAYLIGHT
TZOFFSETFROM:+0100
TZOFFSETTO:+0200
TZNAME:CEST
DTSTART:20220327T010000
END:DAYLIGHT
BEGIN:STANDARD
TZOFFSETFROM:+0200
TZOFFSETTO:+0100
TZNAME:CET
DTSTART:20221030T010000
END:STANDARD
END:VTIMEZONE
BEGIN:VEVENT
DTSTART;TZID=Europe/Prague:20210218T011000
DTEND;TZID=Europe/Prague:20210218T020000
DTSTAMP:20260420T151234
CREATED:20210215T111013Z
LAST-MODIFIED:20210215T111013Z
UID:40419-1613610600-1613613600@rocksound.cz
SUMMARY:Slavná alba: Nirvana - Nevermind - ČT Art
DESCRIPTION:Na počátku roku 1991 by málokdo předpovídal\, že kapela Nirvana zamíří s albem Nevermind na první místo žebříčku alb amerického časopisu Billboard. K překvapení hudebního průmyslu a mnoha posluchačů se tak ale stalo. Písně zpěváka kapely Kurta Cobaina totiž spustily neuvěřitelnou vlnu zájmu mezi mladými lidmi. Dokument přibližuje nejen období\, kdy Nirvana začala nahrávat Nevermind\, ale také jaký vliv měla nahrávka na hudební svět\, na samotnou kapelu a proč dodnes zůstává milníkem v rockové historii. O vzpomínky na nahrávání\, ale také na Kurta Cobaina\, se podělí zbylí členové kapely Krist Novoselic a Dave Grohl\, ale také třeba producent desky Butch Vig.
URL:https://rocksound.cz/akce/slavna-alba-nirvana-nevermind-ct-art/
LOCATION:ČT Art
END:VEVENT
END:VCALENDAR