BEGIN:VCALENDAR
VERSION:2.0
PRODID:-//Rocksound - ECPv6.15.18//NONSGML v1.0//EN
CALSCALE:GREGORIAN
METHOD:PUBLISH
X-WR-CALNAME:Rocksound
X-ORIGINAL-URL:https://rocksound.cz
X-WR-CALDESC:Akce na Rocksound
REFRESH-INTERVAL;VALUE=DURATION:PT1H
X-Robots-Tag:noindex
X-PUBLISHED-TTL:PT1H
BEGIN:VTIMEZONE
TZID:Europe/Prague
BEGIN:DAYLIGHT
TZOFFSETFROM:+0100
TZOFFSETTO:+0200
TZNAME:CEST
DTSTART:20190331T010000
END:DAYLIGHT
BEGIN:STANDARD
TZOFFSETFROM:+0200
TZOFFSETTO:+0100
TZNAME:CET
DTSTART:20191027T010000
END:STANDARD
BEGIN:DAYLIGHT
TZOFFSETFROM:+0100
TZOFFSETTO:+0200
TZNAME:CEST
DTSTART:20200329T010000
END:DAYLIGHT
BEGIN:STANDARD
TZOFFSETFROM:+0200
TZOFFSETTO:+0100
TZNAME:CET
DTSTART:20201025T010000
END:STANDARD
BEGIN:DAYLIGHT
TZOFFSETFROM:+0100
TZOFFSETTO:+0200
TZNAME:CEST
DTSTART:20210328T010000
END:DAYLIGHT
BEGIN:STANDARD
TZOFFSETFROM:+0200
TZOFFSETTO:+0100
TZNAME:CET
DTSTART:20211031T010000
END:STANDARD
END:VTIMEZONE
BEGIN:VEVENT
DTSTART;TZID=Europe/Prague:20200808T180000
DTEND;TZID=Europe/Prague:20200808T233000
DTSTAMP:20260423T230456
CREATED:20200710T122101Z
LAST-MODIFIED:20200710T122101Z
UID:34733-1596909600-1596929400@rocksound.cz
SUMMARY:ŠKWOR - Jihlava
DESCRIPTION:Pivovar Ježek letos slaví 160 let od svého založení a v rámci oslav vystoupí i kapela ŠKWOR.\nKoncert má omezený počet vstupenek\, tak neváhejte se zakoupením. \n\n\nSupport: BLITZ UNION a Noisetrap \nVstupenky: 225 Kč – 450 Kč\nPředprodej: v síti Ticketstream.cz
URL:https://rocksound.cz/akce/skwor-jihlava/
LOCATION:Areál Pivovaru Jihlava\, Vrchlického 2\, Jihlava
END:VEVENT
END:VCALENDAR