BEGIN:VCALENDAR
VERSION:2.0
PRODID:-//Rocksound - ECPv6.15.18//NONSGML v1.0//EN
CALSCALE:GREGORIAN
METHOD:PUBLISH
X-WR-CALNAME:Rocksound
X-ORIGINAL-URL:https://rocksound.cz
X-WR-CALDESC:Akce na Rocksound
REFRESH-INTERVAL;VALUE=DURATION:PT1H
X-Robots-Tag:noindex
X-PUBLISHED-TTL:PT1H
BEGIN:VTIMEZONE
TZID:Europe/Prague
BEGIN:DAYLIGHT
TZOFFSETFROM:+0100
TZOFFSETTO:+0200
TZNAME:CEST
DTSTART:20200329T010000
END:DAYLIGHT
BEGIN:STANDARD
TZOFFSETFROM:+0200
TZOFFSETTO:+0100
TZNAME:CET
DTSTART:20201025T010000
END:STANDARD
BEGIN:DAYLIGHT
TZOFFSETFROM:+0100
TZOFFSETTO:+0200
TZNAME:CEST
DTSTART:20210328T010000
END:DAYLIGHT
BEGIN:STANDARD
TZOFFSETFROM:+0200
TZOFFSETTO:+0100
TZNAME:CET
DTSTART:20211031T010000
END:STANDARD
BEGIN:DAYLIGHT
TZOFFSETFROM:+0100
TZOFFSETTO:+0200
TZNAME:CEST
DTSTART:20220327T010000
END:DAYLIGHT
BEGIN:STANDARD
TZOFFSETFROM:+0200
TZOFFSETTO:+0100
TZNAME:CET
DTSTART:20221030T010000
END:STANDARD
END:VTIMEZONE
BEGIN:VEVENT
DTSTART;TZID=Europe/Prague:20210716T140000
DTEND;TZID=Europe/Prague:20210718T235900
DTSTAMP:20260419T140145
CREATED:20210622T115041Z
LAST-MODIFIED:20210622T115041Z
UID:42191-1626444000-1626652740@rocksound.cz
SUMMARY:Obscene Extreme 2021 - Trutnov
DESCRIPTION:OBSCENE EXTREME stále dýchá!!! Přidej se v červenci i ty!!! \n\n\nVystoupí: Abortion – Slovakia\, Aftercome – Czech republic\, Beton – Slovakia\, Black Sachbak – Israel\, Bowelfuck – Czech republic\, Brünner Todesmarsch – Czech republic\, Cenotaph – Turkey\,\nConquestio – Czech republic\, Endseeker – Germany\, Exorcizphobia – Czech republic\, Fleshcrawl – Germany\, Force of Hell – Czech republic\, Gospel of the Future – Czech republic\, Hystos – Czech republic\, Impulsealer – Czech republic\, Insanity Alert – Austria\, Kulma – Czech republic\, Lycantrophy – Czech republic\, Mincing Fury – Czech republic\, Nahum – Czech republic\, Necrovile – Romania\, Needful things – Czech republic\, Průmyslová smrt – Czech republic\, Putrid evil – Poland\, Putrid offal – France\, Repulsive feast – Germany\, Schirenc Plays Pungent Stench – Austria\,\nSchismopathic – Poland\, Schizophrenia – Belgium\, Sick Destroyer – Czech republic\, Sick Sinus Syndrome – Czech republic\, Skelethal – France\, Skiplife – Czech republic\, Skorup/a – Poland\,\nSlup – Czech republic\, Spasm – Czech republic\, Squash Bowels – Poland\, Systematic Damage – Slovakia\, Turtle Rage – Germany\, Wojczech – Germany\, Yacoepsae – Germany\nZatrata – Poland \nVstupenky: v předprodeji 1\,400 Kč\nPředprodej: https://tickets-obsceneextreme.cz/cs/vstupenky/detail/obscene-extreme-2021/ \n \n 
URL:https://rocksound.cz/akce/obscene-extreme-2021-trutnov/
LOCATION:Trutnov – Na Bojišti
END:VEVENT
END:VCALENDAR