BEGIN:VCALENDAR
VERSION:2.0
PRODID:-//Rocksound - ECPv6.15.18//NONSGML v1.0//EN
CALSCALE:GREGORIAN
METHOD:PUBLISH
X-WR-CALNAME:Rocksound
X-ORIGINAL-URL:https://rocksound.cz
X-WR-CALDESC:Akce na Rocksound
REFRESH-INTERVAL;VALUE=DURATION:PT1H
X-Robots-Tag:noindex
X-PUBLISHED-TTL:PT1H
BEGIN:VTIMEZONE
TZID:Europe/Prague
BEGIN:DAYLIGHT
TZOFFSETFROM:+0100
TZOFFSETTO:+0200
TZNAME:CEST
DTSTART:20250330T010000
END:DAYLIGHT
BEGIN:STANDARD
TZOFFSETFROM:+0200
TZOFFSETTO:+0100
TZNAME:CET
DTSTART:20251026T010000
END:STANDARD
BEGIN:DAYLIGHT
TZOFFSETFROM:+0100
TZOFFSETTO:+0200
TZNAME:CEST
DTSTART:20260329T010000
END:DAYLIGHT
BEGIN:STANDARD
TZOFFSETFROM:+0200
TZOFFSETTO:+0100
TZNAME:CET
DTSTART:20261025T010000
END:STANDARD
BEGIN:DAYLIGHT
TZOFFSETFROM:+0100
TZOFFSETTO:+0200
TZNAME:CEST
DTSTART:20270328T010000
END:DAYLIGHT
BEGIN:STANDARD
TZOFFSETFROM:+0200
TZOFFSETTO:+0100
TZNAME:CET
DTSTART:20271031T010000
END:STANDARD
END:VTIMEZONE
BEGIN:VEVENT
DTSTART;TZID=Europe/Prague:20260421T180000
DTEND;TZID=Europe/Prague:20260421T233000
DTSTAMP:20260419T204118
CREATED:20260309T195322Z
LAST-MODIFIED:20260309T195322Z
UID:114016-1776794400-1776814200@rocksound.cz
SUMMARY:LANSDOWNE\, JOE HERMES\, PROSPECT HILL\, DREAM OF THE SUN - Praha
DESCRIPTION:21 / 04 / 2026 / PRAHA / ROCK CAFÉ\nObscure vstupenky: https://obscure.cz/cs/tickets/detail/id/937Dále pak ticketmaster a goout: https://goout.net/cs/lansdowne/szbhixx/\nBostonští rockeři Lansdowne se po roce a půl vrací na českou půdu a slibují show\, na kterou se nezapomíná. Tahle pětice sází na kombinaci chytlavých melodií\, hutných riffů\, silných refrénů a emocemi nabitého vokálu – a právě tento mix jim otevřel dveře na velká pódia po celém světě!\nKapela vznikla v roce 2006 a od té doby si vydobyla jméno tvrdou prací\, nekonečnými koncertními turné a naprosto autentickým přístupem. Ať už hráli pro americké vojáky v Afghánistánu\, Kyrgyzstánu a Kuvajtu\, nebo na společných koncertech s Ice Nine Kills\, Theory of a Deadman či Pop Evil vždy po sobě zanechali silný dojem a věrné fanoušky.\nPo delší pauze se v roce 2023 vrátili s albem Medicine a ukázali\, že jsou silnější\, než kdy dřív. Deska je plný moderního hard rocku\, který stojí jednou nohou v hitparádách a druhou v opravdových emocích. Singl Halo se vyšplhal na páté místo v německých rockových hitparádách\, zatím co novinka Make It a Lie sbírá statisíce přehrání a míří do playlistů fanoušků Breaking Benjamin\, Skillet nebo Shinedown.\nJoe Hermes je americký country-rockový zpěvák a textař pocházející z Illinois\, který ve své tvorbě kombinuje syrovost žánru outlaw country s energií moderního rocku. Jeho hudba je definována upřímnými texty o životě pracující třídy\, osobních bojích a hledání vlastní cesty\, což podtrhuje jeho charakteristický\, autenticky chraplavý hlas. Hermes si získal pozornost především díky své schopnosti vyprávět příběhy\, které rezonují s fanoušky hledajícími v hudbě opravdovost a tradiční nástrojové obsazení obohacené o dravý elektrický zvuk.\nProspect Hill je hardrocková formace z amerického Bostonu\, která je známá svými dynamickými vystoupeními a schopností mísit post-grungeové prvky s moderním alternativním metalem. Kapela sází na masivní kytarové riffy a emocionálně vypjatý vokální projev frontmana Adama Pucciho. Jejich diskografie odráží vytrvalost a vášeň pro živé hraní\, přičemž texty se často zaměřují na vnitřní sílu a překonávání životních překážek\, což z nich dělá stálici na nezávislé rockové scéně již od poloviny nultých let.\nDream of the Sun je hudební projekt\, který se pohybuje na pomezí alternativního rocku\, indie a atmosférického popu\, přičemž klade velký důraz na melodickou hloubku a snové zvukové textury. Jejich tvorba se vyznačuje introspektivními texty a vrstvenými aranžemi\, které posluchače vtahují do melancholické\, a přesto nadějné atmosféry. Kapela se snaží vytvářet komplexní zvukové krajiny\, které slouží jako emocionální únik z reality\, a oslovuje tak především fanoušky moderního alternativního zvuku\, kteří v hudbě hledají prostor pro vlastní interpretaci a emoce.
URL:https://rocksound.cz/akce/lansdowne-joe-hermes-prospect-hill-dream-of-the-sun-praha/
LOCATION:Rock Café Prague\, Národní třída 20\, Praha
ATTACH;FMTTYPE=image/jpeg:https://rocksound.cz/wp-content/uploads/2026/03/617031192_1180466794241866_7207056640403856604_n.jpg
END:VEVENT
BEGIN:VEVENT
DTSTART;TZID=Europe/Prague:20260421T183000
DTEND;TZID=Europe/Prague:20260421T233000
DTSTAMP:20260419T204118
CREATED:20260225T080535Z
LAST-MODIFIED:20260225T080535Z
UID:113862-1776796200-1776814200@rocksound.cz
SUMMARY:IOTUNN\, IN VAIN\, NEPHYLIM - Praha
DESCRIPTION:21 / 04 / 2026 / PRAHA / MODRÁ VOPICE\nObscure vstupenky: https://obscure.cz/cs/tickets/detail/id/991\nDánští progresivci Iotunn vyráží na svoji první headliner tour po Evropě! Kapela\, která si získala celosvětovou pozornost díky svému epickému\, atmosférickému a technicky propracovanému zvuku\, si naplánovala zastávku i v České Republice\, vystoupí totiž v pražské Modré Vopici\, a to už 21. dubna! O support se postarají norští In Vain a nizozemci Nephylim.\nTvorba Iotunn kombinuje melodické prvky s extrémně metalovými pasážemi a výrazným důrazem na kosmickou tematiku. Typické jsou pro ně mohutné riffy\, melodické kytarové linky i rozmanitý vokální projev\, ve kterém se střídají čisté a growlové party. Tato směs dává jejich hudbě velký emocionální i dynamický rozsah.Iotunn výrazně prorazili albem Access All Worlds (2021)\, které získalo velmi pozitivní ohlasy nejen kvůli své hudební komplexnosti\, ale i díky atmosférickému příběhu\, jenž prostupuje celou deskou. Iotunn se v ní zaměřují na témata jako vesmír\, čas a lidská existence\, což spolu s jejich epickým zvukem vytváří silný a originální koncept. Díky této osobité kombinaci se kapela pevně zařadila mezi nejzajímavější současné projekty progresivního metalu.\nZástupci norského progressive deathmetalu In Vain jsou známí svým temným a velmi propracovaným soundem. Ve své tvorbě mísí extrémní metal s melodičtějšími pasážemi\, blackmetalovými prvky i rockovějšími momenty\, což jim dodává výraznou žánrovou pestrost. Typické jsou dlouhé\, kompozičně komplexní skladby\, kde se střídají growlové i čisté vokály a kde důraz na náladu a příběh hraje stejně důležitou roli jako technická zručnost.\nNizozemská melodic-deathmetalová senzace Nephylim ve své tvorbě propojuje atmosférické prvky s agresivní energií. Jejich skladby se vyznačují výraznými melodickými kytarovými linkami\, emotivními harmoniemi a kombinací drsných vokálů s temnější\, téměř post-metalovou náladou. Kapela často pracuje s kontrasty – rychlé\, tvrdé pasáže střídají epické a melancholické momenty –\, čímž vytváří dynamický a hluboce emotivní zvuk.
URL:https://rocksound.cz/akce/iotunn-in-vain-nephylim-praha/
LOCATION:MusicClub Modrá Vopice\, Spojovací 1901/12\, Praha
ATTACH;FMTTYPE=image/jpeg:https://rocksound.cz/wp-content/uploads/2026/02/583929526_1140246171597262_5912211684296738983_n.jpg
END:VEVENT
BEGIN:VEVENT
DTSTART;TZID=Europe/Prague:20260422T180000
DTEND;TZID=Europe/Prague:20260422T233000
DTSTAMP:20260419T204118
CREATED:20260312T194640Z
LAST-MODIFIED:20260312T194640Z
UID:114044-1776880800-1776900600@rocksound.cz
SUMMARY:MANFRED MANN`S EARTH BAND - Praha
DESCRIPTION:22 / 04 / 2026 / PRAHA / ROXY\nObscure vstupenky: https://obscure.cz/cs/tickets/detail/id/988\nAnglická jazz-rocková skupina MANFRED MANN`S EARTH BAND\, kterou založil jihoafrický hudebník Manfred Mann v roce 1971po rozpadu své dřívější skupiny Manfred Mann\, přijede na jaře do České a Slovenské republiky po dlouhých jedenácti letech.\nTři exkluzivní koncerty\, které spojí až několik generací fanoušků\, proběhnou v pražském klubu ROXY (komplet na stání se sníženou kapacitou)\, dále pak ve vymazleném Sonu v Brně (sezení + „kotel“ na stání)a v bratislavském klubu MAJESTIC\, který bude kompletně uzpůsoben na sezení.\nÚctyhodnou zajímavostí je určitě fakt\, že Manfred Mann vystoupili jako vůbec první známější západní rocková skupina v bývalém Československu v rámci Jazzových dnů v roce 1965!
URL:https://rocksound.cz/akce/manfred-manns-earth-band-praha/
LOCATION:Roxy Prague\, Dlouhá 33\, Praha
ATTACH;FMTTYPE=image/jpeg:https://rocksound.cz/wp-content/uploads/2026/03/632260832_1202900351998510_5666420463084008441_n.jpg
END:VEVENT
BEGIN:VEVENT
DTSTART;TZID=Europe/Prague:20260422T183000
DTEND;TZID=Europe/Prague:20260422T233000
DTSTAMP:20260419T204118
CREATED:20250724T092618Z
LAST-MODIFIED:20250724T092618Z
UID:106873-1776882600-1776900600@rocksound.cz
SUMMARY:FULL OF HELL\, THE BODY\, JARHEAD FERTILIZER\, JAD - Praha
DESCRIPTION:22 / 04 / 2026 / PRAHA / BIKE JESUS\nProdej začíná 18.06.2025\nGOOUT: https://goout.net/…/full-of-hell%2Bthe-body…/szjgpvx/Obscure vstupenky: https://obscure.cz/cs/tickets/detail/id/925Dále pak ticketmaster a goout.\nPoctivá grindcorová vichřice v podobě 4 uskupení se řítí na Prahu!\nSestavě vévodí americká sebranka Full of Hell\, která se od roku 2009 zapsala jako jedno z nejvýraznějších a nejoriginálnějších uskupení současné extrémní hudby\, zejména díky neustálému experimentu\, kterým jejich tvorba prochází. Kombinují grindcore\, death metal\, noise\, hardcore a industrial. Jejich hudba je intenzivní\, chaotická a přesto precizně vystavěná – doslova pohlcující zážitek\, který si nebere servítky.\nNeúnavná práce a ochota experimentovat se podepisuje kromě jejich vlastních alb také na oceňovaných kolaboracích – například s japonským noisovým projektem Merzbow\, temně experimentálním duem The Body nebo naposledy s doommetalovými Primitive Man. Tyto spolupráce ukazují\, že Full of Hell nemají problém překračovat žánrové bariéry a zkoumat nová teritoria extrémního zvuku.\nJak ve studiu\, tak na podiu – koncerty Full of Hell jsou krátké\, brutální a napěchované energií – jako výbuch čistého vzteku a nihilismus. Připravte se na absolutní sonický uragán!\nSpolečně s Full of Hell vystoupí jejich nevlastní sourozenec\, marylandská formace Jarhead Fertilizer. Ti svoji kombinaci powerviolence\, grindcoru a slam death metalu šíří od roku 2011\, za tu dobu nasbírali na pažbě „dlouhohrajících“ desek celkem tři zářezy. Název kapely je inspirován stejnojmennou skladbou od crust/sludge legendy Dystopia\, od které převzali Jarhead Fertilizer i podobný vizuální styl.\nTřetím vystupujícím jsou již zmínění The Body – experimentální duo\, které boří hranice mezi noisem\, elektronikou\, metalem a avantgardní hudbou. Jejich sound je temný\, drásavý a naprosto nepředvídatelný – jako soundtrack k apokalypse. Využívají těžké kytarové stěny\, zkreslené samply\, sborové vokály i minimalistické beaty\, aby vytvořili jedinečnou\, dusivou atmosféru.\nSoupisku uzavírá JAD\, nekompromisní hardcore/punk úderka z Polska\, která čerpá ze staré školy\, ale s energií a intenzitou současného hudebního extrému. Jejich zvuk je rychlý\, hrubý a přímočarý – žádné pózy\, jen syrová realita\, vztek a tlak.
URL:https://rocksound.cz/akce/full-of-hell-the-body-jarhead-fertilizer-jad-praha/
LOCATION:Bike Jesus\, Praha\, ostrov Štvanice 1125\, Praha
ATTACH;FMTTYPE=image/jpeg:https://rocksound.cz/wp-content/uploads/2025/07/507943018_1018751810413366_4285550661627053679_n.jpg
END:VEVENT
BEGIN:VEVENT
DTSTART;TZID=Europe/Prague:20260423T180000
DTEND;TZID=Europe/Prague:20260423T233000
DTSTAMP:20260419T204118
CREATED:20260312T195059Z
LAST-MODIFIED:20260312T195059Z
UID:114047-1776967200-1776987000@rocksound.cz
SUMMARY:MANFRED MANN`S EARTH BAND - Brno
DESCRIPTION:23 / 04 / 2026 / BRNO / SONO\nObscure vstupenky: https://obscure.cz/cs/tickets/detail/id/989\nAnglická jazz-rocková skupina MANFRED MANN`S EARTH BAND\, kterou založil jihoafrický hudebník Manfred Mann v roce 1971po rozpadu své dřívější skupiny Manfred Mann\, přijede na jaře do České a Slovenské republiky po dlouhých jedenácti letech.\nTři exkluzivní koncerty\, které spojí až několik generací fanoušků\, proběhnou v pražském klubu ROXY (komplet na stání se sníženou kapacitou)\, dále pak ve vymazleném Sonu v Brně (sezení + „kotel“ na stání)a v bratislavském klubu MAJESTIC\, který bude kompletně uzpůsoben na sezení.\nÚctyhodnou zajímavostí je určitě fakt\, že Manfred Mann vystoupili jako vůbec první známější západní rocková skupina v bývalém Československu v rámci Jazzových dnů v roce 1965!
URL:https://rocksound.cz/akce/manfred-manns-earth-band-brno/
LOCATION:Sono Music Club\, Veveří 113\, Brno
ATTACH;FMTTYPE=image/jpeg:https://rocksound.cz/wp-content/uploads/2026/03/633811633_1202897221998823_2680473199233235053_n.jpg
END:VEVENT
BEGIN:VEVENT
DTSTART;TZID=Europe/Prague:20260425T180000
DTEND;TZID=Europe/Prague:20260425T233000
DTSTAMP:20260419T204118
CREATED:20260312T195506Z
LAST-MODIFIED:20260312T195506Z
UID:114050-1777140000-1777159800@rocksound.cz
SUMMARY:MANFRED MANN`S EARTH BAND - Bratislava
DESCRIPTION:25 / 04 / 2026 / BRATISLAVA / MAJESTIC\nObscure vstupenky: https://obscure.cz/cs/tickets/detail/id/990\nA ticketportal.sk\nAnglická jazz-rocková skupina MANFRED MANN`S EARTH BAND\, kterou založil jihoafrický hudebník Manfred Mann v roce 1971po rozpadu své dřívější skupiny Manfred Mann\, přijede na jaře do České a Slovenské republiky po dlouhých jedenácti letech.\nTři exkluzivní koncerty\, které spojí až několik generací fanoušků\, proběhnou v pražském klubu ROXY (komplet na stání se sníženou kapacitou)\, dále pak ve vymazleném Sonu v Brně (sezení + „kotel“ na stání)a v bratislavském klubu MAJESTIC\, který bude kompletně uzpůsoben na sezení.\nÚctyhodnou zajímavostí je určitě fakt\, že Manfred Mann vystoupili jako vůbec první známější západní rocková skupina v bývalém Československu v rámci Jazzových dnů v roce 1965!
URL:https://rocksound.cz/akce/manfred-manns-earth-band-bratislava/
LOCATION:Majestic Music Club\, Karpatska 2\, Bratislava
ATTACH;FMTTYPE=image/jpeg:https://rocksound.cz/wp-content/uploads/2026/03/633332258_1202901181998427_1019425323948113865_n.jpg
END:VEVENT
BEGIN:VEVENT
DTSTART;TZID=Europe/Prague:20260426T183000
DTEND;TZID=Europe/Prague:20260426T233000
DTSTAMP:20260419T204118
CREATED:20260312T200017Z
LAST-MODIFIED:20260312T200017Z
UID:114053-1777228200-1777246200@rocksound.cz
SUMMARY:BROKENCYDE\, DOT DOT CURVE - Praha
DESCRIPTION:26 / 04 / 2026 / PRAHA / KLUB DISTRIKT\nObscure vstupenky: https://obscure.cz/cs/tickets/detail/id/1015Dále pak ticketmaster a goout.\nBrokeNCYDE se vrací! 26. dubna v přažském Districtu zažijete evoluci crunkcoru – zapomeňte na nostalgii\, rok 2026 patří jejich nové\, agresivní vizi\, kde se digitální chaos potkává s nekompromisním screamem. Tohle nebude vzpomínkový večer\, tohle bude frontální útok na vaše smysly.\nPo období studiové hibernace se BrokeNCYDE vrací na pódia v kondici\, která odmítá být pouhou relikvií. Poslední 4 roky pro kapelu znamenají totální restart a zvukovou redefinici. Pryč je žánrová naivita; místo ní nastupuje precizně vytvořený hybrid moderního trapu\, hyperpopu a hardcoru. Jejich aktuální tvorba reflektuje současnou vlnu hyper-agresivní elektroniky a dokazuje\, že zakladatelé stylu mají stále co říct k dekonstrukci moderní hudby\, přičemž do svých struktur vpustili mnohem temnější a syrovější vlivy.\nShow v Districtu slibuje sonickou stěnu\, kde autotune neslouží jako dekorace\, ale jako další zkreslený nástroj v arzenálu brutality. BrokeNCYDE v roce 2026\, to je střet subbasů hýbajících vnitřnostmi a vokální agrese\, která si nezadá s moderní kytarovou špičkou. Je to hudba pro publikum\, které neuznává hranice a vyžaduje od koncertu maximální intenzitu bez žánrových předsudků. Pokud hledáte zvukový ekvivalent srážky digitálního světa s analogovým hněvem\, District je cílová destinace.
URL:https://rocksound.cz/akce/brokencyde-dot-dot-curve-praha/
LOCATION:Distrikt\, Praha\, Tachovské náměstí 290\, Praha
ATTACH;FMTTYPE=image/jpeg:https://rocksound.cz/wp-content/uploads/2026/03/618308594_1185166717105207_8229068510274298563_n.jpg
END:VEVENT
BEGIN:VEVENT
DTSTART;TZID=Europe/Prague:20260428T183000
DTEND;TZID=Europe/Prague:20260428T233000
DTSTAMP:20260419T204118
CREATED:20260312T200933Z
LAST-MODIFIED:20260312T200933Z
UID:114056-1777401000-1777419000@rocksound.cz
SUMMARY:LAMP OF MURMUUR\, ONE OF NINE - Praha
DESCRIPTION:28 / 04 / 2026 / PRAHA / SUBZERO PRAGUE\nObscure vstupenky: https://obscure.cz/cs/tickets/detail/id/987\nDvojitá porce amerického black metalu zasáhne Prahu jako bouře\, která nezná slitování. V rámci jednoho večera se představí tajemný projekt Lamp of Murmuur a čerstvá senzace One of Nine\, inspirována dílem J.R.R. Tolkiena. Nenechte si ujít hned dva pohledy na americkou blackmetalovou scénu – 28. dubna v pražském klubu Subzero!\nLamp of Murmuur je americký blackmetalový projekt postavený na tajemné atmosféře\, surovém zvuku a silně okultní estetice. Za projektem stojí multiinstrumentalista vystupující pod pseudonymem M.\, který kolem sebe udržuje auru anonymity\, čímž podporuje temnou mystiku své tvorby. Hudba Lamp of Murmuur vychází z tradice raw a atmospheric black metalu\, ale často ji obohacuje o gotické prvky\, dungeon synth a výrazné melodické pasáže.\nV diskografii Lamp of Murmuur se objevuje průběžný vývoj — od syrových demo nahrávek až po vyzrálejší alba\, která ukazují širší kompoziční ambice i lepší produkci\, aniž by se ztratilo původní undergroundové kouzlo. Textová a vizuální stránka projektu čerpá z temnoty\, mysticismu a introspekce\, což posiluje celkový ponurý charakter. Díky tomu se projekt Lamp of Murmuur stal oblíbeným jménem v rámci současné undergroundové blackmetalové scény a získal si fanoušky\, kteří oceňují jak návrat k tradici\, tak experimentální doteky\, které tento projekt posouvají dál.\nOne of Nine je americká kapela pocházející z Charlotty (Severní Karolína)\, založená v roce 2022. Jejich hudba spadá převážně do melodického black metalu\, přičemž velký vliv má tvorba J. R. R. Tolkiena – už z názvu kapely lze odvodit referenci na Devět Nazgûlů. Hudebně One of Nine spojují melodické i epické prvky – používají temné\, hymnické melodie\, akustické pasáže\, výrazné klávesy a zároveň surový blackmetalový řev. Ve svém albu „Eternal Sorcery“ (2023) vyprávějí fantazijní\, Tolkienovské příběhy\, které dotvářejí atmosféru středozemě i temných světlonošů. V říjnu 2025 vydali druhé album „Dawn of the Iron Shadow“\, které rozšiřuje jejich zvukové ambice a posiluje epický dojem skrze monumentální skladby inspirované mytologií a mystikou.
URL:https://rocksound.cz/akce/lamp-of-murmuur-one-of-nine-praha/
LOCATION:Subzero Prague\, Nádražní 349/3\, Praha
ATTACH;FMTTYPE=image/jpeg:https://rocksound.cz/wp-content/uploads/2026/03/585402310_1141194604835752_599318924323654692_n.jpg
END:VEVENT
BEGIN:VEVENT
DTSTART;TZID=Europe/Prague:20260430T190000
DTEND;TZID=Europe/Prague:20260430T233000
DTSTAMP:20260419T204118
CREATED:20260312T201452Z
LAST-MODIFIED:20260312T201452Z
UID:114059-1777575600-1777591800@rocksound.cz
SUMMARY:1914\, KATLA - Brno
DESCRIPTION:30 / 04 / 2026 / BRNO / KABINET MÚZ\nObscure vstupenky: https://obscure.cz/cs/tickets/detail/id/997Dále pak ticketmaster a goout.\nZhudebněné hrůzy první světové války na přelomu dubna a května 2026 přiveze ukrajinská kavalerie 1914\, a to hned dvakrát – do brněnského Kabinetu Můz a pražského klubu Black Pes. Láká tě pořádná death/black/doomová nálož s historickým přesahem? Neváhej ani vteřinu a kupuj vstupenky!\n1914 je ukrajinská metalová kapela založená v roce 2014 ve Lvově. Od začátku si vybudovala výraznou identitu díky tematickému zaměření na první světovou válku – právě letopočet v názvu odkazuje na její začátek. Jejich tvorba není jen hudební interpretací historie; kapela propojuje autentické příběhy\, archivní materiály i vojenskou symboliku s temnou atmosférou extrémního metalu.\nHudebně se 1914 pohybuje na pomezí black metalu\, death metalu a doom metalu. Jejich skladby jsou typické hutnými kytarovými riffy\, syrovými vokály a dramatickými kompozicemi\, které mají evokovat chaos\, brutalitu a beznaděj zákopové války. Kapela vkládá do své hudby i zvuky bitev\, úryvky dobových projevů nebo melodie připomínající vojenské pochody\, což posiluje celkovou sugestivnost jejich nahrávek.\nTexty 1914 se zaměřují na konkrétní události a postavy z období první světové války\, často s důrazem na tragiku a lidské utrpení. Kapela si získala respekt díky detailní historické práci a schopnosti vyprávět silné příběhy prostřednictvím extrémní hudby. Na mezinárodní scéně je dnes vnímána jako jeden z nejoriginálnějších projektů\, který propojuje metal a historický koncept s neobvykle vysokou mírou autenticity.
URL:https://rocksound.cz/akce/1914-katla-brno/
LOCATION:Kabinet múz\, Brno\, Sukova 4\, Brno
ATTACH;FMTTYPE=image/jpeg:https://rocksound.cz/wp-content/uploads/2026/03/586516838_1146262634328949_1155934707767392496_n.jpg
END:VEVENT
END:VCALENDAR