BEGIN:VCALENDAR
VERSION:2.0
PRODID:-//Rocksound - ECPv6.15.18//NONSGML v1.0//EN
CALSCALE:GREGORIAN
METHOD:PUBLISH
X-WR-CALNAME:Rocksound
X-ORIGINAL-URL:https://rocksound.cz
X-WR-CALDESC:Akce na Rocksound
REFRESH-INTERVAL;VALUE=DURATION:PT1H
X-Robots-Tag:noindex
X-PUBLISHED-TTL:PT1H
BEGIN:VTIMEZONE
TZID:Europe/Prague
BEGIN:DAYLIGHT
TZOFFSETFROM:+0100
TZOFFSETTO:+0200
TZNAME:CEST
DTSTART:20180325T010000
END:DAYLIGHT
BEGIN:STANDARD
TZOFFSETFROM:+0200
TZOFFSETTO:+0100
TZNAME:CET
DTSTART:20181028T010000
END:STANDARD
BEGIN:DAYLIGHT
TZOFFSETFROM:+0100
TZOFFSETTO:+0200
TZNAME:CEST
DTSTART:20190331T010000
END:DAYLIGHT
BEGIN:STANDARD
TZOFFSETFROM:+0200
TZOFFSETTO:+0100
TZNAME:CET
DTSTART:20191027T010000
END:STANDARD
BEGIN:DAYLIGHT
TZOFFSETFROM:+0100
TZOFFSETTO:+0200
TZNAME:CEST
DTSTART:20200329T010000
END:DAYLIGHT
BEGIN:STANDARD
TZOFFSETFROM:+0200
TZOFFSETTO:+0100
TZNAME:CET
DTSTART:20201025T010000
END:STANDARD
END:VTIMEZONE
BEGIN:VEVENT
DTSTART;TZID=Europe/Prague:20191018T200000
DTEND;TZID=Europe/Prague:20191018T230000
DTSTAMP:20260425T133201
CREATED:20190922T180822Z
LAST-MODIFIED:20190922T180822Z
UID:22740-1571428800-1571439600@rocksound.cz
SUMMARY:Omega - Třinec
DESCRIPTION:Maďarská rocková legenda Omega vyráží na turné 2019 „TŰZVIHAR“ \n\n\n„TŰZVIHAR“\, neboli „STORMY FIRE“\, „OHNIVÝ VICHR“ \nFanoušci v České republice se mohou těšit na známé a osvědčené hity Omegy\, které budou mapovat průřez celou jejich tvorbou. V průběhu let natočila Omega téměř 40 alb\, a to jak studiových nebo koncertních\, které jsou nahrány v maďarštině\, němčině nebo angličtině. \nPředkapela: Citron \nPředprodej vstupenek v síti Ticketportal.
URL:https://rocksound.cz/akce/omega-trinec/
LOCATION:WERK ARENA\, Frýdecká 850\, Třinec
END:VEVENT
BEGIN:VEVENT
DTSTART;TZID=Europe/Prague:20191019T200000
DTEND;TZID=Europe/Prague:20191019T230000
DTSTAMP:20260425T133201
CREATED:20190922T181116Z
LAST-MODIFIED:20190922T181116Z
UID:22742-1571515200-1571526000@rocksound.cz
SUMMARY:Omega - Pardubice
DESCRIPTION:Maďarská rocková legenda Omega vyráží na turné 2019 „TŰZVIHAR“ \n\n\n„TŰZVIHAR“\, neboli „STORMY FIRE“\, „OHNIVÝ VICHR“ \nFanoušci v České republice se mohou těšit na známé a osvědčené hity Omegy\, které budou mapovat průřez celou jejich tvorbou. V průběhu let natočila Omega téměř 40 alb\, a to jak studiových nebo koncertních\, které jsou nahrány v maďarštině\, němčině nebo angličtině. \nPředkapela: Citron \nPředprodej vstupenek v síti Ticketportal.
URL:https://rocksound.cz/akce/omega-pardubice/
LOCATION:ČSOB Pojišťovna Arena\, Sukova třída 1735\, Pardubice
END:VEVENT
END:VCALENDAR