BEGIN:VCALENDAR
VERSION:2.0
PRODID:-//Rocksound - ECPv6.15.18//NONSGML v1.0//EN
CALSCALE:GREGORIAN
METHOD:PUBLISH
X-WR-CALNAME:Rocksound
X-ORIGINAL-URL:https://rocksound.cz
X-WR-CALDESC:Akce na Rocksound
REFRESH-INTERVAL;VALUE=DURATION:PT1H
X-Robots-Tag:noindex
X-PUBLISHED-TTL:PT1H
BEGIN:VTIMEZONE
TZID:Europe/Prague
BEGIN:DAYLIGHT
TZOFFSETFROM:+0100
TZOFFSETTO:+0200
TZNAME:CEST
DTSTART:20220327T010000
END:DAYLIGHT
BEGIN:STANDARD
TZOFFSETFROM:+0200
TZOFFSETTO:+0100
TZNAME:CET
DTSTART:20221030T010000
END:STANDARD
BEGIN:DAYLIGHT
TZOFFSETFROM:+0100
TZOFFSETTO:+0200
TZNAME:CEST
DTSTART:20230326T010000
END:DAYLIGHT
BEGIN:STANDARD
TZOFFSETFROM:+0200
TZOFFSETTO:+0100
TZNAME:CET
DTSTART:20231029T010000
END:STANDARD
BEGIN:DAYLIGHT
TZOFFSETFROM:+0100
TZOFFSETTO:+0200
TZNAME:CEST
DTSTART:20240331T010000
END:DAYLIGHT
BEGIN:STANDARD
TZOFFSETFROM:+0200
TZOFFSETTO:+0100
TZNAME:CET
DTSTART:20241027T010000
END:STANDARD
END:VTIMEZONE
BEGIN:VEVENT
DTSTART;TZID=Europe/Prague:20231219T193000
DTEND;TZID=Europe/Prague:20231219T225900
DTSTAMP:20260419T174318
CREATED:20231023T184011Z
LAST-MODIFIED:20231023T184011Z
UID:81707-1703014200-1703026740@rocksound.cz
SUMMARY:vypsaná fiXa - Praha
DESCRIPTION:Tradiční vánoční koncert naší party! Letos proběhne v Pálaci Akropolis! Lupeny již v prodeji!
URL:https://rocksound.cz/akce/vypsana-fixa-praha-4/
LOCATION:Palác Akropolis\, Kubelíkova 1548/27 130 00\, Praha 3-Žižkov
ATTACH;FMTTYPE=image/jpeg:https://rocksound.cz/wp-content/uploads/2023/10/369702733_857862439044536_4243559076975024111_n.jpg
END:VEVENT
END:VCALENDAR