BEGIN:VCALENDAR
VERSION:2.0
PRODID:-//Rocksound - ECPv6.15.18//NONSGML v1.0//EN
CALSCALE:GREGORIAN
METHOD:PUBLISH
X-WR-CALNAME:Rocksound
X-ORIGINAL-URL:https://rocksound.cz
X-WR-CALDESC:Akce na Rocksound
REFRESH-INTERVAL;VALUE=DURATION:PT1H
X-Robots-Tag:noindex
X-PUBLISHED-TTL:PT1H
BEGIN:VTIMEZONE
TZID:Europe/Prague
BEGIN:DAYLIGHT
TZOFFSETFROM:+0100
TZOFFSETTO:+0200
TZNAME:CEST
DTSTART:20230326T010000
END:DAYLIGHT
BEGIN:STANDARD
TZOFFSETFROM:+0200
TZOFFSETTO:+0100
TZNAME:CET
DTSTART:20231029T010000
END:STANDARD
BEGIN:DAYLIGHT
TZOFFSETFROM:+0100
TZOFFSETTO:+0200
TZNAME:CEST
DTSTART:20240331T010000
END:DAYLIGHT
BEGIN:STANDARD
TZOFFSETFROM:+0200
TZOFFSETTO:+0100
TZNAME:CET
DTSTART:20241027T010000
END:STANDARD
BEGIN:DAYLIGHT
TZOFFSETFROM:+0100
TZOFFSETTO:+0200
TZNAME:CEST
DTSTART:20250330T010000
END:DAYLIGHT
BEGIN:STANDARD
TZOFFSETFROM:+0200
TZOFFSETTO:+0100
TZNAME:CET
DTSTART:20251026T010000
END:STANDARD
END:VTIMEZONE
BEGIN:VEVENT
DTSTART;TZID=Europe/Prague:20240118T190000
DTEND;TZID=Europe/Prague:20240118T230000
DTSTAMP:20260419T144925
CREATED:20231210T202847Z
LAST-MODIFIED:20231210T202847Z
UID:85170-1705604400-1705618800@rocksound.cz
SUMMARY:INSANIA - Praha
DESCRIPTION:Unikátní koncert s videoprojekcí crossover-metalové INSANIE\, která za aktuální album „GRRRotesky“ získala cenu Anděl. Autor vizuálu: Fra Zae. Hostem večera je PROJEKT XIII\, který také vystoupí se svou vizuální show.\nINSANIA vznikla roku 1987\, po několika koncertech jí byla roku 1988 ze strany brněnské StB zakázána další činnost. Poté chvíli působí pod krycím názvem Skimmed a pod touto hlavičkou v roce 1990 vydává LP New Insanity\, jednu z prvních nezávislých desek v Československu. Roku 1992 obnovuje činnost opět pod názvem INSANIA a v novém složení vydává roku 1994 první CD Crossfade\, které mělo ohlas i v zahraničí. Kapela dále koncertuje po celé Evropě\, vydává se na turné do USA a hraje společně s kapelami jako je Voivod\, Nomeansno nebo Killing Joke. Od roku 1991 se datuje její přátelský vztah s Jello Biafrou (ze sanfranciských Dead Kennedys).\nINSANIA je kultem na tuzemské tvrdě alternativní scéně. Za dobu svého působení mj. čtyřikrát převzala cenu Anděl. Naposledy v roce 2023\, kdy bylo album GRRRotesky oceněno jako nejlepší rockové album předcházejícího roku. Řada ocenění pochází také z rockově zaměřené ankety Břitva včetně zařazení skupiny do Galerie legend.
URL:https://rocksound.cz/akce/insania-praha/
LOCATION:Palác Akropolis\, Kubelíkova 1548/27 130 00\, Praha 3-Žižkov
ATTACH;FMTTYPE=image/jpeg:https://rocksound.cz/wp-content/uploads/2023/12/385031600_807194784745908_6189450733422386750_n.jpg
END:VEVENT
END:VCALENDAR