BEGIN:VCALENDAR
VERSION:2.0
PRODID:-//Rocksound - ECPv6.15.18//NONSGML v1.0//EN
CALSCALE:GREGORIAN
METHOD:PUBLISH
X-WR-CALNAME:Rocksound
X-ORIGINAL-URL:https://rocksound.cz
X-WR-CALDESC:Akce na Rocksound
REFRESH-INTERVAL;VALUE=DURATION:PT1H
X-Robots-Tag:noindex
X-PUBLISHED-TTL:PT1H
BEGIN:VTIMEZONE
TZID:Europe/Prague
BEGIN:DAYLIGHT
TZOFFSETFROM:+0100
TZOFFSETTO:+0200
TZNAME:CEST
DTSTART:20230326T010000
END:DAYLIGHT
BEGIN:STANDARD
TZOFFSETFROM:+0200
TZOFFSETTO:+0100
TZNAME:CET
DTSTART:20231029T010000
END:STANDARD
BEGIN:DAYLIGHT
TZOFFSETFROM:+0100
TZOFFSETTO:+0200
TZNAME:CEST
DTSTART:20240331T010000
END:DAYLIGHT
BEGIN:STANDARD
TZOFFSETFROM:+0200
TZOFFSETTO:+0100
TZNAME:CET
DTSTART:20241027T010000
END:STANDARD
BEGIN:DAYLIGHT
TZOFFSETFROM:+0100
TZOFFSETTO:+0200
TZNAME:CEST
DTSTART:20250330T010000
END:DAYLIGHT
BEGIN:STANDARD
TZOFFSETFROM:+0200
TZOFFSETTO:+0100
TZNAME:CET
DTSTART:20251026T010000
END:STANDARD
END:VTIMEZONE
BEGIN:VEVENT
DTSTART;TZID=Europe/Prague:20240324T183000
DTEND;TZID=Europe/Prague:20240324T220000
DTSTAMP:20260419T172040
CREATED:20240320T132830Z
LAST-MODIFIED:20240320T132830Z
UID:89076-1711305000-1711317600@rocksound.cz
SUMMARY:ORBIT CULTURE\, DEFECTS - Praha
DESCRIPTION:24 / 03 / 2024 / PRAHA / PALÁC AKROPOLIS\ntiming:\n17:45 M&G Check in (pouze pro držitele VIP upgrade)\n18:30 doors – tickets check in\n19:00 doors – hall open\n19:45 – 20:25 DEFECTS\n20:45 – 22:00 ORBIT CULTURE\n——\nE-ticket: https://obscure.cz/cs/tickets/detail/id/668\nGoout: https://goout.net/cs/orbit-culture/szkmwtw/\nfyzické vstupenky u TICKETMASTER\nORBIT CULTURE\, švédští melodic deathaři s prvky groovu jsou uznávaní pro svůj dynamický rozsah a jedinečné skladatelské umění. Nedávno navázali releasem EP „The Forgotten“ na nejnovější desku „Descent“. Tří písňové EP vyšlo exkluzivně na digitálních platformách jako gesto vděčnosti jejich oddané fanouškovské základně – a není debaty o tom\, čím si tato čtyřčlenná sestava v čele s Niklasem Karlssonem získává tak silnou podporu a uznání. Nabízí totiž vše: brutální hudební nálož\, která je svěží\, dynamická\, pestrá a s temným hororovým nádechem.\nJako support se představí Defects\, kteří mísí prvky heavy a melodického metalu\, ostrého jako břitva. Kapela bude vydávat 24. května své debutové album\, tak si nenech ujít jejich začátky!
URL:https://rocksound.cz/akce/orbit-culture-defects-praha/
LOCATION:Palác Akropolis\, Kubelíkova 1548/27 130 00\, Praha 3-Žižkov
ATTACH;FMTTYPE=image/jpeg:https://rocksound.cz/wp-content/uploads/2024/03/432952189_719160673705816_2833266268145072735_n.jpg
END:VEVENT
END:VCALENDAR