BEGIN:VCALENDAR
VERSION:2.0
PRODID:-//Rocksound - ECPv6.15.18//NONSGML v1.0//EN
CALSCALE:GREGORIAN
METHOD:PUBLISH
X-WR-CALNAME:Rocksound
X-ORIGINAL-URL:https://rocksound.cz
X-WR-CALDESC:Akce na Rocksound
REFRESH-INTERVAL;VALUE=DURATION:PT1H
X-Robots-Tag:noindex
X-PUBLISHED-TTL:PT1H
BEGIN:VTIMEZONE
TZID:Europe/Prague
BEGIN:DAYLIGHT
TZOFFSETFROM:+0100
TZOFFSETTO:+0200
TZNAME:CEST
DTSTART:20180325T010000
END:DAYLIGHT
BEGIN:STANDARD
TZOFFSETFROM:+0200
TZOFFSETTO:+0100
TZNAME:CET
DTSTART:20181028T010000
END:STANDARD
BEGIN:DAYLIGHT
TZOFFSETFROM:+0100
TZOFFSETTO:+0200
TZNAME:CEST
DTSTART:20190331T010000
END:DAYLIGHT
BEGIN:STANDARD
TZOFFSETFROM:+0200
TZOFFSETTO:+0100
TZNAME:CET
DTSTART:20191027T010000
END:STANDARD
BEGIN:DAYLIGHT
TZOFFSETFROM:+0100
TZOFFSETTO:+0200
TZNAME:CEST
DTSTART:20200329T010000
END:DAYLIGHT
BEGIN:STANDARD
TZOFFSETFROM:+0200
TZOFFSETTO:+0100
TZNAME:CET
DTSTART:20201025T010000
END:STANDARD
END:VTIMEZONE
BEGIN:VEVENT
DTSTART;TZID=Europe/Prague:20190120T170000
DTEND;TZID=Europe/Prague:20190120T230000
DTSTAMP:20260423T011251
CREATED:20181229T151430Z
LAST-MODIFIED:20181229T151430Z
UID:7726-1548003600-1548025200@rocksound.cz
SUMMARY:Persistence Tour 2019 - Brno
DESCRIPTION:PERSISTENCE TOUR se vrací pro rok 2019 zpátky do Evropy! \n\n\nOčekávejte mix kapel\, které jste ještě na PERSISTENCE TOUR neviděli\, stejně jako na otřelé veterány a kapely\, které dlouho nebyly k vidění. Stejně jako vždycky\, bude to obrovská párty roku! \nPERSISTENCE TOUR 2019 feat: \nSick Of It All\nIgnite\nMunicipal Waste\nWalls Of Jericho\nBooze & Glory\nSiberian Meat Grinder\nTake Offense \nPředprodej vstupenek na obscure.cz.
URL:https://rocksound.cz/akce/persistence-tour-2019-brno/
LOCATION:Sono\, Brno\, Vodova 108\, 612 00 Brno-Královo Pole\, Brno-Královo Pole\, 61200
END:VEVENT
END:VCALENDAR